BEGIN:VCALENDAR
VERSION:2.0
PRODID:-//OneSky Hong Kong Centre - ECPv6.15.5//NONSGML v1.0//EN
CALSCALE:GREGORIAN
METHOD:PUBLISH
X-ORIGINAL-URL:https://hkcentre.onesky.org
X-WR-CALDESC:OneSky Hong Kong Centre的活动
REFRESH-INTERVAL;VALUE=DURATION:PT1H
X-Robots-Tag:noindex
X-PUBLISHED-TTL:PT1H
BEGIN:VTIMEZONE
TZID:UTC
BEGIN:STANDARD
TZOFFSETFROM:+0000
TZOFFSETTO:+0000
TZNAME:UTC
DTSTART:20250101T000000
END:STANDARD
END:VTIMEZONE
BEGIN:VEVENT
DTSTART;TZID=UTC:20250715T100000
DTEND;TZID=UTC:20250715T113000
DTSTAMP:20260423T144338
CREATED:20250618T034934Z
LAST-MODIFIED:20250618T034934Z
UID:10105-1752573600-1752579000@hkcentre.onesky.org
SUMMARY:0-2歲親子主題班
DESCRIPTION:七月份的主題是《食物變變變》。與孩子參加從星期二至星期六舉辦的親子活動遊戲班，活動包括繪本閱讀、團隊遊戲、自由遊戲、唱遊、圖工等豐富多樣的內容。一片天老師將會與各位照顧者分享不同的育兒知識及技巧，讓您在輕鬆愉快的氛圍中學習和成長。每節活動的時間為1.5小時，內容充實而有趣，立即報名，與我們一起度過愉快的時光！ \n 
URL:https://hkcentre.onesky.org/event/0-2%e6%ad%b2%e8%a6%aa%e5%ad%90%e4%b8%bb%e9%a1%8c%e7%8f%ad-8-7-4/
END:VEVENT
BEGIN:VEVENT
DTSTART;TZID=UTC:20250715T103000
DTEND;TZID=UTC:20250715T120000
DTSTAMP:20260423T144338
CREATED:20250612T022705Z
LAST-MODIFIED:20250612T022705Z
UID:10019-1752575400-1752580800@hkcentre.onesky.org
SUMMARY:嬰兒照顧工作坊（頭/面篇）
DESCRIPTION:增進照顧嬰幼兒的知識，從親子關係角度出發， 了解嬰兒餵哺手法、沖涼換片的技巧、嬰兒按摩技巧，及如何調整嬰幼兒作息及睡眠習慣。
URL:https://hkcentre.onesky.org/event/%e5%ac%b0%e5%85%92%e7%85%a7%e9%a1%a7%e5%b7%a5%e4%bd%9c%e5%9d%8a%ef%bc%88%e9%a0%ad-%e9%9d%a2%e7%af%87%ef%bc%89/
END:VEVENT
BEGIN:VEVENT
DTSTART;TZID=UTC:20250715T143000
DTEND;TZID=UTC:20250715T160000
DTSTAMP:20260423T144338
CREATED:20250519T072448Z
LAST-MODIFIED:20250519T072448Z
UID:9463-1752589800-1752595200@hkcentre.onesky.org
SUMMARY:「專題工作坊」系列之《愛是 ...》
DESCRIPTION:讓我們在育見路上稍息，一起重新思考什麼是「愛」，一起學習如何愛我們的孩子吧!
URL:https://hkcentre.onesky.org/event/%e3%80%8c%e5%b0%88%e9%a1%8c%e5%b7%a5%e4%bd%9c%e5%9d%8a%e3%80%8d%e7%b3%bb%e5%88%97%e4%b9%8b%e3%80%8a%e6%84%9b%e6%98%af-%e3%80%8b/
END:VEVENT
BEGIN:VEVENT
DTSTART;TZID=UTC:20250715T143000
DTEND;TZID=UTC:20250715T160000
DTSTAMP:20260423T144338
CREATED:20250613T041924Z
LAST-MODIFIED:20250613T042826Z
UID:10043-1752589800-1752595200@hkcentre.onesky.org
SUMMARY:《看繪本學手語》之貓熊澡堂
DESCRIPTION:有興趣透過繪本學習手語嗎？手語不僅能豐富故事情節，更能幫助幼兒理解繪本中的詞彙。本次活動將與大家共讀《貓熊澡堂》，透過聽故事、學手語、玩遊戲，讓閱讀體驗更加生動有趣!
URL:https://hkcentre.onesky.org/event/%e3%80%8a%e7%9c%8b%e7%b9%aa%e6%9c%ac%e5%ad%b8%e6%89%8b%e8%aa%9e%e3%80%8b%e4%b9%8b%e8%b2%93%e7%86%8a%e6%be%a1%e5%a0%82/
END:VEVENT
BEGIN:VEVENT
DTSTART;TZID=UTC:20250715T170000
DTEND;TZID=UTC:20250715T183000
DTSTAMP:20260423T144338
CREATED:20250618T035657Z
LAST-MODIFIED:20250618T035657Z
UID:10168-1752598800-1752604200@hkcentre.onesky.org
SUMMARY:3-5歲親子主題班
DESCRIPTION:七月份的主題是《食物變變變》。與孩子參加從星期二至星期六舉辦的親子活動遊戲班，活動包括繪本閱讀、團隊遊戲、自由遊戲、唱遊、圖工等豐富多樣的內容。一片天老師將會與各位照顧者分享不同的育兒知識及技巧，讓您在輕鬆愉快的氛圍中學習和成長。每節活動的時間為1.5小時，內容充實而有趣，立即報名，與我們一起度過愉快的時光！ \n 
URL:https://hkcentre.onesky.org/event/0-2%e6%ad%b2%e8%a6%aa%e5%ad%90%e4%b8%bb%e9%a1%8c%e7%8f%ad-5-7-5-2/
END:VEVENT
END:VCALENDAR