BEGIN:VCALENDAR
VERSION:2.0
PRODID:-//OneSky Hong Kong Centre - ECPv6.15.5//NONSGML v1.0//EN
CALSCALE:GREGORIAN
METHOD:PUBLISH
X-WR-CALNAME:OneSky Hong Kong Centre
X-ORIGINAL-URL:https://hkcentre.onesky.org
X-WR-CALDESC:OneSky Hong Kong Centre的活动
REFRESH-INTERVAL;VALUE=DURATION:PT1H
X-Robots-Tag:noindex
X-PUBLISHED-TTL:PT1H
BEGIN:VTIMEZONE
TZID:UTC
BEGIN:STANDARD
TZOFFSETFROM:+0000
TZOFFSETTO:+0000
TZNAME:UTC
DTSTART:20250101T000000
END:STANDARD
END:VTIMEZONE
BEGIN:VEVENT
DTSTART;TZID=UTC:20250728T100000
DTEND;TZID=UTC:20250728T113000
DTSTAMP:20260424T075642
CREATED:20250618T032651Z
LAST-MODIFIED:20250618T032651Z
UID:10070-1753696800-1753702200@hkcentre.onesky.org
SUMMARY:親子音樂活動《水果樂繽紛》
DESCRIPTION:透過兒歌《水果樂繽紛》的節奏與遊戲，參與親子唱遊和音樂遊戲體驗，與0-2歲寶寶探索水果世界，刺激感官發展，親子共創音樂初體驗！
URL:https://hkcentre.onesky.org/event/%e8%a6%aa%e5%ad%90%e9%9f%b3%e6%a8%82%e6%b4%bb%e5%8b%95%e3%80%8a%e6%b0%b4%e6%9e%9c%e6%a8%82%e7%b9%bd%e7%b4%9b%e3%80%8b-3/
END:VEVENT
BEGIN:VEVENT
DTSTART;TZID=UTC:20250728T150000
DTEND;TZID=UTC:20250728T163000
DTSTAMP:20260424T075642
CREATED:20250612T021955Z
LAST-MODIFIED:20250612T021955Z
UID:10004-1753714800-1753720200@hkcentre.onesky.org
SUMMARY:親子繪本 X 律動班
DESCRIPTION:繪本可以很有趣！你準備好與孩子一同進入繪本的奇妙世界了嗎？一片天老師將與大家透過豐富有趣的繪本故事，結合充滿活力的律動遊戲，讓親子時光更添歡樂。
URL:https://hkcentre.onesky.org/event/%e8%a6%aa%e5%ad%90%e7%b9%aa%e6%9c%ac-x-%e5%be%8b%e5%8b%95%e7%8f%ad/
END:VEVENT
END:VCALENDAR