BEGIN:VCALENDAR
VERSION:2.0
PRODID:-//OneSky Hong Kong Centre - ECPv6.15.5//NONSGML v1.0//EN
CALSCALE:GREGORIAN
METHOD:PUBLISH
X-ORIGINAL-URL:https://hkcentre.onesky.org
X-WR-CALDESC:OneSky Hong Kong Centre的活动
REFRESH-INTERVAL;VALUE=DURATION:PT1H
X-Robots-Tag:noindex
X-PUBLISHED-TTL:PT1H
BEGIN:VTIMEZONE
TZID:UTC
BEGIN:STANDARD
TZOFFSETFROM:+0000
TZOFFSETTO:+0000
TZNAME:UTC
DTSTART:20250101T000000
END:STANDARD
END:VTIMEZONE
BEGIN:VEVENT
DTSTART;TZID=UTC:20250730T100000
DTEND;TZID=UTC:20250730T113000
DTSTAMP:20260424T104011
CREATED:20250618T035043Z
LAST-MODIFIED:20250618T035043Z
UID:10117-1753869600-1753875000@hkcentre.onesky.org
SUMMARY:0-2歲親子主題班
DESCRIPTION:七月份的主題是《食物變變變》。與孩子參加從星期二至星期六舉辦的親子活動遊戲班，活動包括繪本閱讀、團隊遊戲、自由遊戲、唱遊、圖工等豐富多樣的內容。一片天老師將會與各位照顧者分享不同的育兒知識及技巧，讓您在輕鬆愉快的氛圍中學習和成長。每節活動的時間為1.5小時，內容充實而有趣，立即報名，與我們一起度過愉快的時光！ \n 
URL:https://hkcentre.onesky.org/event/0-2%e6%ad%b2%e8%a6%aa%e5%ad%90%e4%b8%bb%e9%a1%8c%e7%8f%ad-8-7-4-5/
END:VEVENT
BEGIN:VEVENT
DTSTART;TZID=UTC:20250730T150000
DTEND;TZID=UTC:20250730T163000
DTSTAMP:20260424T104011
CREATED:20250702T013446Z
LAST-MODIFIED:20250702T013446Z
UID:10363-1753887600-1753893000@hkcentre.onesky.org
SUMMARY:親子跳舞班
DESCRIPTION:幼兒和照顧者透過活動肢體，配合音樂，齊齊享受跳舞樂趣，改善肢體協調，提升幼兒自信，改善親子關係。 \n 
URL:https://hkcentre.onesky.org/event/%e8%a6%aa%e5%ad%90%e8%b7%b3%e8%88%9e%e7%8f%ad-30-7/
END:VEVENT
BEGIN:VEVENT
DTSTART;TZID=UTC:20250730T170000
DTEND;TZID=UTC:20250730T183000
DTSTAMP:20260424T104011
CREATED:20250619T073124Z
LAST-MODIFIED:20250619T073124Z
UID:10192-1753894800-1753900200@hkcentre.onesky.org
SUMMARY:繪本廚神工作坊之米紙鮮蝦豆苗餃
DESCRIPTION:想讓小朋友吃得健康、從小建立良好飲食習慣？又想培養他們的獨立動手能力？我們邀請3-6歲的小朋友和家長一起參加 「米紙鮮蝦豆苗餃」 工作坊，讓孩子們在輕鬆有趣的環境中學習健康飲食知識，並嘗試自己動手完成料理任務！家長可以從旁協助，共同享受親子烹飪樂趣，齊齊認識港式茶樓文化!
URL:https://hkcentre.onesky.org/event/%e7%b9%aa%e6%9c%ac%e5%bb%9a%e7%a5%9e%e5%b7%a5%e4%bd%9c%e5%9d%8a%e4%b9%8b%e7%b1%b3%e7%b4%99%e9%ae%ae%e8%9d%a6%e8%b1%86%e8%8b%97%e9%a4%83-3/
END:VEVENT
END:VCALENDAR