BEGIN:VCALENDAR
VERSION:2.0
PRODID:-//OneSky Hong Kong Centre - ECPv6.15.5//NONSGML v1.0//EN
CALSCALE:GREGORIAN
METHOD:PUBLISH
X-ORIGINAL-URL:https://hkcentre.onesky.org
X-WR-CALDESC:OneSky Hong Kong Centre的活动
REFRESH-INTERVAL;VALUE=DURATION:PT1H
X-Robots-Tag:noindex
X-PUBLISHED-TTL:PT1H
BEGIN:VTIMEZONE
TZID:UTC
BEGIN:STANDARD
TZOFFSETFROM:+0000
TZOFFSETTO:+0000
TZNAME:UTC
DTSTART:20250101T000000
END:STANDARD
END:VTIMEZONE
BEGIN:VEVENT
DTSTART;TZID=UTC:20250801T100000
DTEND;TZID=UTC:20250801T113000
DTSTAMP:20260424T133858
CREATED:20250731T023127Z
LAST-MODIFIED:20250731T023127Z
UID:10484-1754042400-1754047800@hkcentre.onesky.org
SUMMARY:哥哥姐姐活動之開心英語遊蹤
DESCRIPTION:
URL:https://hkcentre.onesky.org/event/%e5%93%a5%e5%93%a5%e5%a7%90%e5%a7%90%e6%b4%bb%e5%8b%95%e4%b9%8b%e9%96%8b%e5%bf%83%e8%8b%b1%e8%aa%9e%e9%81%8a%e8%b9%a4/
END:VEVENT
BEGIN:VEVENT
DTSTART;TZID=UTC:20250801T100000
DTEND;TZID=UTC:20250801T113000
DTSTAMP:20260424T133858
CREATED:20250731T023353Z
LAST-MODIFIED:20250731T023353Z
UID:10496-1754042400-1754047800@hkcentre.onesky.org
SUMMARY:主題班之水果派對
DESCRIPTION:
URL:https://hkcentre.onesky.org/event/%e4%b8%bb%e9%a1%8c%e7%8f%ad%e4%b9%8b%e6%b0%b4%e6%9e%9c%e6%b4%be%e5%b0%8d/
END:VEVENT
BEGIN:VEVENT
DTSTART;TZID=UTC:20250801T113000
DTEND;TZID=UTC:20250801T130000
DTSTAMP:20260424T133858
CREATED:20250618T033946Z
LAST-MODIFIED:20250618T033946Z
UID:10093-1754047800-1754053200@hkcentre.onesky.org
SUMMARY:暑期兒童美術活動
DESCRIPTION:今個暑假一片天與 Gowld Art Centre 合作，攜手推出專為幼兒設計的藝術啟蒙課。課程由韓籍藝術導師負責，透過趣味繪畫活動，讓孩子在色彩與線條中激發無限想像力，同時自然學習英文詞彙。活動適合2-6歲幼兒及照顧者。
URL:https://hkcentre.onesky.org/event/%e6%9a%91%e6%9c%9f%e5%85%92%e7%ab%a5%e7%be%8e%e8%a1%93%e6%b4%bb%e5%8b%95-4-5/
END:VEVENT
BEGIN:VEVENT
DTSTART;TZID=UTC:20250801T113000
DTEND;TZID=UTC:20250801T130000
DTSTAMP:20260424T133858
CREATED:20250731T023036Z
LAST-MODIFIED:20250731T023036Z
UID:10481-1754047800-1754053200@hkcentre.onesky.org
SUMMARY:暑期兒童美術活動
DESCRIPTION:今個暑假一片天與 Gowld Art Centre 合作，攜手推出專為幼兒設計的藝術啟蒙課。課程由韓籍藝術導師負責，透過趣味繪畫活動，讓孩子在色彩與線條中激發無限想像力，同時自然學習英文詞彙。活動適合2-6歲幼兒及照顧者。 \n 
URL:https://hkcentre.onesky.org/event/%e6%9a%91%e6%9c%9f%e5%85%92%e7%ab%a5%e7%be%8e%e8%a1%93%e6%b4%bb%e5%8b%95-5/
END:VEVENT
BEGIN:VEVENT
DTSTART;TZID=UTC:20250801T113000
DTEND;TZID=UTC:20250801T130000
DTSTAMP:20260424T133858
CREATED:20250731T023202Z
LAST-MODIFIED:20250731T023202Z
UID:10487-1754047800-1754053200@hkcentre.onesky.org
SUMMARY:哥哥姐姐活動之主題:跟我做運動
DESCRIPTION:
URL:https://hkcentre.onesky.org/event/%e5%93%a5%e5%93%a5%e5%a7%90%e5%a7%90%e6%b4%bb%e5%8b%95%e4%b9%8b%e4%b8%bb%e9%a1%8c%e8%b7%9f%e6%88%91%e5%81%9a%e9%81%8b%e5%8b%95/
END:VEVENT
BEGIN:VEVENT
DTSTART;TZID=UTC:20250801T130000
DTEND;TZID=UTC:20250801T170000
DTSTAMP:20260424T133858
CREATED:20250731T023231Z
LAST-MODIFIED:20250731T023231Z
UID:10490-1754053200-1754067600@hkcentre.onesky.org
SUMMARY:長幼活動-慈山寺團體參學
DESCRIPTION:
URL:https://hkcentre.onesky.org/event/%e9%95%b7%e5%b9%bc%e6%b4%bb%e5%8b%95-%e6%85%88%e5%b1%b1%e5%af%ba%e5%9c%98%e9%ab%94%e5%8f%83%e5%ad%b8/
END:VEVENT
BEGIN:VEVENT
DTSTART;TZID=UTC:20250801T150000
DTEND;TZID=UTC:20250801T163000
DTSTAMP:20260424T133858
CREATED:20250731T023308Z
LAST-MODIFIED:20250731T023308Z
UID:10493-1754060400-1754065800@hkcentre.onesky.org
SUMMARY:哥哥姐姐活動之小食製作活動
DESCRIPTION:
URL:https://hkcentre.onesky.org/event/%e5%93%a5%e5%93%a5%e5%a7%90%e5%a7%90%e6%b4%bb%e5%8b%95%e4%b9%8b%e5%b0%8f%e9%a3%9f%e8%a3%bd%e4%bd%9c%e6%b4%bb%e5%8b%95/
END:VEVENT
BEGIN:VEVENT
DTSTART;TZID=UTC:20250801T150000
DTEND;TZID=UTC:20250801T173000
DTSTAMP:20260424T133858
CREATED:20250731T023421Z
LAST-MODIFIED:20250731T023421Z
UID:10499-1754060400-1754069400@hkcentre.onesky.org
SUMMARY:主題班之水果派對
DESCRIPTION:
URL:https://hkcentre.onesky.org/event/%e4%b8%bb%e9%a1%8c%e7%8f%ad%e4%b9%8b%e6%b0%b4%e6%9e%9c%e6%b4%be%e5%b0%8d-2/
END:VEVENT
BEGIN:VEVENT
DTSTART;TZID=UTC:20250801T170000
DTEND;TZID=UTC:20250801T183000
DTSTAMP:20260424T133858
CREATED:20250731T023457Z
LAST-MODIFIED:20250731T023457Z
UID:10502-1754067600-1754073000@hkcentre.onesky.org
SUMMARY:親子實戰課3-6歲班之語言系列
DESCRIPTION:
URL:https://hkcentre.onesky.org/event/%e8%a6%aa%e5%ad%90%e5%af%a6%e6%88%b0%e8%aa%b23-6%e6%ad%b2%e7%8f%ad%e4%b9%8b%e8%aa%9e%e8%a8%80%e7%b3%bb%e5%88%97/
END:VEVENT
END:VCALENDAR