BEGIN:VCALENDAR
VERSION:2.0
PRODID:-//OneSky Hong Kong Centre - ECPv6.15.5//NONSGML v1.0//EN
CALSCALE:GREGORIAN
METHOD:PUBLISH
X-WR-CALNAME:OneSky Hong Kong Centre
X-ORIGINAL-URL:https://hkcentre.onesky.org
X-WR-CALDESC:OneSky Hong Kong Centre的活动
REFRESH-INTERVAL;VALUE=DURATION:PT1H
X-Robots-Tag:noindex
X-PUBLISHED-TTL:PT1H
BEGIN:VTIMEZONE
TZID:UTC
BEGIN:STANDARD
TZOFFSETFROM:+0000
TZOFFSETTO:+0000
TZNAME:UTC
DTSTART:20250101T000000
END:STANDARD
END:VTIMEZONE
BEGIN:VEVENT
DTSTART;TZID=UTC:20250804T150000
DTEND;TZID=UTC:20250804T160000
DTSTAMP:20260424T162407
CREATED:20250731T023649Z
LAST-MODIFIED:20250731T023649Z
UID:10508-1754319600-1754323200@hkcentre.onesky.org
SUMMARY:嬰幼兒照顧工作坊
DESCRIPTION:
URL:https://hkcentre.onesky.org/event/%e5%ac%b0%e5%b9%bc%e5%85%92%e7%85%a7%e9%a1%a7%e5%b7%a5%e4%bd%9c%e5%9d%8a/
END:VEVENT
BEGIN:VEVENT
DTSTART;TZID=UTC:20250804T150000
DTEND;TZID=UTC:20250804T164500
DTSTAMP:20260424T162408
CREATED:20250717T051127Z
LAST-MODIFIED:20250717T051127Z
UID:10443-1754319600-1754325900@hkcentre.onesky.org
SUMMARY:親子繪本創作樂
DESCRIPTION:相信每個小朋友都有一本最愛的繪本。這次我們邀請家長與孩子一起，以「食物」為主題，創作屬於自己的繪本！我們會介紹各種與食物相關的繪本，引導親子共同構思、創作。透過過程培養孩子的創造力、想像力和表達能力。讓孩子成為小小故事家，從閱讀到創作，開啟無限可能！適合3-5歲的幼兒及其照顧者參加\, 亦歡迎哥哥姐姐參與。
URL:https://hkcentre.onesky.org/event/%e8%a6%aa%e5%ad%90%e7%b9%aa%e6%9c%ac%e5%89%b5%e4%bd%9c%e6%a8%82/
END:VEVENT
BEGIN:VEVENT
DTSTART;TZID=UTC:20250804T150000
DTEND;TZID=UTC:20250804T164500
DTSTAMP:20260424T162408
CREATED:20250731T023611Z
LAST-MODIFIED:20250731T023611Z
UID:10505-1754319600-1754325900@hkcentre.onesky.org
SUMMARY:3-5歲親子繪本創作
DESCRIPTION:
URL:https://hkcentre.onesky.org/event/3-5%e6%ad%b2%e8%a6%aa%e5%ad%90%e7%b9%aa%e6%9c%ac%e5%89%b5%e4%bd%9c/
END:VEVENT
END:VCALENDAR