BEGIN:VCALENDAR
VERSION:2.0
PRODID:-//OneSky Hong Kong Centre - ECPv6.15.5//NONSGML v1.0//EN
CALSCALE:GREGORIAN
METHOD:PUBLISH
X-ORIGINAL-URL:https://hkcentre.onesky.org
X-WR-CALDESC:OneSky Hong Kong Centre的活动
REFRESH-INTERVAL;VALUE=DURATION:PT1H
X-Robots-Tag:noindex
X-PUBLISHED-TTL:PT1H
BEGIN:VTIMEZONE
TZID:UTC
BEGIN:STANDARD
TZOFFSETFROM:+0000
TZOFFSETTO:+0000
TZNAME:UTC
DTSTART:20250101T000000
END:STANDARD
END:VTIMEZONE
BEGIN:VEVENT
DTSTART;TZID=UTC:20250815T100000
DTEND;TZID=UTC:20250815T113000
DTSTAMP:20260424T175121
CREATED:20250731T033448Z
LAST-MODIFIED:20250731T033448Z
UID:10606-1755252000-1755257400@hkcentre.onesky.org
SUMMARY:哥哥姐姐活動之開心英語遊蹤
DESCRIPTION:
URL:https://hkcentre.onesky.org/event/%e5%93%a5%e5%93%a5%e5%a7%90%e5%a7%90%e6%b4%bb%e5%8b%95%e4%b9%8b%e9%96%8b%e5%bf%83%e8%8b%b1%e8%aa%9e%e9%81%8a%e8%b9%a4-3/
END:VEVENT
BEGIN:VEVENT
DTSTART;TZID=UTC:20250815T100000
DTEND;TZID=UTC:20250815T113000
DTSTAMP:20260424T175121
CREATED:20250731T035301Z
LAST-MODIFIED:20250731T035301Z
UID:10728-1755252000-1755257400@hkcentre.onesky.org
SUMMARY:奧福音樂班
DESCRIPTION:一片天奧福音樂(Orff Schulwerk)了!課程專為3-4歲幼兒而設，引領孩子用耳朵聽、用小手玩、用全身感受音樂的奇妙世界。孩子們將認識不同樂器的音色與聲音、透過唱歌與身體律動享受音樂的樂趣、利用身體不同部位表達音樂與故事，以及通過聆聽學習音樂語言、理解音色與動態。
URL:https://hkcentre.onesky.org/event/%e5%a5%a7%e7%a6%8f%e9%9f%b3%e6%a8%82%e7%8f%ad-2/
END:VEVENT
BEGIN:VEVENT
DTSTART;TZID=UTC:20250815T100000
DTEND;TZID=UTC:20250815T113000
DTSTAMP:20260424T175121
CREATED:20250731T044112Z
LAST-MODIFIED:20250731T044112Z
UID:10807-1755252000-1755257400@hkcentre.onesky.org
SUMMARY:0-2歲親子主題班
DESCRIPTION:與孩子參加從星期二至星期六舉辦的親子活動遊戲班，活動包括繪本閱讀、團隊遊戲、自由遊戲、唱遊、圖工等豐富多樣的內容。一片天老師將會與各位照顧者分享不同的育兒知識及技巧，讓您在輕鬆愉快的氛圍中學習和成長。每節活動的時間為1.5小時，內容充實而有趣，立即報名，與我們一起度過愉快的時光！ \n 
URL:https://hkcentre.onesky.org/event/0-2%e6%ad%b2%e8%a6%aa%e5%ad%90%e4%b8%bb%e9%a1%8c%e7%8f%ad-8-7-4-5-3-4-5/
END:VEVENT
BEGIN:VEVENT
DTSTART;TZID=UTC:20250815T113000
DTEND;TZID=UTC:20250815T130000
DTSTAMP:20260424T175121
CREATED:20250731T033122Z
LAST-MODIFIED:20250731T033122Z
UID:10586-1755257400-1755262800@hkcentre.onesky.org
SUMMARY:哥哥姐姐活動之創意手工藝
DESCRIPTION:
URL:https://hkcentre.onesky.org/event/%e5%93%a5%e5%93%a5%e5%a7%90%e5%a7%90%e6%b4%bb%e5%8b%95%e4%b9%8b%e5%89%b5%e6%84%8f%e6%89%8b%e5%b7%a5%e8%97%9d-6/
END:VEVENT
BEGIN:VEVENT
DTSTART;TZID=UTC:20250815T150000
DTEND;TZID=UTC:20250815T163000
DTSTAMP:20260424T175121
CREATED:20250731T033819Z
LAST-MODIFIED:20250731T033819Z
UID:10630-1755270000-1755275400@hkcentre.onesky.org
SUMMARY:哥哥姐姐活動之小食製作活動
DESCRIPTION:
URL:https://hkcentre.onesky.org/event/%e5%93%a5%e5%93%a5%e5%a7%90%e5%a7%90%e6%b4%bb%e5%8b%95%e4%b9%8b%e5%b0%8f%e9%a3%9f%e8%a3%bd%e4%bd%9c%e6%b4%bb%e5%8b%95-7/
END:VEVENT
BEGIN:VEVENT
DTSTART;TZID=UTC:20250815T150000
DTEND;TZID=UTC:20250815T163000
DTSTAMP:20260424T175121
CREATED:20250731T034126Z
LAST-MODIFIED:20250731T034126Z
UID:10651-1755270000-1755275400@hkcentre.onesky.org
SUMMARY:哥哥姐姐活動之動手做實驗
DESCRIPTION:
URL:https://hkcentre.onesky.org/event/%e5%93%a5%e5%93%a5%e5%a7%90%e5%a7%90%e6%b4%bb%e5%8b%95%e4%b9%8b%e5%8b%95%e6%89%8b%e5%81%9a%e5%af%a6%e9%a9%97-4-3/
END:VEVENT
BEGIN:VEVENT
DTSTART;TZID=UTC:20250815T160000
DTEND;TZID=UTC:20250815T173000
DTSTAMP:20260424T175121
CREATED:20250717T050527Z
LAST-MODIFIED:20250717T050527Z
UID:10440-1755273600-1755279000@hkcentre.onesky.org
SUMMARY:一片天七月及八月生日派對
DESCRIPTION:夏日生日之星看過來！我們準備了超好玩的夏日主題遊戲，邀請小朋友和照顧者一起來慶祝。記得今次的服裝主題是：繽紛彩色 × 夏日沙灘風。來穿上你最閃亮的夏日出遊裝！
URL:https://hkcentre.onesky.org/event/%e4%b8%80%e7%89%87%e5%a4%a9%e4%b8%83%e6%9c%88%e5%8f%8a%e5%85%ab%e6%9c%88%e7%94%9f%e6%97%a5%e6%b4%be%e5%b0%8d-2/
END:VEVENT
BEGIN:VEVENT
DTSTART;TZID=UTC:20250815T163000
DTEND;TZID=UTC:20250815T180000
DTSTAMP:20260424T175121
CREATED:20250731T034649Z
LAST-MODIFIED:20250731T034649Z
UID:10688-1755275400-1755280800@hkcentre.onesky.org
SUMMARY:哥哥姐姐活動之暑期功課輔導班
DESCRIPTION:
URL:https://hkcentre.onesky.org/event/%e5%93%a5%e5%93%a5%e5%a7%90%e5%a7%90%e6%b4%bb%e5%8b%95%e4%b9%8b%e5%89%b5%e6%84%8f%e6%89%8b%e5%b7%a5%e8%97%9d%e7%8f%ad-6/
END:VEVENT
END:VCALENDAR