BEGIN:VCALENDAR
VERSION:2.0
PRODID:-//OneSky Hong Kong Centre - ECPv6.15.5//NONSGML v1.0//EN
CALSCALE:GREGORIAN
METHOD:PUBLISH
X-WR-CALNAME:OneSky Hong Kong Centre
X-ORIGINAL-URL:https://hkcentre.onesky.org
X-WR-CALDESC:OneSky Hong Kong Centre的活动
REFRESH-INTERVAL;VALUE=DURATION:PT1H
X-Robots-Tag:noindex
X-PUBLISHED-TTL:PT1H
BEGIN:VTIMEZONE
TZID:UTC
BEGIN:STANDARD
TZOFFSETFROM:+0000
TZOFFSETTO:+0000
TZNAME:UTC
DTSTART:20250101T000000
END:STANDARD
END:VTIMEZONE
BEGIN:VEVENT
DTSTART;TZID=UTC:20250818T030000
DTEND;TZID=UTC:20250818T164500
DTSTAMP:20260424T174212
CREATED:20250717T051303Z
LAST-MODIFIED:20250717T051303Z
UID:10449-1755486000-1755535500@hkcentre.onesky.org
SUMMARY:親子繪本創作樂
DESCRIPTION:相信每個小朋友都有一本最愛的繪本。這次我們邀請家長與孩子一起，以「食物」為主題，創作屬於自己的繪本！我們會介紹各種與食物相關的繪本，引導親子共同構思、創作。透過過程培養孩子的創造力、想像力和表達能力。讓孩子成為小小故事家，從閱讀到創作，開啟無限可能！適合3-5歲的幼兒及其照顧者參加\, 亦歡迎哥哥姐姐參與。
URL:https://hkcentre.onesky.org/event/%e8%a6%aa%e5%ad%90%e7%b9%aa%e6%9c%ac%e5%89%b5%e4%bd%9c%e6%a8%82-3/
END:VEVENT
BEGIN:VEVENT
DTSTART;TZID=UTC:20250818T170000
DTEND;TZID=UTC:20250818T180000
DTSTAMP:20260424T174212
CREATED:20250717T053226Z
LAST-MODIFIED:20250717T053226Z
UID:10455-1755536400-1755540000@hkcentre.onesky.org
SUMMARY:中秋長幼工作坊-冰皮月餅
DESCRIPTION:這個中秋，我們邀請長輩與年輕一代一起動手做冰皮月餅！在溫馨的互動中，分享手作的樂趣，傳承節日的溫暖。透過共同製作月餅，促進跨代交流，創造屬於你們的中秋回憶。名額有限，立即報名參加！
URL:https://hkcentre.onesky.org/event/%e4%b8%ad%e7%a7%8b%e9%95%b7%e5%b9%bc%e5%b7%a5%e4%bd%9c%e5%9d%8a-%e5%86%b0%e7%9a%ae%e6%9c%88%e9%a4%85/
END:VEVENT
END:VCALENDAR