BEGIN:VCALENDAR
VERSION:2.0
PRODID:-//OneSky Hong Kong Centre - ECPv6.15.5//NONSGML v1.0//EN
CALSCALE:GREGORIAN
METHOD:PUBLISH
X-WR-CALNAME:OneSky Hong Kong Centre
X-ORIGINAL-URL:https://hkcentre.onesky.org
X-WR-CALDESC:OneSky Hong Kong Centre的活动
REFRESH-INTERVAL;VALUE=DURATION:PT1H
X-Robots-Tag:noindex
X-PUBLISHED-TTL:PT1H
BEGIN:VTIMEZONE
TZID:UTC
BEGIN:STANDARD
TZOFFSETFROM:+0000
TZOFFSETTO:+0000
TZNAME:UTC
DTSTART:20250101T000000
END:STANDARD
END:VTIMEZONE
BEGIN:VEVENT
DTSTART;TZID=UTC:20250821T100000
DTEND;TZID=UTC:20250821T113000
DTSTAMP:20260424T162404
CREATED:20250731T032544Z
LAST-MODIFIED:20250731T032544Z
UID:10550-1755770400-1755775800@hkcentre.onesky.org
SUMMARY:哥哥姐姐活動之桌遊樂繽紛
DESCRIPTION:
URL:https://hkcentre.onesky.org/event/%e5%93%a5%e5%93%a5%e5%a7%90%e5%a7%90%e6%b4%bb%e5%8b%95%e4%b9%8b%e6%a1%8c%e9%81%8a%e6%a8%82%e7%b9%bd%e7%b4%9b-4/
END:VEVENT
BEGIN:VEVENT
DTSTART;TZID=UTC:20250821T100000
DTEND;TZID=UTC:20250821T113000
DTSTAMP:20260424T162404
CREATED:20250731T044209Z
LAST-MODIFIED:20250731T044209Z
UID:10818-1755770400-1755775800@hkcentre.onesky.org
SUMMARY:0-2歲親子主題班
DESCRIPTION:與孩子參加從星期二至星期六舉辦的親子活動遊戲班，活動包括繪本閱讀、團隊遊戲、自由遊戲、唱遊、圖工等豐富多樣的內容。一片天老師將會與各位照顧者分享不同的育兒知識及技巧，讓您在輕鬆愉快的氛圍中學習和成長。每節活動的時間為1.5小時，內容充實而有趣，立即報名，與我們一起度過愉快的時光！ \n 
URL:https://hkcentre.onesky.org/event/0-2%e6%ad%b2%e8%a6%aa%e5%ad%90%e4%b8%bb%e9%a1%8c%e7%8f%ad-8-7-4-5-3-4-8/
END:VEVENT
BEGIN:VEVENT
DTSTART;TZID=UTC:20250821T113000
DTEND;TZID=UTC:20250821T130000
DTSTAMP:20260424T162404
CREATED:20250731T034319Z
LAST-MODIFIED:20250731T034319Z
UID:10663-1755775800-1755781200@hkcentre.onesky.org
SUMMARY:哥哥姐姐活動之小學生走出一片天
DESCRIPTION:
URL:https://hkcentre.onesky.org/event/%e5%93%a5%e5%93%a5%e5%a7%90%e5%a7%90%e6%b4%bb%e5%8b%95%e4%b9%8b%e5%b0%8f%e5%ad%b8%e7%94%9f%e8%b5%b0%e5%87%ba%e4%b8%80%e7%89%87%e5%a4%a9-3/
END:VEVENT
BEGIN:VEVENT
DTSTART;TZID=UTC:20250821T130000
DTEND;TZID=UTC:20250821T143000
DTSTAMP:20260424T162404
CREATED:20250731T044514Z
LAST-MODIFIED:20250731T044514Z
UID:10836-1755781200-1755786600@hkcentre.onesky.org
SUMMARY:0-2歲親子主題班
DESCRIPTION:與孩子參加從星期二至星期六舉辦的親子活動遊戲班，活動包括繪本閱讀、團隊遊戲、自由遊戲、唱遊、圖工等豐富多樣的內容。一片天老師將會與各位照顧者分享不同的育兒知識及技巧，讓您在輕鬆愉快的氛圍中學習和成長。每節活動的時間為1.5小時，內容充實而有趣，立即報名，與我們一起度過愉快的時光！ \n 
URL:https://hkcentre.onesky.org/event/0-2%e6%ad%b2%e8%a6%aa%e5%ad%90%e4%b8%bb%e9%a1%8c%e7%8f%ad-5-7-3-4/
END:VEVENT
BEGIN:VEVENT
DTSTART;TZID=UTC:20250821T150000
DTEND;TZID=UTC:20250821T163000
DTSTAMP:20260424T162404
CREATED:20250731T033645Z
LAST-MODIFIED:20250731T033645Z
UID:10619-1755788400-1755793800@hkcentre.onesky.org
SUMMARY:哥哥姐姐活動之小食製作活動
DESCRIPTION:
URL:https://hkcentre.onesky.org/event/%e5%93%a5%e5%93%a5%e5%a7%90%e5%a7%90%e6%b4%bb%e5%8b%95%e4%b9%8b%e5%b0%8f%e9%a3%9f%e8%a3%bd%e4%bd%9c%e6%b4%bb%e5%8b%95-4/
END:VEVENT
BEGIN:VEVENT
DTSTART;TZID=UTC:20250821T150000
DTEND;TZID=UTC:20250821T163000
DTSTAMP:20260424T162404
CREATED:20250731T034018Z
LAST-MODIFIED:20250731T034018Z
UID:10642-1755788400-1755793800@hkcentre.onesky.org
SUMMARY:哥哥姐姐活動之動手做實驗
DESCRIPTION:
URL:https://hkcentre.onesky.org/event/%e5%93%a5%e5%93%a5%e5%a7%90%e5%a7%90%e6%b4%bb%e5%8b%95%e4%b9%8b%e5%8b%95%e6%89%8b%e5%81%9a%e5%af%a6%e9%a9%97-3/
END:VEVENT
BEGIN:VEVENT
DTSTART;TZID=UTC:20250821T163000
DTEND;TZID=UTC:20250821T180000
DTSTAMP:20260424T162404
CREATED:20250731T034730Z
LAST-MODIFIED:20250731T034730Z
UID:10696-1755793800-1755799200@hkcentre.onesky.org
SUMMARY:哥哥姐姐活動之暑期功課輔導班
DESCRIPTION:
URL:https://hkcentre.onesky.org/event/%e5%93%a5%e5%93%a5%e5%a7%90%e5%a7%90%e6%b4%bb%e5%8b%95%e4%b9%8b%e5%89%b5%e6%84%8f%e6%89%8b%e5%b7%a5%e8%97%9d%e7%8f%ad-8/
END:VEVENT
END:VCALENDAR