BEGIN:VCALENDAR
VERSION:2.0
PRODID:-//OneSky Hong Kong Centre - ECPv6.15.5//NONSGML v1.0//EN
CALSCALE:GREGORIAN
METHOD:PUBLISH
X-ORIGINAL-URL:https://hkcentre.onesky.org
X-WR-CALDESC:OneSky Hong Kong Centre的活动
REFRESH-INTERVAL;VALUE=DURATION:PT1H
X-Robots-Tag:noindex
X-PUBLISHED-TTL:PT1H
BEGIN:VTIMEZONE
TZID:UTC
BEGIN:STANDARD
TZOFFSETFROM:+0000
TZOFFSETTO:+0000
TZNAME:UTC
DTSTART:20250101T000000
END:STANDARD
END:VTIMEZONE
BEGIN:VEVENT
DTSTART;TZID=UTC:20251002T143000
DTEND;TZID=UTC:20251002T160000
DTSTAMP:20260424T174249
CREATED:20250929T004409Z
LAST-MODIFIED:20250929T004409Z
UID:11309-1759415400-1759420800@hkcentre.onesky.org
SUMMARY:長幼工作坊之冰皮月餅製作
DESCRIPTION:
URL:https://hkcentre.onesky.org/event/%e9%95%b7%e5%b9%bc%e5%b7%a5%e4%bd%9c%e5%9d%8a%e4%b9%8b%e5%86%b0%e7%9a%ae%e6%9c%88%e9%a4%85%e8%a3%bd%e4%bd%9c-3/
END:VEVENT
BEGIN:VEVENT
DTSTART;TZID=UTC:20251002T170000
DTEND;TZID=UTC:20251002T183000
DTSTAMP:20260424T174249
CREATED:20250929T004026Z
LAST-MODIFIED:20250929T004026Z
UID:11291-1759424400-1759429800@hkcentre.onesky.org
SUMMARY:親子美術活動之盲盒系列
DESCRIPTION:
URL:https://hkcentre.onesky.org/event/%e8%a6%aa%e5%ad%90%e7%be%8e%e8%a1%93%e6%b4%bb%e5%8b%95%e4%b9%8b%e7%9b%b2%e7%9b%92%e7%b3%bb%e5%88%97/
END:VEVENT
END:VCALENDAR