BEGIN:VCALENDAR
VERSION:2.0
PRODID:-//OneSky Hong Kong Centre - ECPv6.15.5//NONSGML v1.0//EN
CALSCALE:GREGORIAN
METHOD:PUBLISH
X-WR-CALNAME:OneSky Hong Kong Centre
X-ORIGINAL-URL:https://hkcentre.onesky.org
X-WR-CALDESC:OneSky Hong Kong Centre的活动
REFRESH-INTERVAL;VALUE=DURATION:PT1H
X-Robots-Tag:noindex
X-PUBLISHED-TTL:PT1H
BEGIN:VTIMEZONE
TZID:UTC
BEGIN:STANDARD
TZOFFSETFROM:+0000
TZOFFSETTO:+0000
TZNAME:UTC
DTSTART:20250101T000000
END:STANDARD
END:VTIMEZONE
BEGIN:VEVENT
DTSTART;TZID=UTC:20251009T100000
DTEND;TZID=UTC:20251009T113000
DTSTAMP:20260424T215903
CREATED:20250908T013800Z
LAST-MODIFIED:20250908T015502Z
UID:11086-1760004000-1760009400@hkcentre.onesky.org
SUMMARY:0-2歲親子主題班
DESCRIPTION:10月份的主題是《大自然世界》。與孩子參加從星期二至星期六舉辦的親子活動遊戲班，活動包括繪本閱讀、團隊遊戲、自由遊戲、唱遊、圖工等豐富多樣的內容。一片天老師將會與各位照顧者分享不同的育兒知識及技巧，讓您在輕鬆愉快的氛圍中學習和成長。每節活動的時間為1.5小時，內容充實而有趣，立即報名，與我們一起渡過愉快的時光！ \n 
URL:https://hkcentre.onesky.org/event/0-2%e6%ad%b2%e8%a6%aa%e5%ad%90%e4%b8%bb%e9%a1%8c%e7%8f%ad-10-9/
END:VEVENT
BEGIN:VEVENT
DTSTART;TZID=UTC:20251009T100000
DTEND;TZID=UTC:20251009T113000
DTSTAMP:20260424T215904
CREATED:20250922T064033Z
LAST-MODIFIED:20250922T064033Z
UID:11254-1760004000-1760009400@hkcentre.onesky.org
SUMMARY:照顧者放鬆伸展班
DESCRIPTION:照顧者放鬆伸展班在為照顧者提供放鬆身心的機會，透過簡單的伸展運動，減輕壓力，提升身心健康。
URL:https://hkcentre.onesky.org/event/%e7%85%a7%e9%a1%a7%e8%80%85%e6%94%be%e9%ac%86%e4%bc%b8%e5%b1%95%e7%8f%ad-4-2/
END:VEVENT
BEGIN:VEVENT
DTSTART;TZID=UTC:20251009T160000
DTEND;TZID=UTC:20251009T173000
DTSTAMP:20260424T215904
CREATED:20250922T064607Z
LAST-MODIFIED:20250929T004701Z
UID:11267-1760025600-1760031000@hkcentre.onesky.org
SUMMARY:親子藝術班之生態保育
DESCRIPTION:適合3-6歲幼兒及照顧者參與，透過親子製作圖工，讓幼兒認識生態保育。
URL:https://hkcentre.onesky.org/event/%e8%a6%aa%e5%ad%90%e8%97%9d%e8%a1%93%e7%8f%ad%e4%b9%8b%e8%a6%aa%e5%ad%90%e4%bf%9d%e8%82%b2/
END:VEVENT
BEGIN:VEVENT
DTSTART;TZID=UTC:20251009T170000
DTEND;TZID=UTC:20251009T183000
DTSTAMP:20260424T215904
CREATED:20250908T014040Z
LAST-MODIFIED:20250908T020523Z
UID:11104-1760029200-1760034600@hkcentre.onesky.org
SUMMARY:0-2歲親子主題班
DESCRIPTION:10月份的主題是《大自然世界》。與孩子參加從星期二至星期六舉辦的親子活動遊戲班，活動包括繪本閱讀、團隊遊戲、自由遊戲、唱遊、圖工等豐富多樣的內容。一片天老師將會與各位照顧者分享不同的育兒知識及技巧，讓您在輕鬆愉快的氛圍中學習和成長。每節活動的時間為1.5小時，內容充實而有趣，立即報名，與我們一起渡過愉快的時光！ \n 
URL:https://hkcentre.onesky.org/event/0-2%e6%ad%b2%e8%a6%aa%e5%ad%90%e4%b8%bb%e9%a1%8c%e7%8f%ad-10-9-2/
END:VEVENT
END:VCALENDAR