BEGIN:VCALENDAR
VERSION:2.0
PRODID:-//OneSky Hong Kong Centre - ECPv6.15.5//NONSGML v1.0//EN
CALSCALE:GREGORIAN
METHOD:PUBLISH
X-WR-CALNAME:OneSky Hong Kong Centre
X-ORIGINAL-URL:https://hkcentre.onesky.org
X-WR-CALDESC:OneSky Hong Kong Centre的活动
REFRESH-INTERVAL;VALUE=DURATION:PT1H
X-Robots-Tag:noindex
X-PUBLISHED-TTL:PT1H
BEGIN:VTIMEZONE
TZID:UTC
BEGIN:STANDARD
TZOFFSETFROM:+0000
TZOFFSETTO:+0000
TZNAME:UTC
DTSTART:20250101T000000
END:STANDARD
END:VTIMEZONE
BEGIN:VEVENT
DTSTART;TZID=UTC:20251010T094500
DTEND;TZID=UTC:20251010T114500
DTSTAMP:20260424T215851
CREATED:20250731T042821Z
LAST-MODIFIED:20250731T042821Z
UID:10759-1760089500-1760096700@hkcentre.onesky.org
SUMMARY:10月照顧者培訓課程
DESCRIPTION:課程圍繞成長、照顧、管教、情緒、遊戲和閱讀 6 大主題，與參加者介紹回應式管教、了解和回應幼兒的情緒，和如何引導與賦予幼兒能力等理論。課程共分8節，歡迎兒童照顧者，包括家長和祖父母等參加。出席率達 80%及小測取得合格成績可獲取證書，並有機會參加中心實習和受聘成為一片天社區好幫手。 \n 
URL:https://hkcentre.onesky.org/event/%e7%85%a7%e9%a1%a7%e8%80%85%e5%9f%b9%e8%a8%93%e8%aa%b2%e7%a8%8b-12-4-9-2-7/
END:VEVENT
BEGIN:VEVENT
DTSTART;TZID=UTC:20251010T100000
DTEND;TZID=UTC:20251010T113000
DTSTAMP:20260424T215852
CREATED:20250929T005026Z
LAST-MODIFIED:20250929T005026Z
UID:11315-1760090400-1760095800@hkcentre.onesky.org
SUMMARY:親子音樂活動《我愛吹泡泡》
DESCRIPTION:嘗試不同樂器和動作，齊齊玩遊戲、唱唱歌，提高小朋友對音樂的興趣。
URL:https://hkcentre.onesky.org/event/%e8%a6%aa%e5%ad%90%e9%9f%b3%e6%a8%82%e6%b4%bb%e5%8b%95%e3%80%8a%e6%88%91%e6%84%9b%e5%90%b9%e6%b3%a1%e6%b3%a1%e3%80%8b/
END:VEVENT
BEGIN:VEVENT
DTSTART;TZID=UTC:20251010T140000
DTEND;TZID=UTC:20251010T153000
DTSTAMP:20260424T215852
CREATED:20250922T064402Z
LAST-MODIFIED:20250922T064402Z
UID:11264-1760104800-1760110200@hkcentre.onesky.org
SUMMARY:照顧者藝術寫字班
DESCRIPTION:齊齊透過寫藝術字，好好放鬆心情，與內心對話。
URL:https://hkcentre.onesky.org/event/%e7%85%a7%e9%a1%a7%e8%80%85%e8%97%9d%e8%a1%93%e5%af%ab%e5%ad%97%e7%8f%ad/
END:VEVENT
BEGIN:VEVENT
DTSTART;TZID=UTC:20251010T140000
DTEND;TZID=UTC:20251010T160000
DTSTAMP:20260424T215852
CREATED:20250731T043220Z
LAST-MODIFIED:20250731T043220Z
UID:10783-1760104800-1760112000@hkcentre.onesky.org
SUMMARY:10月照顧者培訓課程
DESCRIPTION:課程圍繞成長、照顧、管教、情緒、遊戲和閱讀 6 大主題，與參加者介紹回應式管教、了解和回應幼兒的情緒，和如何引導與賦予幼兒能力等理論。課程共分8節，歡迎兒童照顧者，包括家長和祖父母等參加。出席率達 80%及小測取得合格成績可獲取證書，並有機會參加中心實習和受聘成為一片天社區好幫手。 \n 
URL:https://hkcentre.onesky.org/event/%e7%85%a7%e9%a1%a7%e8%80%85%e5%9f%b9%e8%a8%93%e8%aa%b2%e7%a8%8b-12-4-9-2-9-4/
END:VEVENT
BEGIN:VEVENT
DTSTART;TZID=UTC:20251010T150000
DTEND;TZID=UTC:20251010T160000
DTSTAMP:20260424T215852
CREATED:20250908T012216Z
LAST-MODIFIED:20250908T012216Z
UID:11048-1760108400-1760112000@hkcentre.onesky.org
SUMMARY:嬰兒照顧工作坊
DESCRIPTION:增進照顧嬰幼兒的知識，從親子關係角度出發， 了解嬰兒餵哺手法、沖涼換片的技巧、嬰兒按摩技巧，及如何調整嬰幼兒作息及睡眠習慣。
URL:https://hkcentre.onesky.org/event/%e5%ac%b0%e5%85%92%e7%85%a7%e9%a1%a7%e5%b7%a5%e4%bd%9c%e5%9d%8a-10-10/
END:VEVENT
END:VCALENDAR