BEGIN:VCALENDAR
VERSION:2.0
PRODID:-//OneSky Hong Kong Centre - ECPv6.15.5//NONSGML v1.0//EN
CALSCALE:GREGORIAN
METHOD:PUBLISH
X-ORIGINAL-URL:https://hkcentre.onesky.org
X-WR-CALDESC:OneSky Hong Kong Centre的活动
REFRESH-INTERVAL;VALUE=DURATION:PT1H
X-Robots-Tag:noindex
X-PUBLISHED-TTL:PT1H
BEGIN:VTIMEZONE
TZID:UTC
BEGIN:STANDARD
TZOFFSETFROM:+0000
TZOFFSETTO:+0000
TZNAME:UTC
DTSTART:20250101T000000
END:STANDARD
END:VTIMEZONE
BEGIN:VEVENT
DTSTART;TZID=UTC:20251011T100000
DTEND;TZID=UTC:20251011T113000
DTSTAMP:20260424T215909
CREATED:20250908T013924Z
LAST-MODIFIED:20250908T015444Z
UID:11095-1760176800-1760182200@hkcentre.onesky.org
SUMMARY:0-2歲親子主題班
DESCRIPTION:10月份的主題是《大自然世界》。與孩子參加從星期二至星期六舉辦的親子活動遊戲班，活動包括繪本閱讀、團隊遊戲、自由遊戲、唱遊、圖工等豐富多樣的內容。一片天老師將會與各位照顧者分享不同的育兒知識及技巧，讓您在輕鬆愉快的氛圍中學習和成長。每節活動的時間為1.5小時，內容充實而有趣，立即報名，與我們一起渡過愉快的時光！ \n 
URL:https://hkcentre.onesky.org/event/0-2%e6%ad%b2%e8%a6%aa%e5%ad%90%e4%b8%bb%e9%a1%8c%e7%8f%ad-10-11/
END:VEVENT
BEGIN:VEVENT
DTSTART;TZID=UTC:20251011T100000
DTEND;TZID=UTC:20251011T113000
DTSTAMP:20260424T215909
CREATED:20250908T014810Z
LAST-MODIFIED:20250908T014810Z
UID:11140-1760176800-1760182200@hkcentre.onesky.org
SUMMARY:3-5歲主題班
DESCRIPTION:10月份的主題是《大自然世界》。與孩子參加從星期二至星期六舉辦的親子活動遊戲班，活動包括繪本閱讀、團隊遊戲、自由遊戲、唱遊、圖工等豐富多樣的內容。一片天老師將會與各位照顧者分享不同的育兒知識及技巧，讓您在輕鬆愉快的氛圍中學習和成長。每節活動的時間為1.5小時，內容充實而有趣，立即報名，與我們一起度過愉快的時光！ \n 
URL:https://hkcentre.onesky.org/event/3-5%e6%ad%b2%e4%b8%bb%e9%a1%8c%e7%8f%ad-10-11/
END:VEVENT
BEGIN:VEVENT
DTSTART;TZID=UTC:20251011T130000
DTEND;TZID=UTC:20251011T140000
DTSTAMP:20260424T215909
CREATED:20250908T012542Z
LAST-MODIFIED:20250908T012542Z
UID:11058-1760187600-1760191200@hkcentre.onesky.org
SUMMARY:嬰兒照顧工作坊
DESCRIPTION:增進照顧嬰幼兒的知識，從親子關係角度出發， 了解嬰兒餵哺手法、沖涼換片的技巧、嬰兒按摩技巧，及如何調整嬰幼兒作息及睡眠習慣。
URL:https://hkcentre.onesky.org/event/%e5%ac%b0%e5%85%92%e7%85%a7%e9%a1%a7%e5%b7%a5%e4%bd%9c%e5%9d%8a-10-11/
END:VEVENT
BEGIN:VEVENT
DTSTART;TZID=UTC:20251011T130000
DTEND;TZID=UTC:20251011T143000
DTSTAMP:20260424T215909
CREATED:20250908T014213Z
LAST-MODIFIED:20250908T015521Z
UID:11113-1760187600-1760193000@hkcentre.onesky.org
SUMMARY:0-2歲親子主題班
DESCRIPTION:10月份的主題是《大自然世界》。與孩子參加從星期二至星期六舉辦的親子活動遊戲班，活動包括繪本閱讀、團隊遊戲、自由遊戲、唱遊、圖工等豐富多樣的內容。一片天老師將會與各位照顧者分享不同的育兒知識及技巧，讓您在輕鬆愉快的氛圍中學習和成長。每節活動的時間為1.5小時，內容充實而有趣，立即報名，與我們一起渡過愉快的時光！ \n 
URL:https://hkcentre.onesky.org/event/0-2%e6%ad%b2%e8%a6%aa%e5%ad%90%e4%b8%bb%e9%a1%8c%e7%8f%ad-10-11-2/
END:VEVENT
BEGIN:VEVENT
DTSTART;TZID=UTC:20251011T150000
DTEND;TZID=UTC:20251011T163000
DTSTAMP:20260424T215909
CREATED:20250908T014351Z
LAST-MODIFIED:20250908T015517Z
UID:11122-1760194800-1760200200@hkcentre.onesky.org
SUMMARY:0-2歲親子主題班
DESCRIPTION:10月份的主題是《大自然世界》。與孩子參加從星期二至星期六舉辦的親子活動遊戲班，活動包括繪本閱讀、團隊遊戲、自由遊戲、唱遊、圖工等豐富多樣的內容。一片天老師將會與各位照顧者分享不同的育兒知識及技巧，讓您在輕鬆愉快的氛圍中學習和成長。每節活動的時間為1.5小時，內容充實而有趣，立即報名，與我們一起渡過愉快的時光！ \n 
URL:https://hkcentre.onesky.org/event/0-2%e6%ad%b2%e8%a6%aa%e5%ad%90%e4%b8%bb%e9%a1%8c%e7%8f%ad-10-11-3/
END:VEVENT
BEGIN:VEVENT
DTSTART;TZID=UTC:20251011T150000
DTEND;TZID=UTC:20251011T163000
DTSTAMP:20260424T215909
CREATED:20250908T014957Z
LAST-MODIFIED:20250908T014957Z
UID:11149-1760194800-1760200200@hkcentre.onesky.org
SUMMARY:3-5歲主題班
DESCRIPTION:10月份的主題是《大自然世界》。與孩子參加從星期二至星期六舉辦的親子活動遊戲班，活動包括繪本閱讀、團隊遊戲、自由遊戲、唱遊、圖工等豐富多樣的內容。一片天老師將會與各位照顧者分享不同的育兒知識及技巧，讓您在輕鬆愉快的氛圍中學習和成長。每節活動的時間為1.5小時，內容充實而有趣，立即報名，與我們一起度過愉快的時光！ \n 
URL:https://hkcentre.onesky.org/event/3-5%e6%ad%b2%e4%b8%bb%e9%a1%8c%e7%8f%ad-10-28-2/
END:VEVENT
END:VCALENDAR