BEGIN:VCALENDAR
VERSION:2.0
PRODID:-//OneSky Hong Kong Centre - ECPv6.15.5//NONSGML v1.0//EN
CALSCALE:GREGORIAN
METHOD:PUBLISH
X-WR-CALNAME:OneSky Hong Kong Centre
X-ORIGINAL-URL:https://hkcentre.onesky.org
X-WR-CALDESC:OneSky Hong Kong Centre的活动
REFRESH-INTERVAL;VALUE=DURATION:PT1H
X-Robots-Tag:noindex
X-PUBLISHED-TTL:PT1H
BEGIN:VTIMEZONE
TZID:UTC
BEGIN:STANDARD
TZOFFSETFROM:+0000
TZOFFSETTO:+0000
TZNAME:UTC
DTSTART:20250101T000000
END:STANDARD
END:VTIMEZONE
BEGIN:VEVENT
DTSTART;TZID=UTC:20251013T100000
DTEND;TZID=UTC:20251013T113000
DTSTAMP:20260424T215845
CREATED:20250922T064212Z
LAST-MODIFIED:20250922T064236Z
UID:11260-1760349600-1760355000@hkcentre.onesky.org
SUMMARY:照顧者心靈水彩班
DESCRIPTION:齊齊畫水彩畫，好好放鬆心情，治癒心靈。
URL:https://hkcentre.onesky.org/event/%e7%85%a7%e9%a1%a7%e8%80%85%e5%bf%83%e9%9d%88%e6%b0%b4%e5%bd%a9%e7%8f%ad/
END:VEVENT
BEGIN:VEVENT
DTSTART;TZID=UTC:20251013T150000
DTEND;TZID=UTC:20251013T160000
DTSTAMP:20260424T215845
CREATED:20250929T003613Z
LAST-MODIFIED:20250929T003613Z
UID:11279-1760367600-1760371200@hkcentre.onesky.org
SUMMARY:長幼小食工作坊-中華冷麵製作
DESCRIPTION:
URL:https://hkcentre.onesky.org/event/%e9%95%b7%e5%b9%bc%e5%b0%8f%e9%a3%9f%e5%b7%a5%e4%bd%9c%e5%9d%8a-%e4%b8%ad%e8%8f%af%e5%86%b7%e9%ba%b5%e8%a3%bd%e4%bd%9c/
END:VEVENT
END:VCALENDAR