BEGIN:VCALENDAR
VERSION:2.0
PRODID:-//OneSky Hong Kong Centre - ECPv6.15.5//NONSGML v1.0//EN
CALSCALE:GREGORIAN
METHOD:PUBLISH
X-ORIGINAL-URL:https://hkcentre.onesky.org
X-WR-CALDESC:OneSky Hong Kong Centre的活动
REFRESH-INTERVAL;VALUE=DURATION:PT1H
X-Robots-Tag:noindex
X-PUBLISHED-TTL:PT1H
BEGIN:VTIMEZONE
TZID:UTC
BEGIN:STANDARD
TZOFFSETFROM:+0000
TZOFFSETTO:+0000
TZNAME:UTC
DTSTART:20250101T000000
END:STANDARD
END:VTIMEZONE
BEGIN:VEVENT
DTSTART;TZID=UTC:20251014T094500
DTEND;TZID=UTC:20251014T114500
DTSTAMP:20260424T215914
CREATED:20250731T042723Z
LAST-MODIFIED:20250731T042723Z
UID:10753-1760435100-1760442300@hkcentre.onesky.org
SUMMARY:10月照顧者培訓課程
DESCRIPTION:課程圍繞成長、照顧、管教、情緒、遊戲和閱讀 6 大主題，與參加者介紹回應式管教、了解和回應幼兒的情緒，和如何引導與賦予幼兒能力等理論。課程共分8節，歡迎兒童照顧者，包括家長和祖父母等參加。出席率達 80%及小測取得合格成績可獲取證書，並有機會參加中心實習和受聘成為一片天社區好幫手。 \n 
URL:https://hkcentre.onesky.org/event/%e7%85%a7%e9%a1%a7%e8%80%85%e5%9f%b9%e8%a8%93%e8%aa%b2%e7%a8%8b-12-4-9-2-2/
END:VEVENT
BEGIN:VEVENT
DTSTART;TZID=UTC:20251014T100000
DTEND;TZID=UTC:20251014T113000
DTSTAMP:20260424T215914
CREATED:20250908T013352Z
LAST-MODIFIED:20250908T020929Z
UID:11067-1760436000-1760441400@hkcentre.onesky.org
SUMMARY:0-2歲親子主題班
DESCRIPTION:十月份的主題是《大自然世界》。與孩子參加從星期二至星期六舉辦的親子活動遊戲班，活動包括繪本閱讀、團隊遊戲、自由遊戲、唱遊、圖工等豐富多樣的內容。一片天老師將會與各位照顧者分享不同的育兒知識及技巧，讓您在輕鬆愉快的氛圍中學習和成長。每節活動的時間為1.5小時，內容充實而有趣，立即報名，與我們一起渡過愉快的時光！ \n 
URL:https://hkcentre.onesky.org/event/0-2%e6%ad%b2%e8%a6%aa%e5%ad%90%e4%b8%bb%e9%a1%8c%e7%8f%ad-10-14/
END:VEVENT
BEGIN:VEVENT
DTSTART;TZID=UTC:20251014T100000
DTEND;TZID=UTC:20251014T113000
DTSTAMP:20260424T215914
CREATED:20250922T064045Z
LAST-MODIFIED:20250922T064045Z
UID:11255-1760436000-1760441400@hkcentre.onesky.org
SUMMARY:照顧者放鬆伸展班
DESCRIPTION:照顧者放鬆伸展班在為照顧者提供放鬆身心的機會，透過簡單的伸展運動，減輕壓力，提升身心健康。
URL:https://hkcentre.onesky.org/event/%e7%85%a7%e9%a1%a7%e8%80%85%e6%94%be%e9%ac%86%e4%bc%b8%e5%b1%95%e7%8f%ad-4-3/
END:VEVENT
BEGIN:VEVENT
DTSTART;TZID=UTC:20251014T140000
DTEND;TZID=UTC:20251014T160000
DTSTAMP:20260424T215914
CREATED:20250731T043041Z
LAST-MODIFIED:20250731T043041Z
UID:10774-1760450400-1760457600@hkcentre.onesky.org
SUMMARY:10月照顧者培訓課程
DESCRIPTION:課程圍繞成長、照顧、管教、情緒、遊戲和閱讀 6 大主題，與參加者介紹回應式管教、了解和回應幼兒的情緒，和如何引導與賦予幼兒能力等理論。課程共分8節，歡迎兒童照顧者，包括家長和祖父母等參加。出席率達 80%及小測取得合格成績可獲取證書，並有機會參加中心實習和受聘成為一片天社區好幫手。 \n 
URL:https://hkcentre.onesky.org/event/%e7%85%a7%e9%a1%a7%e8%80%85%e5%9f%b9%e8%a8%93%e8%aa%b2%e7%a8%8b-12-4-9-2-9/
END:VEVENT
BEGIN:VEVENT
DTSTART;TZID=UTC:20251014T170000
DTEND;TZID=UTC:20251014T183000
DTSTAMP:20260424T215914
CREATED:20250908T014636Z
LAST-MODIFIED:20250908T014636Z
UID:11131-1760461200-1760466600@hkcentre.onesky.org
SUMMARY:3-5歲主題班
DESCRIPTION:10月份的主題是《大自然世界》。與孩子參加從星期二至星期六舉辦的親子活動遊戲班，活動包括繪本閱讀、團隊遊戲、自由遊戲、唱遊、圖工等豐富多樣的內容。一片天老師將會與各位照顧者分享不同的育兒知識及技巧，讓您在輕鬆愉快的氛圍中學習和成長。每節活動的時間為1.5小時，內容充實而有趣，立即報名，與我們一起度過愉快的時光！ \n 
URL:https://hkcentre.onesky.org/event/3-5%e6%ad%b2%e4%b8%bb%e9%a1%8c%e7%8f%ad-10-14/
END:VEVENT
END:VCALENDAR