BEGIN:VCALENDAR
VERSION:2.0
PRODID:-//OneSky Hong Kong Centre - ECPv6.15.5//NONSGML v1.0//EN
CALSCALE:GREGORIAN
METHOD:PUBLISH
X-WR-CALNAME:OneSky Hong Kong Centre
X-ORIGINAL-URL:https://hkcentre.onesky.org
X-WR-CALDESC:OneSky Hong Kong Centre的活动
REFRESH-INTERVAL;VALUE=DURATION:PT1H
X-Robots-Tag:noindex
X-PUBLISHED-TTL:PT1H
BEGIN:VTIMEZONE
TZID:UTC
BEGIN:STANDARD
TZOFFSETFROM:+0000
TZOFFSETTO:+0000
TZNAME:UTC
DTSTART:20250101T000000
END:STANDARD
END:VTIMEZONE
BEGIN:VEVENT
DTSTART;TZID=UTC:20251015T100000
DTEND;TZID=UTC:20251015T113000
DTSTAMP:20260424T215904
CREATED:20250908T013702Z
LAST-MODIFIED:20250908T020924Z
UID:11078-1760522400-1760527800@hkcentre.onesky.org
SUMMARY:0-2歲親子主題班
DESCRIPTION:十月份的主題是《大自然世界》。與孩子參加從星期二至星期六舉辦的親子活動遊戲班，活動包括繪本閱讀、團隊遊戲、自由遊戲、唱遊、圖工等豐富多樣的內容。一片天老師將會與各位照顧者分享不同的育兒知識及技巧，讓您在輕鬆愉快的氛圍中學習和成長。每節活動的時間為1.5小時，內容充實而有趣，立即報名，與我們一起渡過愉快的時光！ \n 
URL:https://hkcentre.onesky.org/event/0-2%e6%ad%b2%e8%a6%aa%e5%ad%90%e4%b8%bb%e9%a1%8c%e7%8f%ad-10-15/
END:VEVENT
BEGIN:VEVENT
DTSTART;TZID=UTC:20251015T150000
DTEND;TZID=UTC:20251015T163000
DTSTAMP:20260424T215904
CREATED:20250922T065220Z
LAST-MODIFIED:20250922T065220Z
UID:11274-1760540400-1760545800@hkcentre.onesky.org
SUMMARY:親子唱K班 《幼兒SING聲聲聲》
DESCRIPTION:專為0-2歲幼兒和家長設計的歡樂唱K時光！透過兒歌、互動遊戲和趣味節奏，讓親子一起放聲歌唱，體驗音樂的快樂，培養寶寶對聲音的興趣與感知。
URL:https://hkcentre.onesky.org/event/%e8%a6%aa%e5%ad%90%e5%94%b1k%e7%8f%ad-%e3%80%8a%e5%b9%bc%e5%85%92sing%e8%81%b2%e8%81%b2%e8%81%b2%e3%80%8b-2/
END:VEVENT
BEGIN:VEVENT
DTSTART;TZID=UTC:20251015T170000
DTEND;TZID=UTC:20251015T180000
DTSTAMP:20260424T215904
CREATED:20250929T003645Z
LAST-MODIFIED:20250929T003645Z
UID:11282-1760547600-1760551200@hkcentre.onesky.org
SUMMARY:長幼小食工作坊-中華冷麵製作
DESCRIPTION:
URL:https://hkcentre.onesky.org/event/%e9%95%b7%e5%b9%bc%e5%b0%8f%e9%a3%9f%e5%b7%a5%e4%bd%9c%e5%9d%8a-%e4%b8%ad%e8%8f%af%e5%86%b7%e9%ba%b5%e8%a3%bd%e4%bd%9c-2/
END:VEVENT
END:VCALENDAR