BEGIN:VCALENDAR
VERSION:2.0
PRODID:-//OneSky Hong Kong Centre - ECPv6.15.5//NONSGML v1.0//EN
CALSCALE:GREGORIAN
METHOD:PUBLISH
X-ORIGINAL-URL:https://hkcentre.onesky.org
X-WR-CALDESC:OneSky Hong Kong Centre的活动
REFRESH-INTERVAL;VALUE=DURATION:PT1H
X-Robots-Tag:noindex
X-PUBLISHED-TTL:PT1H
BEGIN:VTIMEZONE
TZID:UTC
BEGIN:STANDARD
TZOFFSETFROM:+0000
TZOFFSETTO:+0000
TZNAME:UTC
DTSTART:20250101T000000
END:STANDARD
END:VTIMEZONE
BEGIN:VEVENT
DTSTART;TZID=UTC:20251016T100000
DTEND;TZID=UTC:20251016T113000
DTSTAMP:20260424T215911
CREATED:20250908T013815Z
LAST-MODIFIED:20250908T020922Z
UID:11087-1760608800-1760614200@hkcentre.onesky.org
SUMMARY:0-2歲親子主題班
DESCRIPTION:十月份的主題是《大自然世界》。與孩子參加從星期二至星期六舉辦的親子活動遊戲班，活動包括繪本閱讀、團隊遊戲、自由遊戲、唱遊、圖工等豐富多樣的內容。一片天老師將會與各位照顧者分享不同的育兒知識及技巧，讓您在輕鬆愉快的氛圍中學習和成長。每節活動的時間為1.5小時，內容充實而有趣，立即報名，與我們一起渡過愉快的時光！ \n 
URL:https://hkcentre.onesky.org/event/0-2%e6%ad%b2%e8%a6%aa%e5%ad%90%e4%b8%bb%e9%a1%8c%e7%8f%ad-10-16/
END:VEVENT
BEGIN:VEVENT
DTSTART;TZID=UTC:20251016T170000
DTEND;TZID=UTC:20251016T183000
DTSTAMP:20260424T215911
CREATED:20250908T014100Z
LAST-MODIFIED:20250908T020911Z
UID:11105-1760634000-1760639400@hkcentre.onesky.org
SUMMARY:0-2歲親子主題班
DESCRIPTION:十月份的主題是《大自然世界》。與孩子參加從星期二至星期六舉辦的親子活動遊戲班，活動包括繪本閱讀、團隊遊戲、自由遊戲、唱遊、圖工等豐富多樣的內容。一片天老師將會與各位照顧者分享不同的育兒知識及技巧，讓您在輕鬆愉快的氛圍中學習和成長。每節活動的時間為1.5小時，內容充實而有趣，立即報名，與我們一起渡過愉快的時光！ \n 
URL:https://hkcentre.onesky.org/event/0-2%e6%ad%b2%e8%a6%aa%e5%ad%90%e4%b8%bb%e9%a1%8c%e7%8f%ad-10-16-2/
END:VEVENT
BEGIN:VEVENT
DTSTART;TZID=UTC:20251016T170000
DTEND;TZID=UTC:20251016T183000
DTSTAMP:20260424T215911
CREATED:20250929T004130Z
LAST-MODIFIED:20250929T004130Z
UID:11294-1760634000-1760639400@hkcentre.onesky.org
SUMMARY:親子美術活動之盲盒系列
DESCRIPTION:
URL:https://hkcentre.onesky.org/event/%e8%a6%aa%e5%ad%90%e7%be%8e%e8%a1%93%e6%b4%bb%e5%8b%95%e4%b9%8b%e7%9b%b2%e7%9b%92%e7%b3%bb%e5%88%97-2/
END:VEVENT
END:VCALENDAR