BEGIN:VCALENDAR
VERSION:2.0
PRODID:-//OneSky Hong Kong Centre - ECPv6.15.5//NONSGML v1.0//EN
CALSCALE:GREGORIAN
METHOD:PUBLISH
X-ORIGINAL-URL:https://hkcentre.onesky.org
X-WR-CALDESC:OneSky Hong Kong Centre的活动
REFRESH-INTERVAL;VALUE=DURATION:PT1H
X-Robots-Tag:noindex
X-PUBLISHED-TTL:PT1H
BEGIN:VTIMEZONE
TZID:UTC
BEGIN:STANDARD
TZOFFSETFROM:+0000
TZOFFSETTO:+0000
TZNAME:UTC
DTSTART:20250101T000000
END:STANDARD
END:VTIMEZONE
BEGIN:VEVENT
DTSTART;TZID=UTC:20251017T094500
DTEND;TZID=UTC:20251017T114500
DTSTAMP:20260424T215858
CREATED:20250731T042759Z
LAST-MODIFIED:20250731T042759Z
UID:10756-1760694300-1760701500@hkcentre.onesky.org
SUMMARY:10月照顧者培訓課程
DESCRIPTION:課程圍繞成長、照顧、管教、情緒、遊戲和閱讀 6 大主題，與參加者介紹回應式管教、了解和回應幼兒的情緒，和如何引導與賦予幼兒能力等理論。課程共分8節，歡迎兒童照顧者，包括家長和祖父母等參加。出席率達 80%及小測取得合格成績可獲取證書，並有機會參加中心實習和受聘成為一片天社區好幫手。 \n 
URL:https://hkcentre.onesky.org/event/%e7%85%a7%e9%a1%a7%e8%80%85%e5%9f%b9%e8%a8%93%e8%aa%b2%e7%a8%8b-12-4-9-2-5/
END:VEVENT
BEGIN:VEVENT
DTSTART;TZID=UTC:20251017T100000
DTEND;TZID=UTC:20251017T113000
DTSTAMP:20260424T215858
CREATED:20250929T004154Z
LAST-MODIFIED:20250929T004154Z
UID:11297-1760695200-1760700600@hkcentre.onesky.org
SUMMARY:親子美術活動之盲盒系列
DESCRIPTION:
URL:https://hkcentre.onesky.org/event/%e8%a6%aa%e5%ad%90%e7%be%8e%e8%a1%93%e6%b4%bb%e5%8b%95%e4%b9%8b%e7%9b%b2%e7%9b%92%e7%b3%bb%e5%88%97-3/
END:VEVENT
BEGIN:VEVENT
DTSTART;TZID=UTC:20251017T100000
DTEND;TZID=UTC:20251017T113000
DTSTAMP:20260424T215858
CREATED:20250929T005104Z
LAST-MODIFIED:20250929T005104Z
UID:11320-1760695200-1760700600@hkcentre.onesky.org
SUMMARY:親子音樂活動《我愛吹泡泡》
DESCRIPTION:嘗試不同樂器和動作，齊齊玩遊戲、唱唱歌，提高小朋友對音樂的興趣。
URL:https://hkcentre.onesky.org/event/%e8%a6%aa%e5%ad%90%e9%9f%b3%e6%a8%82%e6%b4%bb%e5%8b%95%e3%80%8a%e6%88%91%e6%84%9b%e5%90%b9%e6%b3%a1%e6%b3%a1%e3%80%8b-2/
END:VEVENT
BEGIN:VEVENT
DTSTART;TZID=UTC:20251017T140000
DTEND;TZID=UTC:20251017T160000
DTSTAMP:20260424T215858
CREATED:20250731T043231Z
LAST-MODIFIED:20250731T043231Z
UID:10784-1760709600-1760716800@hkcentre.onesky.org
SUMMARY:10月照顧者培訓課程
DESCRIPTION:課程圍繞成長、照顧、管教、情緒、遊戲和閱讀 6 大主題，與參加者介紹回應式管教、了解和回應幼兒的情緒，和如何引導與賦予幼兒能力等理論。課程共分8節，歡迎兒童照顧者，包括家長和祖父母等參加。出席率達 80%及小測取得合格成績可獲取證書，並有機會參加中心實習和受聘成為一片天社區好幫手。 \n 
URL:https://hkcentre.onesky.org/event/%e7%85%a7%e9%a1%a7%e8%80%85%e5%9f%b9%e8%a8%93%e8%aa%b2%e7%a8%8b-12-4-9-2-9-5/
END:VEVENT
END:VCALENDAR