BEGIN:VCALENDAR
VERSION:2.0
PRODID:-//OneSky Hong Kong Centre - ECPv6.15.5//NONSGML v1.0//EN
CALSCALE:GREGORIAN
METHOD:PUBLISH
X-ORIGINAL-URL:https://hkcentre.onesky.org
X-WR-CALDESC:OneSky Hong Kong Centre的活动
REFRESH-INTERVAL;VALUE=DURATION:PT1H
X-Robots-Tag:noindex
X-PUBLISHED-TTL:PT1H
BEGIN:VTIMEZONE
TZID:UTC
BEGIN:STANDARD
TZOFFSETFROM:+0000
TZOFFSETTO:+0000
TZNAME:UTC
DTSTART:20250101T000000
END:STANDARD
END:VTIMEZONE
BEGIN:VEVENT
DTSTART;TZID=UTC:20251103T100000
DTEND;TZID=UTC:20251103T113000
DTSTAMP:20260425T005118
CREATED:20251027T055522Z
LAST-MODIFIED:20251027T055522Z
UID:11379-1762164000-1762169400@hkcentre.onesky.org
SUMMARY:照顧者活動 - 編織杯套DIY
DESCRIPTION:
URL:https://hkcentre.onesky.org/event/%e7%85%a7%e9%a1%a7%e8%80%85%e6%b4%bb%e5%8b%95-%e7%b7%a8%e7%b9%94%e6%9d%af%e5%a5%97diy/
END:VEVENT
END:VCALENDAR