BEGIN:VCALENDAR
VERSION:2.0
PRODID:-//OneSky Hong Kong Centre - ECPv6.15.5//NONSGML v1.0//EN
CALSCALE:GREGORIAN
METHOD:PUBLISH
X-WR-CALNAME:OneSky Hong Kong Centre
X-ORIGINAL-URL:https://hkcentre.onesky.org
X-WR-CALDESC:OneSky Hong Kong Centre的活动
REFRESH-INTERVAL;VALUE=DURATION:PT1H
X-Robots-Tag:noindex
X-PUBLISHED-TTL:PT1H
BEGIN:VTIMEZONE
TZID:UTC
BEGIN:STANDARD
TZOFFSETFROM:+0000
TZOFFSETTO:+0000
TZNAME:UTC
DTSTART:20250101T000000
END:STANDARD
END:VTIMEZONE
BEGIN:VEVENT
DTSTART;TZID=UTC:20250903T100000
DTEND;TZID=UTC:20250903T113000
DTSTAMP:20260424T230831
CREATED:20250814T064507Z
LAST-MODIFIED:20250814T064507Z
UID:10935-1756893600-1756899000@hkcentre.onesky.org
SUMMARY:0-2歲親子主題班
DESCRIPTION:九月份的主題是《幫助我們的人》。與孩子參加從星期二至星期六舉辦的親子活動遊戲班，活動包括繪本閱讀、團隊遊戲、自由遊戲、唱遊、圖工等豐富多樣的內容。一片天老師將會與各位照顧者分享不同的育兒知識及技巧，讓您在輕鬆愉快的氛圍中學習和成長。每節活動的時間為1.5小時，內容充實而有趣，立即報名，與我們一起度過愉快的時光！ \n 
URL:https://hkcentre.onesky.org/event/0-2%e6%ad%b2%e8%a6%aa%e5%ad%90%e4%b8%bb%e9%a1%8c%e7%8f%ad-9-5/
END:VEVENT
BEGIN:VEVENT
DTSTART;TZID=UTC:20250902T170000
DTEND;TZID=UTC:20250902T183000
DTSTAMP:20260424T230831
CREATED:20250814T070534Z
LAST-MODIFIED:20250814T070534Z
UID:10987-1756832400-1756837800@hkcentre.onesky.org
SUMMARY:3-5歲主題班
DESCRIPTION:九月份的主題是《幫助我們的人》。與孩子參加從星期二至星期六舉辦的親子活動遊戲班，活動包括繪本閱讀、團隊遊戲、自由遊戲、唱遊、圖工等豐富多樣的內容。一片天老師將會與各位照顧者分享不同的育兒知識及技巧，讓您在輕鬆愉快的氛圍中學習和成長。每節活動的時間為1.5小時，內容充實而有趣，立即報名，與我們一起度過愉快的時光！ \n 
URL:https://hkcentre.onesky.org/event/3-5%e6%ad%b2%e4%b8%bb%e9%a1%8c%e7%8f%ad-3-2/
END:VEVENT
BEGIN:VEVENT
DTSTART;TZID=UTC:20250902T100000
DTEND;TZID=UTC:20250902T113000
DTSTAMP:20260424T230831
CREATED:20250814T065113Z
LAST-MODIFIED:20250814T065113Z
UID:10963-1756807200-1756812600@hkcentre.onesky.org
SUMMARY:0-2歲親子主題班
DESCRIPTION:九月份的主題是《幫助我們的人》。與孩子參加從星期二至星期六舉辦的親子活動遊戲班，活動包括繪本閱讀、團隊遊戲、自由遊戲、唱遊、圖工等豐富多樣的內容。一片天老師將會與各位照顧者分享不同的育兒知識及技巧，讓您在輕鬆愉快的氛圍中學習和成長。每節活動的時間為1.5小時，內容充實而有趣，立即報名，與我們一起渡過愉快的時光！ \n 
URL:https://hkcentre.onesky.org/event/0-2%e6%ad%b2%e8%a6%aa%e5%ad%90%e4%b8%bb%e9%a1%8c%e7%8f%ad-9-2/
END:VEVENT
BEGIN:VEVENT
DTSTART;TZID=UTC:20250830T130000
DTEND;TZID=UTC:20250830T143000
DTSTAMP:20260424T230831
CREATED:20250731T041816Z
LAST-MODIFIED:20250731T041816Z
UID:10739-1756558800-1756564200@hkcentre.onesky.org
SUMMARY:親子美術班
DESCRIPTION:本活動透過親子共同參與，讓照顧者與幼兒參與手作活動，有效釋放幼兒情緒，促進親子間的親密關係。在創作過程中鼓勵幼兒發揮自主性，藉此提升自信心，培養他們對藝術的濃厚興趣。
URL:https://hkcentre.onesky.org/event/%e8%a6%aa%e5%ad%90%e7%be%8e%e8%a1%93%e7%8f%ad/
END:VEVENT
BEGIN:VEVENT
DTSTART;TZID=UTC:20250830T100000
DTEND;TZID=UTC:20250830T163000
DTSTAMP:20260424T230831
CREATED:20250814T063906Z
LAST-MODIFIED:20250814T063906Z
UID:10928-1756548000-1756571400@hkcentre.onesky.org
SUMMARY:開學祭
DESCRIPTION:與孩子一同迎接新學年！\n新學年即將到來，你和孩子準備好了嗎？一片天特別為升讀幼稚園或小學的學生及家長，設計了「開學祭 – 裝備家長工作坊」，透過實用技巧與親子活動，讓你和孩子以最佳狀態迎接新挑戰！ \n本次工作坊將有兩場特別分享會，專為不同階段的家庭設計： \n幼稚園組：上午10:00 – 11:30 \n小學組：下午3:00 – 4:30 \n我們還預備了DIY 開學用品和開學減壓小遊戲，與大家一起為開學做好準備! \n 
URL:https://hkcentre.onesky.org/event/%e9%96%8b%e5%ad%b8%e7%a5%ad/
END:VEVENT
BEGIN:VEVENT
DTSTART;TZID=UTC:20250829T153000
DTEND;TZID=UTC:20250829T183000
DTSTAMP:20260424T230831
CREATED:20250731T085257Z
LAST-MODIFIED:20250731T085257Z
UID:10888-1756481400-1756492200@hkcentre.onesky.org
SUMMARY:一片天畢業禮暨暑假樂滿FUN閉幕典禮
DESCRIPTION:暑假即將進入尾聲，讓我們一起用歡樂和溫馨為這個夏天畫下完美句點！ \n我們誠摯邀請您參與「一片天畢業禮暨暑假樂滿Fun閉幕典禮」。當天除了有豐盛的大食會，我們還會一起製作獨一無二的成長相冊，記錄孩子們在中心的珍貴回憶。 \n精彩活動包括： \n\n溫馨大食會\nDIY成長相冊製作\n精彩分享及個人留影\n專為畢業生及曾參與暑假活動的哥哥姐姐而設的2樓專享遊戲時段。\n\n活動對象： \n\n出生於2018年-2019年8月之幼兒\n曾參與「暑假樂滿Fun」之兒童
URL:https://hkcentre.onesky.org/event/%e4%b8%80%e7%89%87%e5%a4%a9%e7%95%a2%e6%a5%ad%e7%a6%ae%e6%9a%a8%e6%9a%91%e5%81%87%e6%a8%82%e6%bb%bffun%e9%96%89%e5%b9%95%e5%85%b8%e7%a6%ae/
END:VEVENT
BEGIN:VEVENT
DTSTART;TZID=UTC:20250829T100000
DTEND;TZID=UTC:20250829T113000
DTSTAMP:20260424T230831
CREATED:20250731T033501Z
LAST-MODIFIED:20250731T033501Z
UID:10608-1756461600-1756467000@hkcentre.onesky.org
SUMMARY:哥哥姐姐活動之開心英語遊蹤
DESCRIPTION:
URL:https://hkcentre.onesky.org/event/%e5%93%a5%e5%93%a5%e5%a7%90%e5%a7%90%e6%b4%bb%e5%8b%95%e4%b9%8b%e9%96%8b%e5%bf%83%e8%8b%b1%e8%aa%9e%e9%81%8a%e8%b9%a4-5/
END:VEVENT
BEGIN:VEVENT
DTSTART;TZID=UTC:20250828T170000
DTEND;TZID=UTC:20250828T183000
DTSTAMP:20260424T230831
CREATED:20250731T044529Z
LAST-MODIFIED:20250731T044529Z
UID:10837-1756400400-1756405800@hkcentre.onesky.org
SUMMARY:0-2歲親子主題班
DESCRIPTION:與孩子參加從星期二至星期六舉辦的親子活動遊戲班，活動包括繪本閱讀、團隊遊戲、自由遊戲、唱遊、圖工等豐富多樣的內容。一片天老師將會與各位照顧者分享不同的育兒知識及技巧，讓您在輕鬆愉快的氛圍中學習和成長。每節活動的時間為1.5小時，內容充實而有趣，立即報名，與我們一起度過愉快的時光！ \n 
URL:https://hkcentre.onesky.org/event/0-2%e6%ad%b2%e8%a6%aa%e5%ad%90%e4%b8%bb%e9%a1%8c%e7%8f%ad-5-7-3-5/
END:VEVENT
BEGIN:VEVENT
DTSTART;TZID=UTC:20250828T163000
DTEND;TZID=UTC:20250828T180000
DTSTAMP:20260424T230831
CREATED:20250731T034816Z
LAST-MODIFIED:20250731T034816Z
UID:10705-1756398600-1756404000@hkcentre.onesky.org
SUMMARY:哥哥姐姐活動之暑期功課輔導班
DESCRIPTION:
URL:https://hkcentre.onesky.org/event/%e5%93%a5%e5%93%a5%e5%a7%90%e5%a7%90%e6%b4%bb%e5%8b%95%e4%b9%8b%e5%89%b5%e6%84%8f%e6%89%8b%e5%b7%a5%e8%97%9d%e7%8f%ad-11/
END:VEVENT
BEGIN:VEVENT
DTSTART;TZID=UTC:20250828T150000
DTEND;TZID=UTC:20250828T163000
DTSTAMP:20260424T230831
CREATED:20250731T034031Z
LAST-MODIFIED:20250731T034031Z
UID:10643-1756393200-1756398600@hkcentre.onesky.org
SUMMARY:哥哥姐姐活動之動手做實驗
DESCRIPTION:
URL:https://hkcentre.onesky.org/event/%e5%93%a5%e5%93%a5%e5%a7%90%e5%a7%90%e6%b4%bb%e5%8b%95%e4%b9%8b%e5%8b%95%e6%89%8b%e5%81%9a%e5%af%a6%e9%a9%97-4/
END:VEVENT
BEGIN:VEVENT
DTSTART;TZID=UTC:20250828T150000
DTEND;TZID=UTC:20250828T163000
DTSTAMP:20260424T230831
CREATED:20250731T033648Z
LAST-MODIFIED:20250731T033648Z
UID:10620-1756393200-1756398600@hkcentre.onesky.org
SUMMARY:哥哥姐姐活動之小食製作活動
DESCRIPTION:
URL:https://hkcentre.onesky.org/event/%e5%93%a5%e5%93%a5%e5%a7%90%e5%a7%90%e6%b4%bb%e5%8b%95%e4%b9%8b%e5%b0%8f%e9%a3%9f%e8%a3%bd%e4%bd%9c%e6%b4%bb%e5%8b%95-5/
END:VEVENT
BEGIN:VEVENT
DTSTART;TZID=UTC:20250828T113000
DTEND;TZID=UTC:20250828T130000
DTSTAMP:20260424T230831
CREATED:20250731T034333Z
LAST-MODIFIED:20250731T034333Z
UID:10664-1756380600-1756386000@hkcentre.onesky.org
SUMMARY:哥哥姐姐活動之小學生走出一片天
DESCRIPTION:
URL:https://hkcentre.onesky.org/event/%e5%93%a5%e5%93%a5%e5%a7%90%e5%a7%90%e6%b4%bb%e5%8b%95%e4%b9%8b%e5%b0%8f%e5%ad%b8%e7%94%9f%e8%b5%b0%e5%87%ba%e4%b8%80%e7%89%87%e5%a4%a9-4/
END:VEVENT
BEGIN:VEVENT
DTSTART;TZID=UTC:20250828T100000
DTEND;TZID=UTC:20250828T113000
DTSTAMP:20260424T230831
CREATED:20250731T044250Z
LAST-MODIFIED:20250731T044250Z
UID:10824-1756375200-1756380600@hkcentre.onesky.org
SUMMARY:0-2歲親子主題班
DESCRIPTION:與孩子參加從星期二至星期六舉辦的親子活動遊戲班，活動包括繪本閱讀、團隊遊戲、自由遊戲、唱遊、圖工等豐富多樣的內容。一片天老師將會與各位照顧者分享不同的育兒知識及技巧，讓您在輕鬆愉快的氛圍中學習和成長。每節活動的時間為1.5小時，內容充實而有趣，立即報名，與我們一起度過愉快的時光！ \n 
URL:https://hkcentre.onesky.org/event/0-2%e6%ad%b2%e8%a6%aa%e5%ad%90%e4%b8%bb%e9%a1%8c%e7%8f%ad-8-28/
END:VEVENT
BEGIN:VEVENT
DTSTART;TZID=UTC:20250828T100000
DTEND;TZID=UTC:20250828T113000
DTSTAMP:20260424T230831
CREATED:20250731T032553Z
LAST-MODIFIED:20250731T032553Z
UID:10551-1756375200-1756380600@hkcentre.onesky.org
SUMMARY:哥哥姐姐活動之桌遊樂繽紛
DESCRIPTION:
URL:https://hkcentre.onesky.org/event/%e5%93%a5%e5%93%a5%e5%a7%90%e5%a7%90%e6%b4%bb%e5%8b%95%e4%b9%8b%e6%a1%8c%e9%81%8a%e6%a8%82%e7%b9%bd%e7%b4%9b-5/
END:VEVENT
BEGIN:VEVENT
DTSTART;TZID=UTC:20250828T013000
DTEND;TZID=UTC:20250828T153000
DTSTAMP:20260424T230831
CREATED:20250731T042051Z
LAST-MODIFIED:20250731T042051Z
UID:10745-1756344600-1756395000@hkcentre.onesky.org
SUMMARY:走出一片天－「站見」鐵路展
DESCRIPTION:誠摯邀請幼兒與家庭一同參與「站見」鐵路展，與幼兒一起走出中心，探索列車的幕後運作與鐵路的小秘密。這趟獨特的旅程，將帶領我們走進鐵路世界，一同學習。
URL:https://hkcentre.onesky.org/event/%e8%b5%b0%e5%87%ba%e4%b8%80%e7%89%87%e5%a4%a9%ef%bc%8d%e3%80%8c%e7%ab%99%e8%a6%8b%e3%80%8d%e9%90%b5%e8%b7%af%e5%b1%95-2/
END:VEVENT
BEGIN:VEVENT
DTSTART;TZID=UTC:20250827T170000
DTEND;TZID=UTC:20250827T180000
DTSTAMP:20260424T230831
CREATED:20250717T053342Z
LAST-MODIFIED:20250717T053342Z
UID:10461-1756314000-1756317600@hkcentre.onesky.org
SUMMARY:中秋長幼工作坊-冰皮月餅
DESCRIPTION:這個中秋，我們邀請長輩與年輕一代一起動手做冰皮月餅！在溫馨的互動中，分享手作的樂趣，傳承節日的溫暖。透過共同製作月餅，促進跨代交流，創造屬於你們的中秋回憶。名額有限，立即報名參加！
URL:https://hkcentre.onesky.org/event/%e4%b8%ad%e7%a7%8b%e9%95%b7%e5%b9%bc%e5%b7%a5%e4%bd%9c%e5%9d%8a-%e5%86%b0%e7%9a%ae%e6%9c%88%e9%a4%85-3/
END:VEVENT
BEGIN:VEVENT
DTSTART;TZID=UTC:20250827T163000
DTEND;TZID=UTC:20250827T180000
DTSTAMP:20260424T230831
CREATED:20250731T034810Z
LAST-MODIFIED:20250731T034810Z
UID:10704-1756312200-1756317600@hkcentre.onesky.org
SUMMARY:哥哥姐姐活動之暑期功課輔導班
DESCRIPTION:
URL:https://hkcentre.onesky.org/event/%e5%93%a5%e5%93%a5%e5%a7%90%e5%a7%90%e6%b4%bb%e5%8b%95%e4%b9%8b%e5%89%b5%e6%84%8f%e6%89%8b%e5%b7%a5%e8%97%9d%e7%8f%ad-10/
END:VEVENT
BEGIN:VEVENT
DTSTART;TZID=UTC:20250827T150000
DTEND;TZID=UTC:20250827T163000
DTSTAMP:20260424T230831
CREATED:20250731T033011Z
LAST-MODIFIED:20250731T033011Z
UID:10577-1756306800-1756312200@hkcentre.onesky.org
SUMMARY:哥哥姐姐活動之創意手工藝
DESCRIPTION:
URL:https://hkcentre.onesky.org/event/%e5%93%a5%e5%93%a5%e5%a7%90%e5%a7%90%e6%b4%bb%e5%8b%95%e4%b9%8b%e5%89%b5%e6%84%8f%e6%89%8b%e5%b7%a5%e8%97%9d-4/
END:VEVENT
BEGIN:VEVENT
DTSTART;TZID=UTC:20250827T133000
DTEND;TZID=UTC:20250827T150000
DTSTAMP:20260424T230831
CREATED:20250731T033352Z
LAST-MODIFIED:20250731T033352Z
UID:10598-1756301400-1756306800@hkcentre.onesky.org
SUMMARY:哥哥姐姐活動之主題:開心英語遊蹤
DESCRIPTION:
URL:https://hkcentre.onesky.org/event/%e5%93%a5%e5%93%a5%e5%a7%90%e5%a7%90%e6%b4%bb%e5%8b%95%e4%b9%8b%e4%b8%bb%e9%a1%8c%e9%96%8b%e5%bf%83%e8%8b%b1%e8%aa%9e%e9%81%8a%e8%b9%a4-4/
END:VEVENT
BEGIN:VEVENT
DTSTART;TZID=UTC:20250827T113000
DTEND;TZID=UTC:20250827T130000
DTSTAMP:20260424T230831
CREATED:20250731T035111Z
LAST-MODIFIED:20250731T035111Z
UID:10715-1756294200-1756299600@hkcentre.onesky.org
SUMMARY:暑期兒童美術活動
DESCRIPTION:今個暑假一片天與 Gowld Art Centre 合作，攜手推出專為幼兒設計的藝術啟蒙課。課程由韓籍藝術導師負責，透過趣味繪畫活動，讓孩子在色彩與線條中激發無限想像力，同時自然學習英文詞彙。活動適合2-6歲幼兒及照顧者。 \n 
URL:https://hkcentre.onesky.org/event/%e6%9a%91%e6%9c%9f%e5%85%92%e7%ab%a5%e7%be%8e%e8%a1%93%e6%b4%bb%e5%8b%95-5-5-4/
END:VEVENT
BEGIN:VEVENT
DTSTART;TZID=UTC:20250827T100000
DTEND;TZID=UTC:20250827T113000
DTSTAMP:20260424T230832
CREATED:20250731T044240Z
LAST-MODIFIED:20250731T044240Z
UID:10821-1756288800-1756294200@hkcentre.onesky.org
SUMMARY:0-2歲親子主題班
DESCRIPTION:與孩子參加從星期二至星期六舉辦的親子活動遊戲班，活動包括繪本閱讀、團隊遊戲、自由遊戲、唱遊、圖工等豐富多樣的內容。一片天老師將會與各位照顧者分享不同的育兒知識及技巧，讓您在輕鬆愉快的氛圍中學習和成長。每節活動的時間為1.5小時，內容充實而有趣，立即報名，與我們一起度過愉快的時光！ \n 
URL:https://hkcentre.onesky.org/event/0-2%e6%ad%b2%e8%a6%aa%e5%ad%90%e4%b8%bb%e9%a1%8c%e7%8f%ad-8-27/
END:VEVENT
BEGIN:VEVENT
DTSTART;TZID=UTC:20250827T100000
DTEND;TZID=UTC:20250827T113000
DTSTAMP:20260424T230832
CREATED:20250731T034435Z
LAST-MODIFIED:20250731T034435Z
UID:10673-1756288800-1756294200@hkcentre.onesky.org
SUMMARY:哥哥姐姐活動之繪本多樂趣
DESCRIPTION:
URL:https://hkcentre.onesky.org/event/%e5%93%a5%e5%93%a5%e5%a7%90%e5%a7%90%e6%b4%bb%e5%8b%95%e4%b9%8b%e7%b9%aa%e6%9c%ac%e5%a4%9a%e6%a8%82%e8%b6%a3-4/
END:VEVENT
BEGIN:VEVENT
DTSTART;TZID=UTC:20250826T170000
DTEND;TZID=UTC:20250826T183000
DTSTAMP:20260424T230832
CREATED:20250731T044754Z
LAST-MODIFIED:20250731T044754Z
UID:10849-1756227600-1756233000@hkcentre.onesky.org
SUMMARY:3-5歲親子主題班
DESCRIPTION:與孩子參加從星期二至星期六舉辦的親子活動遊戲班，活動包括繪本閱讀、團隊遊戲、自由遊戲、唱遊、圖工等豐富多樣的內容。一片天老師將會與各位照顧者分享不同的育兒知識及技巧，讓您在輕鬆愉快的氛圍中學習和成長。每節活動的時間為1.5小時，內容充實而有趣，立即報名，與我們一起度過愉快的時光！ \n 
URL:https://hkcentre.onesky.org/event/0-2%e6%ad%b2%e8%a6%aa%e5%ad%90%e4%b8%bb%e9%a1%8c%e7%8f%ad-5-7-5-9/
END:VEVENT
BEGIN:VEVENT
DTSTART;TZID=UTC:20250826T113000
DTEND;TZID=UTC:20250826T130000
DTSTAMP:20260424T230832
CREATED:20250731T035208Z
LAST-MODIFIED:20250731T035208Z
UID:10721-1756207800-1756213200@hkcentre.onesky.org
SUMMARY:暑期兒童美術活動
DESCRIPTION:今個暑假一片天與 Gowld Art Centre 合作，攜手推出專為幼兒設計的藝術啟蒙課。課程由韓籍藝術導師負責，透過趣味繪畫活動，讓孩子在色彩與線條中激發無限想像力，同時自然學習英文詞彙。活動適合2-6歲幼兒及照顧者。 \n 
URL:https://hkcentre.onesky.org/event/%e6%9a%91%e6%9c%9f%e5%85%92%e7%ab%a5%e7%be%8e%e8%a1%93%e6%b4%bb%e5%8b%95-5-5-7/
END:VEVENT
BEGIN:VEVENT
DTSTART;TZID=UTC:20250826T100000
DTEND;TZID=UTC:20250826T113000
DTSTAMP:20260424T230832
CREATED:20250731T044231Z
LAST-MODIFIED:20250731T044231Z
UID:10819-1756202400-1756207800@hkcentre.onesky.org
SUMMARY:0-2歲親子主題班
DESCRIPTION:與孩子參加從星期二至星期六舉辦的親子活動遊戲班，活動包括繪本閱讀、團隊遊戲、自由遊戲、唱遊、圖工等豐富多樣的內容。一片天老師將會與各位照顧者分享不同的育兒知識及技巧，讓您在輕鬆愉快的氛圍中學習和成長。每節活動的時間為1.5小時，內容充實而有趣，立即報名，與我們一起度過愉快的時光！ \n 
URL:https://hkcentre.onesky.org/event/0-2%e6%ad%b2%e8%a6%aa%e5%ad%90%e4%b8%bb%e9%a1%8c%e7%8f%ad-8-26/
END:VEVENT
BEGIN:VEVENT
DTSTART;TZID=UTC:20250826T100000
DTEND;TZID=UTC:20250826T113000
DTSTAMP:20260424T230832
CREATED:20250731T032656Z
LAST-MODIFIED:20250731T032656Z
UID:10562-1756202400-1756207800@hkcentre.onesky.org
SUMMARY:哥哥姐姐活動之桌遊樂繽紛
DESCRIPTION:
URL:https://hkcentre.onesky.org/event/%e5%93%a5%e5%93%a5%e5%a7%90%e5%a7%90%e6%b4%bb%e5%8b%95%e4%b9%8b%e6%a1%8c%e9%81%8a%e6%a8%82%e7%b9%bd%e7%b4%9b-8/
END:VEVENT
BEGIN:VEVENT
DTSTART;TZID=UTC:20250825T150000
DTEND;TZID=UTC:20250825T174500
DTSTAMP:20260424T230832
CREATED:20250717T051352Z
LAST-MODIFIED:20250717T051352Z
UID:10452-1756134000-1756143900@hkcentre.onesky.org
SUMMARY:親子繪本創作樂
DESCRIPTION:相信每個小朋友都有一本最愛的繪本。這次我們邀請家長與孩子一起，以「食物」為主題，創作屬於自己的繪本！我們會介紹各種與食物相關的繪本，引導親子共同構思、創作。透過過程培養孩子的創造力、想像力和表達能力。讓孩子成為小小故事家，從閱讀到創作，開啟無限可能！適合3-5歲的幼兒及其照顧者參加\, 亦歡迎哥哥姐姐參與。
URL:https://hkcentre.onesky.org/event/%e8%a6%aa%e5%ad%90%e7%b9%aa%e6%9c%ac%e5%89%b5%e4%bd%9c%e6%a8%82-4/
END:VEVENT
BEGIN:VEVENT
DTSTART;TZID=UTC:20250824T103000
DTEND;TZID=UTC:20250824T163000
DTSTAMP:20260424T230832
CREATED:20250731T035711Z
LAST-MODIFIED:20250731T035711Z
UID:10734-1756031400-1756053000@hkcentre.onesky.org
SUMMARY:一片天夏日樂滿FUN 嘉年華
DESCRIPTION:為暑假添樂趣，並為區內家庭帶來充滿歡樂與互動的體驗，一片天將於 2025年8月23日（星期六）及8月24日（星期日）10:30 – 16:30 舉辦 「一片天夏日樂滿Fun嘉年華」。這次活動專為 0-12歲兒童及其照顧者而設，將與區內不同慈善團體合辦多個趣味攤位、互動遊戲和創意手作坊等，希望為孩子和家庭留下難忘的暑假回憶。\n\n活動詳情：一片天夏日樂滿Fun嘉年華\n日期：2025年8月23日（星期六）及8月24日（星期日）\n時間：10:30 – 16:30\n地點：香港九龍深水埗青山道25-35號永勝大樓地下一樓及二樓李伯忠一片天國際啟育中心
URL:https://hkcentre.onesky.org/event/%e4%b8%80%e7%89%87%e5%a4%a9%e5%a4%8f%e6%97%a5%e6%a8%82%e6%bb%bffun-%e5%98%89%e5%b9%b4%e8%8f%af-2/
END:VEVENT
BEGIN:VEVENT
DTSTART;TZID=UTC:20250823T103000
DTEND;TZID=UTC:20250823T163000
DTSTAMP:20260424T230832
CREATED:20250731T035646Z
LAST-MODIFIED:20250731T035646Z
UID:10731-1755945000-1755966600@hkcentre.onesky.org
SUMMARY:一片天夏日樂滿FUN 嘉年華
DESCRIPTION:為暑假添樂趣，並為區內家庭帶來充滿歡樂與互動的體驗，一片天將於 2025年8月23日（星期六）及8月24日（星期日）10:30 – 16:30 舉辦 「一片天夏日樂滿Fun嘉年華」。這次活動專為 0-12歲兒童及其照顧者而設，將與區內不同慈善團體合辦多個趣味攤位、互動遊戲和創意手作坊等，希望為孩子和家庭留下難忘的暑假回憶。\n\n活動詳情：一片天夏日樂滿Fun嘉年華\n日期：2025年8月23日（星期六）及8月24日（星期日）\n時間：10:30 – 16:30\n地點：香港九龍深水埗青山道25-35號永勝大樓地下一樓及二樓李伯忠一片天國際啟育中心
URL:https://hkcentre.onesky.org/event/%e4%b8%80%e7%89%87%e5%a4%a9%e5%a4%8f%e6%97%a5%e6%a8%82%e6%bb%bffun-%e5%98%89%e5%b9%b4%e8%8f%af/
END:VEVENT
BEGIN:VEVENT
DTSTART;TZID=UTC:20250822T163000
DTEND;TZID=UTC:20250822T180000
DTSTAMP:20260424T230832
CREATED:20250731T034737Z
LAST-MODIFIED:20250731T034737Z
UID:10697-1755880200-1755885600@hkcentre.onesky.org
SUMMARY:哥哥姐姐活動之暑期功課輔導班
DESCRIPTION:
URL:https://hkcentre.onesky.org/event/%e5%93%a5%e5%93%a5%e5%a7%90%e5%a7%90%e6%b4%bb%e5%8b%95%e4%b9%8b%e5%89%b5%e6%84%8f%e6%89%8b%e5%b7%a5%e8%97%9d%e7%8f%ad-9/
END:VEVENT
END:VCALENDAR