BEGIN:VCALENDAR
VERSION:2.0
PRODID:-//OneSky Hong Kong Centre - ECPv6.15.5//NONSGML v1.0//EN
CALSCALE:GREGORIAN
METHOD:PUBLISH
X-WR-CALNAME:OneSky Hong Kong Centre
X-ORIGINAL-URL:https://hkcentre.onesky.org
X-WR-CALDESC:OneSky Hong Kong Centre的活动
REFRESH-INTERVAL;VALUE=DURATION:PT1H
X-Robots-Tag:noindex
X-PUBLISHED-TTL:PT1H
BEGIN:VTIMEZONE
TZID:UTC
BEGIN:STANDARD
TZOFFSETFROM:+0000
TZOFFSETTO:+0000
TZNAME:UTC
DTSTART:20250101T000000
END:STANDARD
END:VTIMEZONE
BEGIN:VEVENT
DTSTART;TZID=UTC:20251031T140000
DTEND;TZID=UTC:20251031T160000
DTSTAMP:20260425T033457
CREATED:20250731T043247Z
LAST-MODIFIED:20250731T043247Z
UID:10786-1761919200-1761926400@hkcentre.onesky.org
SUMMARY:10月照顧者培訓課程
DESCRIPTION:課程圍繞成長、照顧、管教、情緒、遊戲和閱讀 6 大主題，與參加者介紹回應式管教、了解和回應幼兒的情緒，和如何引導與賦予幼兒能力等理論。課程共分8節，歡迎兒童照顧者，包括家長和祖父母等參加。出席率達 80%及小測取得合格成績可獲取證書，並有機會參加中心實習和受聘成為一片天社區好幫手。 \n 
URL:https://hkcentre.onesky.org/event/%e7%85%a7%e9%a1%a7%e8%80%85%e5%9f%b9%e8%a8%93%e8%aa%b2%e7%a8%8b-12-4-9-2-9-7/
END:VEVENT
BEGIN:VEVENT
DTSTART;TZID=UTC:20251031T094500
DTEND;TZID=UTC:20251031T114500
DTSTAMP:20260425T033457
CREATED:20250731T042841Z
LAST-MODIFIED:20250731T042841Z
UID:10758-1761903900-1761911100@hkcentre.onesky.org
SUMMARY:10月照顧者培訓課程
DESCRIPTION:課程圍繞成長、照顧、管教、情緒、遊戲和閱讀 6 大主題，與參加者介紹回應式管教、了解和回應幼兒的情緒，和如何引導與賦予幼兒能力等理論。課程共分8節，歡迎兒童照顧者，包括家長和祖父母等參加。出席率達 80%及小測取得合格成績可獲取證書，並有機會參加中心實習和受聘成為一片天社區好幫手。 \n 
URL:https://hkcentre.onesky.org/event/%e7%85%a7%e9%a1%a7%e8%80%85%e5%9f%b9%e8%a8%93%e8%aa%b2%e7%a8%8b-12-4-9-2-8/
END:VEVENT
BEGIN:VEVENT
DTSTART;TZID=UTC:20251030T143000
DTEND;TZID=UTC:20251030T160000
DTSTAMP:20260425T033457
CREATED:20251027T060802Z
LAST-MODIFIED:20251027T060802Z
UID:11421-1761834600-1761840000@hkcentre.onesky.org
SUMMARY:照顧者活動：蝴蝶結電話繩
DESCRIPTION:
URL:https://hkcentre.onesky.org/event/%e7%85%a7%e9%a1%a7%e8%80%85%e6%b4%bb%e5%8b%95%ef%bc%9a%e8%9d%b4%e8%9d%b6%e7%b5%90%e9%9b%bb%e8%a9%b1%e7%b9%a9/
END:VEVENT
BEGIN:VEVENT
DTSTART;TZID=UTC:20251030T100000
DTEND;TZID=UTC:20251030T113000
DTSTAMP:20260425T033457
CREATED:20251027T055706Z
LAST-MODIFIED:20251027T055706Z
UID:11385-1761818400-1761823800@hkcentre.onesky.org
SUMMARY:嬉水房：質感遊戲之食物大戰
DESCRIPTION:
URL:https://hkcentre.onesky.org/event/%e5%ac%89%e6%b0%b4%e6%88%bf%ef%bc%9a%e8%b3%aa%e6%84%9f%e9%81%8a%e6%88%b2%e4%b9%8b%e9%a3%9f%e7%89%a9%e5%a4%a7%e6%88%b0/
END:VEVENT
BEGIN:VEVENT
DTSTART;TZID=UTC:20251028T170000
DTEND;TZID=UTC:20251028T183000
DTSTAMP:20260425T033457
CREATED:20250908T014710Z
LAST-MODIFIED:20250908T014710Z
UID:11133-1761670800-1761676200@hkcentre.onesky.org
SUMMARY:3-5歲主題班
DESCRIPTION:10月份的主題是《大自然世界》。與孩子參加從星期二至星期六舉辦的親子活動遊戲班，活動包括繪本閱讀、團隊遊戲、自由遊戲、唱遊、圖工等豐富多樣的內容。一片天老師將會與各位照顧者分享不同的育兒知識及技巧，讓您在輕鬆愉快的氛圍中學習和成長。每節活動的時間為1.5小時，內容充實而有趣，立即報名，與我們一起度過愉快的時光！ \n 
URL:https://hkcentre.onesky.org/event/3-5%e6%ad%b2%e4%b8%bb%e9%a1%8c%e7%8f%ad-10-28/
END:VEVENT
BEGIN:VEVENT
DTSTART;TZID=UTC:20251028T140000
DTEND;TZID=UTC:20251028T160000
DTSTAMP:20260425T033457
CREATED:20250731T043137Z
LAST-MODIFIED:20250731T043137Z
UID:10778-1761660000-1761667200@hkcentre.onesky.org
SUMMARY:10月照顧者培訓課程
DESCRIPTION:課程圍繞成長、照顧、管教、情緒、遊戲和閱讀 6 大主題，與參加者介紹回應式管教、了解和回應幼兒的情緒，和如何引導與賦予幼兒能力等理論。課程共分8節，歡迎兒童照顧者，包括家長和祖父母等參加。出席率達 80%及小測取得合格成績可獲取證書，並有機會參加中心實習和受聘成為一片天社區好幫手。 \n 
URL:https://hkcentre.onesky.org/event/%e7%85%a7%e9%a1%a7%e8%80%85%e5%9f%b9%e8%a8%93%e8%aa%b2%e7%a8%8b-12-4-9-2-9-3/
END:VEVENT
BEGIN:VEVENT
DTSTART;TZID=UTC:20251028T100000
DTEND;TZID=UTC:20251028T113000
DTSTAMP:20260425T033457
CREATED:20250908T014915Z
LAST-MODIFIED:20250908T014915Z
UID:11142-1761645600-1761651000@hkcentre.onesky.org
SUMMARY:3-5歲主題班
DESCRIPTION:10月份的主題是《大自然世界》。與孩子參加從星期二至星期六舉辦的親子活動遊戲班，活動包括繪本閱讀、團隊遊戲、自由遊戲、唱遊、圖工等豐富多樣的內容。一片天老師將會與各位照顧者分享不同的育兒知識及技巧，讓您在輕鬆愉快的氛圍中學習和成長。每節活動的時間為1.5小時，內容充實而有趣，立即報名，與我們一起度過愉快的時光！ \n 
URL:https://hkcentre.onesky.org/event/3-5%e6%ad%b2%e4%b8%bb%e9%a1%8c%e7%8f%ad-10-25/
END:VEVENT
BEGIN:VEVENT
DTSTART;TZID=UTC:20251028T100000
DTEND;TZID=UTC:20251028T113000
DTSTAMP:20260425T033457
CREATED:20250908T013530Z
LAST-MODIFIED:20250908T021114Z
UID:11074-1761645600-1761651000@hkcentre.onesky.org
SUMMARY:0-2歲親子主題班
DESCRIPTION:十月份的主題是《大自然世界》。與孩子參加從星期二至星期六舉辦的親子活動遊戲班，活動包括繪本閱讀、團隊遊戲、自由遊戲、唱遊、圖工等豐富多樣的內容。一片天老師將會與各位照顧者分享不同的育兒知識及技巧，讓您在輕鬆愉快的氛圍中學習和成長。每節活動的時間為1.5小時，內容充實而有趣，立即報名，與我們一起渡過愉快的時光！ \n 
URL:https://hkcentre.onesky.org/event/0-2%e6%ad%b2%e8%a6%aa%e5%ad%90%e4%b8%bb%e9%a1%8c%e7%8f%ad-10-28/
END:VEVENT
BEGIN:VEVENT
DTSTART;TZID=UTC:20251028T094500
DTEND;TZID=UTC:20251028T114500
DTSTAMP:20260425T033457
CREATED:20250731T042735Z
LAST-MODIFIED:20250731T042735Z
UID:10755-1761644700-1761651900@hkcentre.onesky.org
SUMMARY:10月照顧者培訓課程
DESCRIPTION:課程圍繞成長、照顧、管教、情緒、遊戲和閱讀 6 大主題，與參加者介紹回應式管教、了解和回應幼兒的情緒，和如何引導與賦予幼兒能力等理論。課程共分8節，歡迎兒童照顧者，包括家長和祖父母等參加。出席率達 80%及小測取得合格成績可獲取證書，並有機會參加中心實習和受聘成為一片天社區好幫手。 \n 
URL:https://hkcentre.onesky.org/event/%e7%85%a7%e9%a1%a7%e8%80%85%e5%9f%b9%e8%a8%93%e8%aa%b2%e7%a8%8b-12-4-9-2-4/
END:VEVENT
BEGIN:VEVENT
DTSTART;TZID=UTC:20251025T150000
DTEND;TZID=UTC:20251025T163000
DTSTAMP:20260425T033457
CREATED:20250908T015025Z
LAST-MODIFIED:20250908T015025Z
UID:11151-1761404400-1761409800@hkcentre.onesky.org
SUMMARY:3-5歲主題班
DESCRIPTION:10月份的主題是《大自然世界》。與孩子參加從星期二至星期六舉辦的親子活動遊戲班，活動包括繪本閱讀、團隊遊戲、自由遊戲、唱遊、圖工等豐富多樣的內容。一片天老師將會與各位照顧者分享不同的育兒知識及技巧，讓您在輕鬆愉快的氛圍中學習和成長。每節活動的時間為1.5小時，內容充實而有趣，立即報名，與我們一起度過愉快的時光！ \n 
URL:https://hkcentre.onesky.org/event/3-5%e6%ad%b2%e4%b8%bb%e9%a1%8c%e7%8f%ad-10-28-4/
END:VEVENT
BEGIN:VEVENT
DTSTART;TZID=UTC:20251025T150000
DTEND;TZID=UTC:20251025T163000
DTSTAMP:20260425T033457
CREATED:20250908T014424Z
LAST-MODIFIED:20250908T015550Z
UID:11124-1761404400-1761409800@hkcentre.onesky.org
SUMMARY:0-2歲親子主題班
DESCRIPTION:10月份的主題是《大自然世界》。與孩子參加從星期二至星期六舉辦的親子活動遊戲班，活動包括繪本閱讀、團隊遊戲、自由遊戲、唱遊、圖工等豐富多樣的內容。一片天老師將會與各位照顧者分享不同的育兒知識及技巧，讓您在輕鬆愉快的氛圍中學習和成長。每節活動的時間為1.5小時，內容充實而有趣，立即報名，與我們一起渡過愉快的時光！ \n 
URL:https://hkcentre.onesky.org/event/0-2%e6%ad%b2%e8%a6%aa%e5%ad%90%e4%b8%bb%e9%a1%8c%e7%8f%ad-10-25-2-2/
END:VEVENT
BEGIN:VEVENT
DTSTART;TZID=UTC:20251025T130000
DTEND;TZID=UTC:20251025T143000
DTSTAMP:20260425T033457
CREATED:20250908T014305Z
LAST-MODIFIED:20250908T015602Z
UID:11115-1761397200-1761402600@hkcentre.onesky.org
SUMMARY:0-2歲親子主題班
DESCRIPTION:10月份的主題是《大自然世界》。與孩子參加從星期二至星期六舉辦的親子活動遊戲班，活動包括繪本閱讀、團隊遊戲、自由遊戲、唱遊、圖工等豐富多樣的內容。一片天老師將會與各位照顧者分享不同的育兒知識及技巧，讓您在輕鬆愉快的氛圍中學習和成長。每節活動的時間為1.5小時，內容充實而有趣，立即報名，與我們一起渡過愉快的時光！ \n 
URL:https://hkcentre.onesky.org/event/0-2%e6%ad%b2%e8%a6%aa%e5%ad%90%e4%b8%bb%e9%a1%8c%e7%8f%ad-10-25-2/
END:VEVENT
BEGIN:VEVENT
DTSTART;TZID=UTC:20251025T100000
DTEND;TZID=UTC:20251025T113000
DTSTAMP:20260425T033457
CREATED:20250908T013948Z
LAST-MODIFIED:20250908T015434Z
UID:11097-1761386400-1761391800@hkcentre.onesky.org
SUMMARY:0-2歲親子主題班
DESCRIPTION:10月份的主題是《大自然世界》。與孩子參加從星期二至星期六舉辦的親子活動遊戲班，活動包括繪本閱讀、團隊遊戲、自由遊戲、唱遊、圖工等豐富多樣的內容。一片天老師將會與各位照顧者分享不同的育兒知識及技巧，讓您在輕鬆愉快的氛圍中學習和成長。每節活動的時間為1.5小時，內容充實而有趣，立即報名，與我們一起渡過愉快的時光！ \n 
URL:https://hkcentre.onesky.org/event/0-2%e6%ad%b2%e8%a6%aa%e5%ad%90%e4%b8%bb%e9%a1%8c%e7%8f%ad-10-25/
END:VEVENT
BEGIN:VEVENT
DTSTART;TZID=UTC:20251024T170000
DTEND;TZID=UTC:20251024T183000
DTSTAMP:20260425T033457
CREATED:20250918T014140Z
LAST-MODIFIED:20250918T014155Z
UID:11250-1761325200-1761330600@hkcentre.onesky.org
SUMMARY:親子繪本黏土班 - 《我和我家附近的流浪狗》
DESCRIPTION:一齊故事、一齊做手工，提高對閱讀的興趣。這次一起閱讀《我和我家附近的流浪狗》，和孩子討論流動物話題及建立孩子飼養寵物的正確觀念\, 及一起動手做黏土。
URL:https://hkcentre.onesky.org/event/%e8%a6%aa%e5%ad%90%e7%b9%aa%e6%9c%ac%e9%bb%8f%e5%9c%9f%e7%8f%ad-%e3%80%8a%e6%88%91%e5%92%8c%e6%88%91%e5%ae%b6%e9%99%84%e8%bf%91%e7%9a%84%e6%b5%81%e6%b5%aa%e7%8b%97%e3%80%8b/
END:VEVENT
BEGIN:VEVENT
DTSTART;TZID=UTC:20251024T140000
DTEND;TZID=UTC:20251024T160000
DTSTAMP:20260425T033457
CREATED:20250731T043233Z
LAST-MODIFIED:20250731T043233Z
UID:10785-1761314400-1761321600@hkcentre.onesky.org
SUMMARY:10月照顧者培訓課程
DESCRIPTION:課程圍繞成長、照顧、管教、情緒、遊戲和閱讀 6 大主題，與參加者介紹回應式管教、了解和回應幼兒的情緒，和如何引導與賦予幼兒能力等理論。課程共分8節，歡迎兒童照顧者，包括家長和祖父母等參加。出席率達 80%及小測取得合格成績可獲取證書，並有機會參加中心實習和受聘成為一片天社區好幫手。 \n 
URL:https://hkcentre.onesky.org/event/%e7%85%a7%e9%a1%a7%e8%80%85%e5%9f%b9%e8%a8%93%e8%aa%b2%e7%a8%8b-12-4-9-2-9-6/
END:VEVENT
BEGIN:VEVENT
DTSTART;TZID=UTC:20251024T094500
DTEND;TZID=UTC:20251024T114500
DTSTAMP:20260425T033457
CREATED:20250731T042802Z
LAST-MODIFIED:20250731T042802Z
UID:10757-1761299100-1761306300@hkcentre.onesky.org
SUMMARY:10月照顧者培訓課程
DESCRIPTION:課程圍繞成長、照顧、管教、情緒、遊戲和閱讀 6 大主題，與參加者介紹回應式管教、了解和回應幼兒的情緒，和如何引導與賦予幼兒能力等理論。課程共分8節，歡迎兒童照顧者，包括家長和祖父母等參加。出席率達 80%及小測取得合格成績可獲取證書，並有機會參加中心實習和受聘成為一片天社區好幫手。 \n 
URL:https://hkcentre.onesky.org/event/%e7%85%a7%e9%a1%a7%e8%80%85%e5%9f%b9%e8%a8%93%e8%aa%b2%e7%a8%8b-12-4-9-2-6/
END:VEVENT
BEGIN:VEVENT
DTSTART;TZID=UTC:20251023T170000
DTEND;TZID=UTC:20251023T183000
DTSTAMP:20260425T033457
CREATED:20250929T004219Z
LAST-MODIFIED:20250929T004219Z
UID:11300-1761238800-1761244200@hkcentre.onesky.org
SUMMARY:親子美術活動之盲盒系列
DESCRIPTION:
URL:https://hkcentre.onesky.org/event/%e8%a6%aa%e5%ad%90%e7%be%8e%e8%a1%93%e6%b4%bb%e5%8b%95%e4%b9%8b%e7%9b%b2%e7%9b%92%e7%b3%bb%e5%88%97-4/
END:VEVENT
BEGIN:VEVENT
DTSTART;TZID=UTC:20251023T170000
DTEND;TZID=UTC:20251023T183000
DTSTAMP:20260425T033457
CREATED:20250908T014127Z
LAST-MODIFIED:20250908T015522Z
UID:11106-1761238800-1761244200@hkcentre.onesky.org
SUMMARY:0-2歲親子主題班
DESCRIPTION:10月份的主題是《大自然世界》。與孩子參加從星期二至星期六舉辦的親子活動遊戲班，活動包括繪本閱讀、團隊遊戲、自由遊戲、唱遊、圖工等豐富多樣的內容。一片天老師將會與各位照顧者分享不同的育兒知識及技巧，讓您在輕鬆愉快的氛圍中學習和成長。每節活動的時間為1.5小時，內容充實而有趣，立即報名，與我們一起渡過愉快的時光！ \n 
URL:https://hkcentre.onesky.org/event/0-2%e6%ad%b2%e8%a6%aa%e5%ad%90%e4%b8%bb%e9%a1%8c%e7%8f%ad-10-23-2/
END:VEVENT
BEGIN:VEVENT
DTSTART;TZID=UTC:20251023T143000
DTEND;TZID=UTC:20251023T160000
DTSTAMP:20260425T033457
CREATED:20251015T063557Z
LAST-MODIFIED:20251015T063557Z
UID:11365-1761229800-1761235200@hkcentre.onesky.org
SUMMARY:照顧者活動 - 編織束口袋款式A
DESCRIPTION:透過認識和體驗編織\, 讓編織的過程成為正念（mindfulness）的過程。與其他照顧者一起專注編織，放下煩心的事，緩衝日常急促的生活的節奏。
URL:https://hkcentre.onesky.org/event/%e7%85%a7%e9%a1%a7%e8%80%85%e6%b4%bb%e5%8b%95-%e7%b7%a8%e7%b9%94%e6%9d%9f%e5%8f%a3%e8%a2%8b%e6%ac%be%e5%bc%8fa-3/
END:VEVENT
BEGIN:VEVENT
DTSTART;TZID=UTC:20251023T100000
DTEND;TZID=UTC:20251023T113000
DTSTAMP:20260425T033457
CREATED:20250908T013833Z
LAST-MODIFIED:20250908T015451Z
UID:11088-1761213600-1761219000@hkcentre.onesky.org
SUMMARY:0-2歲親子主題班
DESCRIPTION:10月份的主題是《大自然世界》。與孩子參加從星期二至星期六舉辦的親子活動遊戲班，活動包括繪本閱讀、團隊遊戲、自由遊戲、唱遊、圖工等豐富多樣的內容。一片天老師將會與各位照顧者分享不同的育兒知識及技巧，讓您在輕鬆愉快的氛圍中學習和成長。每節活動的時間為1.5小時，內容充實而有趣，立即報名，與我們一起渡過愉快的時光！ \n 
URL:https://hkcentre.onesky.org/event/0-2%e6%ad%b2%e8%a6%aa%e5%ad%90%e4%b8%bb%e9%a1%8c%e7%8f%ad-10-23/
END:VEVENT
BEGIN:VEVENT
DTSTART;TZID=UTC:20251022T170000
DTEND;TZID=UTC:20251022T180000
DTSTAMP:20260425T033457
CREATED:20250929T003734Z
LAST-MODIFIED:20250929T003734Z
UID:11288-1761152400-1761156000@hkcentre.onesky.org
SUMMARY:長幼小食工作坊-中華冷麵製作
DESCRIPTION:
URL:https://hkcentre.onesky.org/event/%e9%95%b7%e5%b9%bc%e5%b0%8f%e9%a3%9f%e5%b7%a5%e4%bd%9c%e5%9d%8a-%e4%b8%ad%e8%8f%af%e5%86%b7%e9%ba%b5%e8%a3%bd%e4%bd%9c-4/
END:VEVENT
BEGIN:VEVENT
DTSTART;TZID=UTC:20251022T150000
DTEND;TZID=UTC:20251022T160000
DTSTAMP:20260425T033457
CREATED:20250929T003709Z
LAST-MODIFIED:20250929T003709Z
UID:11285-1761145200-1761148800@hkcentre.onesky.org
SUMMARY:長幼小食工作坊-中華冷麵製作
DESCRIPTION:
URL:https://hkcentre.onesky.org/event/%e9%95%b7%e5%b9%bc%e5%b0%8f%e9%a3%9f%e5%b7%a5%e4%bd%9c%e5%9d%8a-%e4%b8%ad%e8%8f%af%e5%86%b7%e9%ba%b5%e8%a3%bd%e4%bd%9c-3/
END:VEVENT
BEGIN:VEVENT
DTSTART;TZID=UTC:20251022T100000
DTEND;TZID=UTC:20251022T113000
DTSTAMP:20260425T033457
CREATED:20251015T063345Z
LAST-MODIFIED:20251015T063345Z
UID:11356-1761127200-1761132600@hkcentre.onesky.org
SUMMARY:照顧者活動 - 編織束口袋款式B
DESCRIPTION:透過認識和體驗編織\, 讓編織的過程成為正念（mindfulness）的過程。與其他照顧者一起專注編織，放下煩心的事，緩衝日常急促的生活的節奏。
URL:https://hkcentre.onesky.org/event/%e7%85%a7%e9%a1%a7%e8%80%85%e6%b4%bb%e5%8b%95-%e7%b7%a8%e7%b9%94%e6%9d%9f%e5%8f%a3%e8%a2%8b%e6%ac%be%e5%bc%8fb-2/
END:VEVENT
BEGIN:VEVENT
DTSTART;TZID=UTC:20251022T100000
DTEND;TZID=UTC:20251022T113000
DTSTAMP:20260425T033457
CREATED:20250908T013716Z
LAST-MODIFIED:20250908T021112Z
UID:11079-1761127200-1761132600@hkcentre.onesky.org
SUMMARY:0-2歲親子主題班
DESCRIPTION:十月份的主題是《大自然世界》。與孩子參加從星期二至星期六舉辦的親子活動遊戲班，活動包括繪本閱讀、團隊遊戲、自由遊戲、唱遊、圖工等豐富多樣的內容。一片天老師將會與各位照顧者分享不同的育兒知識及技巧，讓您在輕鬆愉快的氛圍中學習和成長。每節活動的時間為1.5小時，內容充實而有趣，立即報名，與我們一起渡過愉快的時光！ \n 
URL:https://hkcentre.onesky.org/event/0-2%e6%ad%b2%e8%a6%aa%e5%ad%90%e4%b8%bb%e9%a1%8c%e7%8f%ad-10-22/
END:VEVENT
BEGIN:VEVENT
DTSTART;TZID=UTC:20251021T170000
DTEND;TZID=UTC:20251021T183000
DTSTAMP:20260425T033457
CREATED:20250908T014654Z
LAST-MODIFIED:20250908T014654Z
UID:11132-1761066000-1761071400@hkcentre.onesky.org
SUMMARY:3-5歲主題班
DESCRIPTION:10月份的主題是《大自然世界》。與孩子參加從星期二至星期六舉辦的親子活動遊戲班，活動包括繪本閱讀、團隊遊戲、自由遊戲、唱遊、圖工等豐富多樣的內容。一片天老師將會與各位照顧者分享不同的育兒知識及技巧，讓您在輕鬆愉快的氛圍中學習和成長。每節活動的時間為1.5小時，內容充實而有趣，立即報名，與我們一起度過愉快的時光！ \n 
URL:https://hkcentre.onesky.org/event/3-5%e6%ad%b2%e4%b8%bb%e9%a1%8c%e7%8f%ad-10-21/
END:VEVENT
BEGIN:VEVENT
DTSTART;TZID=UTC:20251021T150000
DTEND;TZID=UTC:20251021T163000
DTSTAMP:20260425T033457
CREATED:20250929T005133Z
LAST-MODIFIED:20250929T005133Z
UID:11323-1761058800-1761064200@hkcentre.onesky.org
SUMMARY:親子音樂活動《我愛吹泡泡》
DESCRIPTION:嘗試不同樂器和動作，齊齊玩遊戲、唱唱歌，提高小朋友對音樂的興趣。
URL:https://hkcentre.onesky.org/event/%e8%a6%aa%e5%ad%90%e9%9f%b3%e6%a8%82%e6%b4%bb%e5%8b%95%e3%80%8a%e6%88%91%e6%84%9b%e5%90%b9%e6%b3%a1%e6%b3%a1%e3%80%8b-3/
END:VEVENT
BEGIN:VEVENT
DTSTART;TZID=UTC:20251021T140000
DTEND;TZID=UTC:20251021T160000
DTSTAMP:20260425T033457
CREATED:20250731T043126Z
LAST-MODIFIED:20250731T043126Z
UID:10777-1761055200-1761062400@hkcentre.onesky.org
SUMMARY:10月照顧者培訓課程
DESCRIPTION:課程圍繞成長、照顧、管教、情緒、遊戲和閱讀 6 大主題，與參加者介紹回應式管教、了解和回應幼兒的情緒，和如何引導與賦予幼兒能力等理論。課程共分8節，歡迎兒童照顧者，包括家長和祖父母等參加。出席率達 80%及小測取得合格成績可獲取證書，並有機會參加中心實習和受聘成為一片天社區好幫手。 \n 
URL:https://hkcentre.onesky.org/event/%e7%85%a7%e9%a1%a7%e8%80%85%e5%9f%b9%e8%a8%93%e8%aa%b2%e7%a8%8b-12-4-9-2-9-2/
END:VEVENT
BEGIN:VEVENT
DTSTART;TZID=UTC:20251021T100000
DTEND;TZID=UTC:20251021T113000
DTSTAMP:20260425T033457
CREATED:20251015T063521Z
LAST-MODIFIED:20251015T063521Z
UID:11362-1761040800-1761046200@hkcentre.onesky.org
SUMMARY:照顧者活動 - 編織束口袋款式A
DESCRIPTION:透過認識和體驗編織\, 讓編織的過程成為正念（mindfulness）的過程。與其他照顧者一起專注編織，放下煩心的事，緩衝日常急促的生活的節奏。
URL:https://hkcentre.onesky.org/event/%e7%85%a7%e9%a1%a7%e8%80%85%e6%b4%bb%e5%8b%95-%e7%b7%a8%e7%b9%94%e6%9d%9f%e5%8f%a3%e8%a2%8b%e6%ac%be%e5%bc%8fa-2/
END:VEVENT
BEGIN:VEVENT
DTSTART;TZID=UTC:20251021T100000
DTEND;TZID=UTC:20251021T113000
DTSTAMP:20260425T033457
CREATED:20250908T013435Z
LAST-MODIFIED:20250908T021111Z
UID:11068-1761040800-1761046200@hkcentre.onesky.org
SUMMARY:0-2歲親子主題班
DESCRIPTION:十月份的主題是《大自然世界》。與孩子參加從星期二至星期六舉辦的親子活動遊戲班，活動包括繪本閱讀、團隊遊戲、自由遊戲、唱遊、圖工等豐富多樣的內容。一片天老師將會與各位照顧者分享不同的育兒知識及技巧，讓您在輕鬆愉快的氛圍中學習和成長。每節活動的時間為1.5小時，內容充實而有趣，立即報名，與我們一起渡過愉快的時光！ \n 
URL:https://hkcentre.onesky.org/event/0-2%e6%ad%b2%e8%a6%aa%e5%ad%90%e4%b8%bb%e9%a1%8c%e7%8f%ad-10-21/
END:VEVENT
BEGIN:VEVENT
DTSTART;TZID=UTC:20251021T094500
DTEND;TZID=UTC:20251021T114500
DTSTAMP:20260425T033457
CREATED:20250731T042730Z
LAST-MODIFIED:20250731T042730Z
UID:10754-1761039900-1761047100@hkcentre.onesky.org
SUMMARY:10月照顧者培訓課程
DESCRIPTION:課程圍繞成長、照顧、管教、情緒、遊戲和閱讀 6 大主題，與參加者介紹回應式管教、了解和回應幼兒的情緒，和如何引導與賦予幼兒能力等理論。課程共分8節，歡迎兒童照顧者，包括家長和祖父母等參加。出席率達 80%及小測取得合格成績可獲取證書，並有機會參加中心實習和受聘成為一片天社區好幫手。 \n 
URL:https://hkcentre.onesky.org/event/%e7%85%a7%e9%a1%a7%e8%80%85%e5%9f%b9%e8%a8%93%e8%aa%b2%e7%a8%8b-12-4-9-2-3/
END:VEVENT
END:VCALENDAR