BEGIN:VCALENDAR
VERSION:2.0
PRODID:-//OneSky Hong Kong Centre - ECPv6.15.5//NONSGML v1.0//EN
CALSCALE:GREGORIAN
METHOD:PUBLISH
X-WR-CALNAME:OneSky Hong Kong Centre
X-ORIGINAL-URL:https://hkcentre.onesky.org
X-WR-CALDESC:OneSky Hong Kong Centre的活动
REFRESH-INTERVAL;VALUE=DURATION:PT1H
X-Robots-Tag:noindex
X-PUBLISHED-TTL:PT1H
BEGIN:VTIMEZONE
TZID:UTC
BEGIN:STANDARD
TZOFFSETFROM:+0000
TZOFFSETTO:+0000
TZNAME:UTC
DTSTART:20250101T000000
END:STANDARD
END:VTIMEZONE
BEGIN:VEVENT
DTSTART;TZID=UTC:20250719T100000
DTEND;TZID=UTC:20250719T113000
DTSTAMP:20260423T231442
CREATED:20250702T014021Z
LAST-MODIFIED:20250702T014021Z
UID:10377-1752919200-1752924600@hkcentre.onesky.org
SUMMARY:BABY跳舞班
DESCRIPTION:透過活動肢體，配合音樂，齊齊享受跳舞樂趣，改善肢體協調，提升幼兒自信，改善親子關係。適合2.5歲或以下幼兒及其照顧者參加。
URL:https://hkcentre.onesky.org/event/baby%e8%b7%b3%e8%88%9e%e7%8f%ad-19-7/
END:VEVENT
BEGIN:VEVENT
DTSTART;TZID=UTC:20250719T130000
DTEND;TZID=UTC:20250719T143000
DTSTAMP:20260423T231442
CREATED:20250618T035511Z
LAST-MODIFIED:20250618T035511Z
UID:10157-1752930000-1752935400@hkcentre.onesky.org
SUMMARY:0-2歲親子主題班
DESCRIPTION:七月份的主題是《食物變變變》。與孩子參加從星期二至星期六舉辦的親子活動遊戲班，活動包括繪本閱讀、團隊遊戲、自由遊戲、唱遊、圖工等豐富多樣的內容。一片天老師將會與各位照顧者分享不同的育兒知識及技巧，讓您在輕鬆愉快的氛圍中學習和成長。每節活動的時間為1.5小時，內容充實而有趣，立即報名，與我們一起度過愉快的時光！ \n 
URL:https://hkcentre.onesky.org/event/0-2%e6%ad%b2%e8%a6%aa%e5%ad%90%e4%b8%bb%e9%a1%8c%e7%8f%ad-5-7-3/
END:VEVENT
BEGIN:VEVENT
DTSTART;TZID=UTC:20250719T150000
DTEND;TZID=UTC:20250719T163000
DTSTAMP:20260423T231442
CREATED:20250702T013336Z
LAST-MODIFIED:20250702T013336Z
UID:10359-1752937200-1752942600@hkcentre.onesky.org
SUMMARY:親子跳舞班
DESCRIPTION:幼兒和照顧者透過活動肢體，配合音樂，齊齊享受跳舞樂趣，改善肢體協調，提升幼兒自信，改善親子關係。 \n 
URL:https://hkcentre.onesky.org/event/%e8%a6%aa%e5%ad%90%e8%b7%b3%e8%88%9e%e7%8f%ad-19-7/
END:VEVENT
BEGIN:VEVENT
DTSTART;TZID=UTC:20250721T150000
DTEND;TZID=UTC:20250721T163000
DTSTAMP:20260423T231442
CREATED:20250618T032558Z
LAST-MODIFIED:20250618T032558Z
UID:10064-1753110000-1753115400@hkcentre.onesky.org
SUMMARY:親子音樂活動《水果樂繽紛》
DESCRIPTION:透過兒歌《水果樂繽紛》的節奏與遊戲，參與親子唱遊和音樂遊戲體驗，與0-2歲寶寶探索水果世界，刺激感官發展，親子共創音樂初體驗！
URL:https://hkcentre.onesky.org/event/%e8%a6%aa%e5%ad%90%e9%9f%b3%e6%a8%82%e6%b4%bb%e5%8b%95%e3%80%8a%e6%b0%b4%e6%9e%9c%e6%a8%82%e7%b9%bd%e7%b4%9b%e3%80%8b/
END:VEVENT
BEGIN:VEVENT
DTSTART;TZID=UTC:20250722T100000
DTEND;TZID=UTC:20250722T113000
DTSTAMP:20260423T231442
CREATED:20250618T034915Z
LAST-MODIFIED:20250618T034915Z
UID:10106-1753178400-1753183800@hkcentre.onesky.org
SUMMARY:0-2歲親子主題班
DESCRIPTION:七月份的主題是《食物變變變》。與孩子參加從星期二至星期六舉辦的親子活動遊戲班，活動包括繪本閱讀、團隊遊戲、自由遊戲、唱遊、圖工等豐富多樣的內容。一片天老師將會與各位照顧者分享不同的育兒知識及技巧，讓您在輕鬆愉快的氛圍中學習和成長。每節活動的時間為1.5小時，內容充實而有趣，立即報名，與我們一起度過愉快的時光！ \n 
URL:https://hkcentre.onesky.org/event/0-2%e6%ad%b2%e8%a6%aa%e5%ad%90%e4%b8%bb%e9%a1%8c%e7%8f%ad-8-7-2/
END:VEVENT
BEGIN:VEVENT
DTSTART;TZID=UTC:20250722T103000
DTEND;TZID=UTC:20250722T120000
DTSTAMP:20260423T231442
CREATED:20250612T022742Z
LAST-MODIFIED:20250612T022742Z
UID:10023-1753180200-1753185600@hkcentre.onesky.org
SUMMARY:嬰兒照顧工作坊（肚仔篇）
DESCRIPTION:增進照顧嬰幼兒的知識，從親子關係角度出發， 了解嬰兒餵哺手法、沖涼換片的技巧、嬰兒按摩技巧，及如何調整嬰幼兒作息及睡眠習慣。
URL:https://hkcentre.onesky.org/event/%e5%ac%b0%e5%85%92%e7%85%a7%e9%a1%a7%e5%b7%a5%e4%bd%9c%e5%9d%8a%ef%bc%88%e8%82%9a%e4%bb%94%e7%af%87%ef%bc%89/
END:VEVENT
BEGIN:VEVENT
DTSTART;TZID=UTC:20250722T143000
DTEND;TZID=UTC:20250722T160000
DTSTAMP:20260423T231442
CREATED:20250612T023146Z
LAST-MODIFIED:20250612T023146Z
UID:10029-1753194600-1753200000@hkcentre.onesky.org
SUMMARY:看繪本學手語之《西瓜游泳池》
DESCRIPTION:透過繪本《西瓜游泳池》學習手語！\n與小朋友一起進入繪本的奇妙世界，同時學習相關的手語詞彙，增進閱讀樂趣，讓孩子透過不同的方式理解和表達故事內容。
URL:https://hkcentre.onesky.org/event/%e7%9c%8b%e7%b9%aa%e6%9c%ac%e5%ad%b8%e6%89%8b%e8%aa%9e%e4%b9%8b%e3%80%8a%e8%a5%bf%e7%93%9c%e6%b8%b8%e6%b3%b3%e6%b1%a0%e3%80%8b/
END:VEVENT
BEGIN:VEVENT
DTSTART;TZID=UTC:20250722T170000
DTEND;TZID=UTC:20250722T183000
DTSTAMP:20260423T231442
CREATED:20250618T035704Z
LAST-MODIFIED:20250618T035704Z
UID:10169-1753203600-1753209000@hkcentre.onesky.org
SUMMARY:3-5歲親子主題班
DESCRIPTION:七月份的主題是《食物變變變》。與孩子參加從星期二至星期六舉辦的親子活動遊戲班，活動包括繪本閱讀、團隊遊戲、自由遊戲、唱遊、圖工等豐富多樣的內容。一片天老師將會與各位照顧者分享不同的育兒知識及技巧，讓您在輕鬆愉快的氛圍中學習和成長。每節活動的時間為1.5小時，內容充實而有趣，立即報名，與我們一起度過愉快的時光！ \n 
URL:https://hkcentre.onesky.org/event/0-2%e6%ad%b2%e8%a6%aa%e5%ad%90%e4%b8%bb%e9%a1%8c%e7%8f%ad-5-7-5-3/
END:VEVENT
BEGIN:VEVENT
DTSTART;TZID=UTC:20250723T094500
DTEND;TZID=UTC:20250723T114500
DTSTAMP:20260423T231442
CREATED:20250520T080148Z
LAST-MODIFIED:20250520T080148Z
UID:9723-1753263900-1753271100@hkcentre.onesky.org
SUMMARY:照顧者培訓課程
DESCRIPTION:課程圍繞成長、照顧、管教、情緒、遊戲和閱讀 6 大主題，與參加者介紹回應式管教、了解和回應幼兒的情緒，和如何引導與賦予幼兒能力等理論。課程共分8節，歡迎兒童照顧者，包括家長和祖父母等參加。出席率達 80%及小測取得合格成績可獲取證書，並有機會參加中心實習和受聘成為一片天社區好幫手。 \n 
URL:https://hkcentre.onesky.org/event/%e7%85%a7%e9%a1%a7%e8%80%85%e5%9f%b9%e8%a8%93%e8%aa%b2%e7%a8%8b-12-4-5/
END:VEVENT
BEGIN:VEVENT
DTSTART;TZID=UTC:20250723T100000
DTEND;TZID=UTC:20250723T113000
DTSTAMP:20260423T231442
CREATED:20250618T035036Z
LAST-MODIFIED:20250618T035036Z
UID:10116-1753264800-1753270200@hkcentre.onesky.org
SUMMARY:0-2歲親子主題班
DESCRIPTION:七月份的主題是《食物變變變》。與孩子參加從星期二至星期六舉辦的親子活動遊戲班，活動包括繪本閱讀、團隊遊戲、自由遊戲、唱遊、圖工等豐富多樣的內容。一片天老師將會與各位照顧者分享不同的育兒知識及技巧，讓您在輕鬆愉快的氛圍中學習和成長。每節活動的時間為1.5小時，內容充實而有趣，立即報名，與我們一起度過愉快的時光！ \n 
URL:https://hkcentre.onesky.org/event/0-2%e6%ad%b2%e8%a6%aa%e5%ad%90%e4%b8%bb%e9%a1%8c%e7%8f%ad-8-7-4-4/
END:VEVENT
BEGIN:VEVENT
DTSTART;TZID=UTC:20250723T140000
DTEND;TZID=UTC:20250723T153000
DTSTAMP:20260423T231442
CREATED:20250630T011711Z
LAST-MODIFIED:20250630T011711Z
UID:10337-1753279200-1753284600@hkcentre.onesky.org
SUMMARY:K-POP 照顧者舞蹈班
DESCRIPTION:與照顧者共同探索音樂與節奏，享受K-POP 樂趣，促進健康。
URL:https://hkcentre.onesky.org/event/k-pop-%e7%85%a7%e9%a1%a7%e8%80%85%e8%88%9e%e8%b9%88%e7%8f%ad-21/
END:VEVENT
BEGIN:VEVENT
DTSTART;TZID=UTC:20250723T140000
DTEND;TZID=UTC:20250723T160000
DTSTAMP:20260423T231442
CREATED:20250520T075830Z
LAST-MODIFIED:20250520T075830Z
UID:9696-1753279200-1753286400@hkcentre.onesky.org
SUMMARY:照顧者培訓課程
DESCRIPTION:課程圍繞成長、照顧、管教、情緒、遊戲和閱讀 6 大主題，與參加者介紹回應式管教、了解和回應幼兒的情緒，和如何引導與賦予幼兒能力等理論。課程共分8節，歡迎兒童照顧者，包括家長和祖父母等參加。出席率達 80%及小測取得合格成績可獲取證書，並有機會參加中心實習和受聘成為一片天社區好幫手。 \n 
URL:https://hkcentre.onesky.org/event/%e7%85%a7%e9%a1%a7%e8%80%85%e5%9f%b9%e8%a8%93%e8%aa%b2%e7%a8%8b-16-2-3-2-5/
END:VEVENT
BEGIN:VEVENT
DTSTART;TZID=UTC:20250724T100000
DTEND;TZID=UTC:20250724T113000
DTSTAMP:20260423T231442
CREATED:20250618T035152Z
LAST-MODIFIED:20250618T035152Z
UID:10128-1753351200-1753356600@hkcentre.onesky.org
SUMMARY:0-2歲親子主題班
DESCRIPTION:七月份的主題是《食物變變變》。與孩子參加從星期二至星期六舉辦的親子活動遊戲班，活動包括繪本閱讀、團隊遊戲、自由遊戲、唱遊、圖工等豐富多樣的內容。一片天老師將會與各位照顧者分享不同的育兒知識及技巧，讓您在輕鬆愉快的氛圍中學習和成長。每節活動的時間為1.5小時，內容充實而有趣，立即報名，與我們一起度過愉快的時光！ \n 
URL:https://hkcentre.onesky.org/event/0-2%e6%ad%b2%e8%a6%aa%e5%ad%90%e4%b8%bb%e9%a1%8c%e7%8f%ad-8-7-4-5-3/
END:VEVENT
BEGIN:VEVENT
DTSTART;TZID=UTC:20250724T113000
DTEND;TZID=UTC:20250724T130000
DTSTAMP:20260423T231442
CREATED:20250618T033749Z
LAST-MODIFIED:20250618T033749Z
UID:10082-1753356600-1753362000@hkcentre.onesky.org
SUMMARY:暑期兒童美術活動
DESCRIPTION:今個暑假一片天與 Gowld Art Centre 合作，攜手推出專為幼兒設計的藝術啟蒙課。課程由韓籍藝術導師負責，透過趣味繪畫活動，讓孩子在色彩與線條中激發無限想像力，同時自然學習英文詞彙。活動適合2-6歲幼兒及照顧者。
URL:https://hkcentre.onesky.org/event/%e6%9a%91%e6%9c%9f%e5%85%92%e7%ab%a5%e7%be%8e%e8%a1%93%e6%b4%bb%e5%8b%95-3/
END:VEVENT
BEGIN:VEVENT
DTSTART;TZID=UTC:20250724T150000
DTEND;TZID=UTC:20250724T163000
DTSTAMP:20260423T231442
CREATED:20250618T032853Z
LAST-MODIFIED:20250618T032853Z
UID:10073-1753369200-1753374600@hkcentre.onesky.org
SUMMARY:親子唱K班 《幼兒SING聲聲聲》
DESCRIPTION:專為0-2歲幼兒和家長設計的歡樂唱K時光！透過兒歌、互動遊戲和趣味節奏，讓親子一起放聲歌唱，體驗音樂的快樂，培養寶寶對聲音的興趣與感知。
URL:https://hkcentre.onesky.org/event/%e8%a6%aa%e5%ad%90%e5%94%b1k%e7%8f%ad-%e3%80%8a%e5%b9%bc%e5%85%92sing%e8%81%b2%e8%81%b2%e8%81%b2%e3%80%8b/
END:VEVENT
BEGIN:VEVENT
DTSTART;TZID=UTC:20250724T170000
DTEND;TZID=UTC:20250724T183000
DTSTAMP:20260423T231442
CREATED:20250618T035336Z
LAST-MODIFIED:20250618T035336Z
UID:10145-1753376400-1753381800@hkcentre.onesky.org
SUMMARY:0-2歲親子主題班
DESCRIPTION:七月份的主題是《食物變變變》。與孩子參加從星期二至星期六舉辦的親子活動遊戲班，活動包括繪本閱讀、團隊遊戲、自由遊戲、唱遊、圖工等豐富多樣的內容。一片天老師將會與各位照顧者分享不同的育兒知識及技巧，讓您在輕鬆愉快的氛圍中學習和成長。每節活動的時間為1.5小時，內容充實而有趣，立即報名，與我們一起度過愉快的時光！ \n 
URL:https://hkcentre.onesky.org/event/0-2%e6%ad%b2%e8%a6%aa%e5%ad%90%e4%b8%bb%e9%a1%8c%e7%8f%ad-8-7-4-5-4-2-3/
END:VEVENT
BEGIN:VEVENT
DTSTART;TZID=UTC:20250725T094500
DTEND;TZID=UTC:20250725T114500
DTSTAMP:20260423T231442
CREATED:20250520T080259Z
LAST-MODIFIED:20250520T080259Z
UID:9727-1753436700-1753443900@hkcentre.onesky.org
SUMMARY:照顧者培訓課程
DESCRIPTION:課程圍繞成長、照顧、管教、情緒、遊戲和閱讀 6 大主題，與參加者介紹回應式管教、了解和回應幼兒的情緒，和如何引導與賦予幼兒能力等理論。課程共分8節，歡迎兒童照顧者，包括家長和祖父母等參加。出席率達 80%及小測取得合格成績可獲取證書，並有機會參加中心實習和受聘成為一片天社區好幫手。 \n 
URL:https://hkcentre.onesky.org/event/%e7%85%a7%e9%a1%a7%e8%80%85%e5%9f%b9%e8%a8%93%e8%aa%b2%e7%a8%8b-12-4-9/
END:VEVENT
BEGIN:VEVENT
DTSTART;TZID=UTC:20250725T100000
DTEND;TZID=UTC:20250725T113000
DTSTAMP:20260423T231443
CREATED:20250618T032627Z
LAST-MODIFIED:20250618T032627Z
UID:10067-1753437600-1753443000@hkcentre.onesky.org
SUMMARY:親子音樂活動《水果樂繽紛》
DESCRIPTION:透過兒歌《水果樂繽紛》的節奏與遊戲，參與親子唱遊和音樂遊戲體驗，與0-2歲寶寶探索水果世界，刺激感官發展，親子共創音樂初體驗！
URL:https://hkcentre.onesky.org/event/%e8%a6%aa%e5%ad%90%e9%9f%b3%e6%a8%82%e6%b4%bb%e5%8b%95%e3%80%8a%e6%b0%b4%e6%9e%9c%e6%a8%82%e7%b9%bd%e7%b4%9b%e3%80%8b-2/
END:VEVENT
BEGIN:VEVENT
DTSTART;TZID=UTC:20250725T113000
DTEND;TZID=UTC:20250725T130000
DTSTAMP:20260423T231443
CREATED:20250618T033936Z
LAST-MODIFIED:20250618T033936Z
UID:10092-1753443000-1753448400@hkcentre.onesky.org
SUMMARY:暑期兒童美術活動
DESCRIPTION:今個暑假一片天與 Gowld Art Centre 合作，攜手推出專為幼兒設計的藝術啟蒙課。課程由韓籍藝術導師負責，透過趣味繪畫活動，讓孩子在色彩與線條中激發無限想像力，同時自然學習英文詞彙。活動適合2-6歲幼兒及照顧者。
URL:https://hkcentre.onesky.org/event/%e6%9a%91%e6%9c%9f%e5%85%92%e7%ab%a5%e7%be%8e%e8%a1%93%e6%b4%bb%e5%8b%95-4-4/
END:VEVENT
BEGIN:VEVENT
DTSTART;TZID=UTC:20250725T140000
DTEND;TZID=UTC:20250725T160000
DTSTAMP:20260423T231443
CREATED:20250520T075923Z
LAST-MODIFIED:20250520T075923Z
UID:9700-1753452000-1753459200@hkcentre.onesky.org
SUMMARY:照顧者培訓課程
DESCRIPTION:課程圍繞成長、照顧、管教、情緒、遊戲和閱讀 6 大主題，與參加者介紹回應式管教、了解和回應幼兒的情緒，和如何引導與賦予幼兒能力等理論。課程共分8節，歡迎兒童照顧者，包括家長和祖父母等參加。出席率達 80%及小測取得合格成績可獲取證書，並有機會參加中心實習和受聘成為一片天社區好幫手。 \n 
URL:https://hkcentre.onesky.org/event/%e7%85%a7%e9%a1%a7%e8%80%85%e5%9f%b9%e8%a8%93%e8%aa%b2%e7%a8%8b-16-2-3-2-9/
END:VEVENT
BEGIN:VEVENT
DTSTART;TZID=UTC:20250725T170000
DTEND;TZID=UTC:20250725T183000
DTSTAMP:20260423T231443
CREATED:20250702T013416Z
LAST-MODIFIED:20250702T013416Z
UID:10361-1753462800-1753468200@hkcentre.onesky.org
SUMMARY:親子跳舞班
DESCRIPTION:幼兒和照顧者透過活動肢體，配合音樂，齊齊享受跳舞樂趣，改善肢體協調，提升幼兒自信，改善親子關係。 \n 
URL:https://hkcentre.onesky.org/event/%e8%a6%aa%e5%ad%90%e8%b7%b3%e8%88%9e%e7%8f%ad-25-7/
END:VEVENT
BEGIN:VEVENT
DTSTART;TZID=UTC:20250726T130000
DTEND;TZID=UTC:20250726T143000
DTSTAMP:20260423T231443
CREATED:20250618T035516Z
LAST-MODIFIED:20250618T035516Z
UID:10158-1753534800-1753540200@hkcentre.onesky.org
SUMMARY:0-2歲親子主題班
DESCRIPTION:七月份的主題是《食物變變變》。與孩子參加從星期二至星期六舉辦的親子活動遊戲班，活動包括繪本閱讀、團隊遊戲、自由遊戲、唱遊、圖工等豐富多樣的內容。一片天老師將會與各位照顧者分享不同的育兒知識及技巧，讓您在輕鬆愉快的氛圍中學習和成長。每節活動的時間為1.5小時，內容充實而有趣，立即報名，與我們一起度過愉快的時光！ \n 
URL:https://hkcentre.onesky.org/event/0-2%e6%ad%b2%e8%a6%aa%e5%ad%90%e4%b8%bb%e9%a1%8c%e7%8f%ad-5-7-4/
END:VEVENT
BEGIN:VEVENT
DTSTART;TZID=UTC:20250728T100000
DTEND;TZID=UTC:20250728T113000
DTSTAMP:20260423T231443
CREATED:20250618T032651Z
LAST-MODIFIED:20250618T032651Z
UID:10070-1753696800-1753702200@hkcentre.onesky.org
SUMMARY:親子音樂活動《水果樂繽紛》
DESCRIPTION:透過兒歌《水果樂繽紛》的節奏與遊戲，參與親子唱遊和音樂遊戲體驗，與0-2歲寶寶探索水果世界，刺激感官發展，親子共創音樂初體驗！
URL:https://hkcentre.onesky.org/event/%e8%a6%aa%e5%ad%90%e9%9f%b3%e6%a8%82%e6%b4%bb%e5%8b%95%e3%80%8a%e6%b0%b4%e6%9e%9c%e6%a8%82%e7%b9%bd%e7%b4%9b%e3%80%8b-3/
END:VEVENT
BEGIN:VEVENT
DTSTART;TZID=UTC:20250728T150000
DTEND;TZID=UTC:20250728T163000
DTSTAMP:20260423T231443
CREATED:20250612T021955Z
LAST-MODIFIED:20250612T021955Z
UID:10004-1753714800-1753720200@hkcentre.onesky.org
SUMMARY:親子繪本 X 律動班
DESCRIPTION:繪本可以很有趣！你準備好與孩子一同進入繪本的奇妙世界了嗎？一片天老師將與大家透過豐富有趣的繪本故事，結合充滿活力的律動遊戲，讓親子時光更添歡樂。
URL:https://hkcentre.onesky.org/event/%e8%a6%aa%e5%ad%90%e7%b9%aa%e6%9c%ac-x-%e5%be%8b%e5%8b%95%e7%8f%ad/
END:VEVENT
BEGIN:VEVENT
DTSTART;TZID=UTC:20250729T100000
DTEND;TZID=UTC:20250729T113000
DTSTAMP:20260423T231443
CREATED:20250618T034924Z
LAST-MODIFIED:20250618T034924Z
UID:10107-1753783200-1753788600@hkcentre.onesky.org
SUMMARY:0-2歲親子主題班
DESCRIPTION:七月份的主題是《食物變變變》。與孩子參加從星期二至星期六舉辦的親子活動遊戲班，活動包括繪本閱讀、團隊遊戲、自由遊戲、唱遊、圖工等豐富多樣的內容。一片天老師將會與各位照顧者分享不同的育兒知識及技巧，讓您在輕鬆愉快的氛圍中學習和成長。每節活動的時間為1.5小時，內容充實而有趣，立即報名，與我們一起度過愉快的時光！ \n 
URL:https://hkcentre.onesky.org/event/0-2%e6%ad%b2%e8%a6%aa%e5%ad%90%e4%b8%bb%e9%a1%8c%e7%8f%ad-8-7-3/
END:VEVENT
BEGIN:VEVENT
DTSTART;TZID=UTC:20250729T100000
DTEND;TZID=UTC:20250729T113000
DTSTAMP:20260423T231443
CREATED:20250702T013803Z
LAST-MODIFIED:20250702T013803Z
UID:10368-1753783200-1753788600@hkcentre.onesky.org
SUMMARY:照顧者活動︰繪本啟示錄之《籽兒與鳥蛋》
DESCRIPTION:一起閱讀繪本《籽兒與鳥蛋》，看看小紅快機在假期在忙什麼呢﹖齊齊探討友誼的價值，感受深厚情誼的美好，和因各自成長和境萬差異所產生的的矛盾。 \n 
URL:https://hkcentre.onesky.org/event/%e7%85%a7%e9%a1%a7%e8%80%85%e6%b4%bb%e5%8b%95%ef%b8%b0%e7%b9%aa%e6%9c%ac%e5%95%9f%e7%a4%ba%e9%8c%84-29-7/
END:VEVENT
BEGIN:VEVENT
DTSTART;TZID=UTC:20250729T103000
DTEND;TZID=UTC:20250729T120000
DTSTAMP:20260423T231443
CREATED:20250612T022841Z
LAST-MODIFIED:20250612T022841Z
UID:10026-1753785000-1753790400@hkcentre.onesky.org
SUMMARY:嬰兒照顧工作坊（胸部/背脊篇）
DESCRIPTION:增進照顧嬰幼兒的知識，從親子關係角度出發， 了解嬰兒餵哺手法、沖涼換片的技巧、嬰兒按摩技巧，及如何調整嬰幼兒作息及睡眠習慣。
URL:https://hkcentre.onesky.org/event/%e5%ac%b0%e5%85%92%e7%85%a7%e9%a1%a7%e5%b7%a5%e4%bd%9c%e5%9d%8a%ef%bc%88%e8%83%b8%e9%83%a8-%e8%83%8c%e8%84%8a%e7%af%87%ef%bc%89/
END:VEVENT
BEGIN:VEVENT
DTSTART;TZID=UTC:20250729T140000
DTEND;TZID=UTC:20250729T153000
DTSTAMP:20260423T231443
CREATED:20250702T013846Z
LAST-MODIFIED:20250702T013846Z
UID:10371-1753797600-1753803000@hkcentre.onesky.org
SUMMARY:照顧者活動︰繪本啟示錄之《籽兒與鳥蛋》
DESCRIPTION:一起閱讀繪本《籽兒與鳥蛋》，看看小紅快機在假期在忙什麼呢﹖齊齊探討友誼的價值，感受深厚情誼的美好，和因各自成長和境萬差異所產生的的矛盾。
URL:https://hkcentre.onesky.org/event/%e7%85%a7%e9%a1%a7%e8%80%85%e6%b4%bb%e5%8b%95%ef%b8%b0%e7%b9%aa%e6%9c%ac%e5%95%9f%e7%a4%ba%e9%8c%84%e4%b9%8b%e3%80%8a%e7%b1%bd%e5%85%92%e8%88%87%e9%b3%a5%e8%9b%8b%e3%80%8b/
END:VEVENT
BEGIN:VEVENT
DTSTART;TZID=UTC:20250729T170000
DTEND;TZID=UTC:20250729T183000
DTSTAMP:20260423T231443
CREATED:20250618T035713Z
LAST-MODIFIED:20250618T035713Z
UID:10170-1753808400-1753813800@hkcentre.onesky.org
SUMMARY:3-5歲親子主題班
DESCRIPTION:七月份的主題是《食物變變變》。與孩子參加從星期二至星期六舉辦的親子活動遊戲班，活動包括繪本閱讀、團隊遊戲、自由遊戲、唱遊、圖工等豐富多樣的內容。一片天老師將會與各位照顧者分享不同的育兒知識及技巧，讓您在輕鬆愉快的氛圍中學習和成長。每節活動的時間為1.5小時，內容充實而有趣，立即報名，與我們一起度過愉快的時光！ \n 
URL:https://hkcentre.onesky.org/event/0-2%e6%ad%b2%e8%a6%aa%e5%ad%90%e4%b8%bb%e9%a1%8c%e7%8f%ad-5-7-5-4/
END:VEVENT
BEGIN:VEVENT
DTSTART;TZID=UTC:20250730T100000
DTEND;TZID=UTC:20250730T113000
DTSTAMP:20260423T231443
CREATED:20250618T035043Z
LAST-MODIFIED:20250618T035043Z
UID:10117-1753869600-1753875000@hkcentre.onesky.org
SUMMARY:0-2歲親子主題班
DESCRIPTION:七月份的主題是《食物變變變》。與孩子參加從星期二至星期六舉辦的親子活動遊戲班，活動包括繪本閱讀、團隊遊戲、自由遊戲、唱遊、圖工等豐富多樣的內容。一片天老師將會與各位照顧者分享不同的育兒知識及技巧，讓您在輕鬆愉快的氛圍中學習和成長。每節活動的時間為1.5小時，內容充實而有趣，立即報名，與我們一起度過愉快的時光！ \n 
URL:https://hkcentre.onesky.org/event/0-2%e6%ad%b2%e8%a6%aa%e5%ad%90%e4%b8%bb%e9%a1%8c%e7%8f%ad-8-7-4-5/
END:VEVENT
END:VCALENDAR