BEGIN:VCALENDAR
VERSION:2.0
PRODID:-//OneSky Hong Kong Centre - ECPv6.15.5//NONSGML v1.0//EN
CALSCALE:GREGORIAN
METHOD:PUBLISH
X-WR-CALNAME:OneSky Hong Kong Centre
X-ORIGINAL-URL:https://hkcentre.onesky.org
X-WR-CALDESC:OneSky Hong Kong Centre的活动
REFRESH-INTERVAL;VALUE=DURATION:PT1H
X-Robots-Tag:noindex
X-PUBLISHED-TTL:PT1H
BEGIN:VTIMEZONE
TZID:UTC
BEGIN:STANDARD
TZOFFSETFROM:+0000
TZOFFSETTO:+0000
TZNAME:UTC
DTSTART:20250101T000000
END:STANDARD
END:VTIMEZONE
BEGIN:VEVENT
DTSTART;TZID=UTC:20250917T100000
DTEND;TZID=UTC:20250917T113000
DTSTAMP:20260424T203853
CREATED:20250814T064548Z
LAST-MODIFIED:20250814T064548Z
UID:10937-1758103200-1758108600@hkcentre.onesky.org
SUMMARY:0-2歲親子主題班
DESCRIPTION:九月份的主題是《幫助我們的人》。與孩子參加從星期二至星期六舉辦的親子活動遊戲班，活動包括繪本閱讀、團隊遊戲、自由遊戲、唱遊、圖工等豐富多樣的內容。一片天老師將會與各位照顧者分享不同的育兒知識及技巧，讓您在輕鬆愉快的氛圍中學習和成長。每節活動的時間為1.5小時，內容充實而有趣，立即報名，與我們一起度過愉快的時光！ \n 
URL:https://hkcentre.onesky.org/event/0-2%e6%ad%b2%e8%a6%aa%e5%ad%90%e4%b8%bb%e9%a1%8c%e7%8f%ad-9-17/
END:VEVENT
BEGIN:VEVENT
DTSTART;TZID=UTC:20250917T100000
DTEND;TZID=UTC:20250917T113000
DTSTAMP:20260424T203853
CREATED:20250910T015146Z
LAST-MODIFIED:20250910T015146Z
UID:11205-1758103200-1758108600@hkcentre.onesky.org
SUMMARY:親子實戰課0-2歲 - 建立關係系列篇
DESCRIPTION:
URL:https://hkcentre.onesky.org/event/%e8%a6%aa%e5%ad%90%e5%af%a6%e6%88%b0%e8%aa%b20-2%e6%ad%b2-%e5%bb%ba%e7%ab%8b%e9%97%9c%e4%bf%82%e7%b3%bb%e5%88%97%e7%af%87/
END:VEVENT
BEGIN:VEVENT
DTSTART;TZID=UTC:20250918T100000
DTEND;TZID=UTC:20250918T113000
DTSTAMP:20260424T203853
CREATED:20250814T065237Z
LAST-MODIFIED:20250814T065237Z
UID:10967-1758189600-1758195000@hkcentre.onesky.org
SUMMARY:0-2歲親子主題班
DESCRIPTION:九月份的主題是《幫助我們的人》。與孩子參加從星期二至星期六舉辦的親子活動遊戲班，活動包括繪本閱讀、團隊遊戲、自由遊戲、唱遊、圖工等豐富多樣的內容。一片天老師將會與各位照顧者分享不同的育兒知識及技巧，讓您在輕鬆愉快的氛圍中學習和成長。每節活動的時間為1.5小時，內容充實而有趣，立即報名，與我們一起渡過愉快的時光！ \n 
URL:https://hkcentre.onesky.org/event/0-2%e6%ad%b2%e8%a6%aa%e5%ad%90%e4%b8%bb%e9%a1%8c%e7%8f%ad-9-18/
END:VEVENT
BEGIN:VEVENT
DTSTART;TZID=UTC:20250918T100000
DTEND;TZID=UTC:20250918T113000
DTSTAMP:20260424T203853
CREATED:20250910T015234Z
LAST-MODIFIED:20250910T015234Z
UID:11208-1758189600-1758195000@hkcentre.onesky.org
SUMMARY:親子實戰課0-2歲 - 建立關係系列篇
DESCRIPTION:
URL:https://hkcentre.onesky.org/event/%e8%a6%aa%e5%ad%90%e5%af%a6%e6%88%b0%e8%aa%b20-2%e6%ad%b2-%e5%bb%ba%e7%ab%8b%e9%97%9c%e4%bf%82%e7%b3%bb%e5%88%97%e7%af%87-2/
END:VEVENT
BEGIN:VEVENT
DTSTART;TZID=UTC:20250918T150000
DTEND;TZID=UTC:20250918T163000
DTSTAMP:20260424T203853
CREATED:20250910T015317Z
LAST-MODIFIED:20250910T015317Z
UID:11211-1758207600-1758213000@hkcentre.onesky.org
SUMMARY:親子美術班
DESCRIPTION:
URL:https://hkcentre.onesky.org/event/%e8%a6%aa%e5%ad%90%e7%be%8e%e8%a1%93%e7%8f%ad-2/
END:VEVENT
BEGIN:VEVENT
DTSTART;TZID=UTC:20250918T170000
DTEND;TZID=UTC:20250918T183000
DTSTAMP:20260424T203853
CREATED:20250814T022411Z
LAST-MODIFIED:20250814T022431Z
UID:10924-1758214800-1758220200@hkcentre.onesky.org
SUMMARY:繪本童讀- 《森林是我家 》
DESCRIPTION:讓孩子愛上閱讀！一片天為照顧者和孩子準備了一場充滿樂趣的繪本活動。我們將帶領大家一同進入《森林是我家》的奇妙世界，透過生動的故事與有趣的圖工活動，啟發孩子對閱讀的興趣，並培養他們關心環境、愛護動物的同理心。活動適合 3-5歲幼兒及其照顧者。 \n 
URL:https://hkcentre.onesky.org/event/%e7%b9%aa%e6%9c%ac%e7%ab%a5%e8%ae%80-%e3%80%8a%e6%a3%ae%e6%9e%97%e6%98%af%e6%88%91%e5%ae%b6-%e3%80%8b/
END:VEVENT
BEGIN:VEVENT
DTSTART;TZID=UTC:20250918T170000
DTEND;TZID=UTC:20250918T183000
DTSTAMP:20260424T203853
CREATED:20250814T065529Z
LAST-MODIFIED:20250814T065529Z
UID:10976-1758214800-1758220200@hkcentre.onesky.org
SUMMARY:0-2歲親子主題班
DESCRIPTION:九月份的主題是《幫助我們的人》。與孩子參加從星期二至星期六舉辦的親子活動遊戲班，活動包括繪本閱讀、團隊遊戲、自由遊戲、唱遊、圖工等豐富多樣的內容。一片天老師將會與各位照顧者分享不同的育兒知識及技巧，讓您在輕鬆愉快的氛圍中學習和成長。每節活動的時間為1.5小時，內容充實而有趣，立即報名，與我們一起渡過愉快的時光！ \n 
URL:https://hkcentre.onesky.org/event/0-2%e6%ad%b2%e8%a6%aa%e5%ad%90%e4%b8%bb%e9%a1%8c%e7%8f%ad-9-25-2/
END:VEVENT
BEGIN:VEVENT
DTSTART;TZID=UTC:20250919T150000
DTEND;TZID=UTC:20250919T160000
DTSTAMP:20260424T203853
CREATED:20250905T082342Z
LAST-MODIFIED:20250905T082342Z
UID:11027-1758294000-1758297600@hkcentre.onesky.org
SUMMARY:中秋長幼工作坊-冰皮月餅
DESCRIPTION:這個中秋，我們邀請長輩與年輕一代一起動手做冰皮月餅！在溫馨的互動中，分享手作的樂趣，傳承節日的溫暖。透過共同製作月餅，促進跨代交流，創造屬於你們的中秋回憶。名額有限，立即報名參加！
URL:https://hkcentre.onesky.org/event/%e4%b8%ad%e7%a7%8b%e9%95%b7%e5%b9%bc%e5%b7%a5%e4%bd%9c%e5%9d%8a-%e5%86%b0%e7%9a%ae%e6%9c%88%e9%a4%85-3-4/
END:VEVENT
BEGIN:VEVENT
DTSTART;TZID=UTC:20250919T150000
DTEND;TZID=UTC:20250919T160000
DTSTAMP:20260424T203853
CREATED:20250908T012009Z
LAST-MODIFIED:20250908T012009Z
UID:11043-1758294000-1758297600@hkcentre.onesky.org
SUMMARY:嬰兒照顧工作坊
DESCRIPTION:增進照顧嬰幼兒的知識，從親子關係角度出發， 了解嬰兒餵哺手法、沖涼換片的技巧、嬰兒按摩技巧，及如何調整嬰幼兒作息及睡眠習慣。
URL:https://hkcentre.onesky.org/event/%e5%ac%b0%e5%85%92%e7%85%a7%e9%a1%a7%e5%b7%a5%e4%bd%9c%e5%9d%8a%ef%bc%88%e8%83%b8%e9%83%a8-%e8%83%8c%e8%84%8a%e7%af%87%ef%bc%89-2/
END:VEVENT
BEGIN:VEVENT
DTSTART;TZID=UTC:20250919T170000
DTEND;TZID=UTC:20250919T180000
DTSTAMP:20260424T203853
CREATED:20250905T082353Z
LAST-MODIFIED:20250905T082353Z
UID:11028-1758301200-1758304800@hkcentre.onesky.org
SUMMARY:中秋長幼工作坊-冰皮月餅
DESCRIPTION:這個中秋，我們邀請長輩與年輕一代一起動手做冰皮月餅！在溫馨的互動中，分享手作的樂趣，傳承節日的溫暖。透過共同製作月餅，促進跨代交流，創造屬於你們的中秋回憶。名額有限，立即報名參加！
URL:https://hkcentre.onesky.org/event/%e4%b8%ad%e7%a7%8b%e9%95%b7%e5%b9%bc%e5%b7%a5%e4%bd%9c%e5%9d%8a-%e5%86%b0%e7%9a%ae%e6%9c%88%e9%a4%85-3-5/
END:VEVENT
BEGIN:VEVENT
DTSTART;TZID=UTC:20250919T170000
DTEND;TZID=UTC:20250919T180000
DTSTAMP:20260424T203853
CREATED:20250910T015510Z
LAST-MODIFIED:20250910T015510Z
UID:11214-1758301200-1758304800@hkcentre.onesky.org
SUMMARY:中秋長幼工作坊-冰皮月餅
DESCRIPTION:這個中秋，我們邀請長輩與年輕一代一起動手做冰皮月餅！在溫馨的互動中，分享手作的樂趣，傳承節日的溫暖。透過共同製作月餅，促進跨代交流，創造屬於你們的中秋回憶。名額有限，立即報名參加！
URL:https://hkcentre.onesky.org/event/%e4%b8%ad%e7%a7%8b%e9%95%b7%e5%b9%bc%e5%b7%a5%e4%bd%9c%e5%9d%8a-%e5%86%b0%e7%9a%ae%e6%9c%88%e9%a4%85-4/
END:VEVENT
BEGIN:VEVENT
DTSTART;TZID=UTC:20250919T170000
DTEND;TZID=UTC:20250919T183000
DTSTAMP:20260424T203853
CREATED:20250910T015548Z
LAST-MODIFIED:20250910T015548Z
UID:11217-1758301200-1758306600@hkcentre.onesky.org
SUMMARY:親子實戰課3-6歲班- 建立關係系列篇
DESCRIPTION:
URL:https://hkcentre.onesky.org/event/%e8%a6%aa%e5%ad%90%e5%af%a6%e6%88%b0%e8%aa%b23-6%e6%ad%b2%e7%8f%ad-%e5%bb%ba%e7%ab%8b%e9%97%9c%e4%bf%82%e7%b3%bb%e5%88%97%e7%af%87/
END:VEVENT
BEGIN:VEVENT
DTSTART;TZID=UTC:20250920T130000
DTEND;TZID=UTC:20250920T140000
DTSTAMP:20260424T203853
CREATED:20250908T012413Z
LAST-MODIFIED:20250908T012413Z
UID:11055-1758373200-1758376800@hkcentre.onesky.org
SUMMARY:嬰兒照顧工作坊
DESCRIPTION:增進照顧嬰幼兒的知識，從親子關係角度出發， 了解嬰兒餵哺手法、沖涼換片的技巧、嬰兒按摩技巧，及如何調整嬰幼兒作息及睡眠習慣。
URL:https://hkcentre.onesky.org/event/%e5%ac%b0%e5%85%92%e7%85%a7%e9%a1%a7%e5%b7%a5%e4%bd%9c%e5%9d%8a-9-20/
END:VEVENT
BEGIN:VEVENT
DTSTART;TZID=UTC:20250923T100000
DTEND;TZID=UTC:20250923T113000
DTSTAMP:20260424T203853
CREATED:20250814T064817Z
LAST-MODIFIED:20250814T064817Z
UID:10951-1758621600-1758627000@hkcentre.onesky.org
SUMMARY:0-2歲親子主題班
DESCRIPTION:九月份的主題是《幫助我們的人》。與孩子參加從星期二至星期六舉辦的親子活動遊戲班，活動包括繪本閱讀、團隊遊戲、自由遊戲、唱遊、圖工等豐富多樣的內容。一片天老師將會與各位照顧者分享不同的育兒知識及技巧，讓您在輕鬆愉快的氛圍中學習和成長。每節活動的時間為1.5小時，內容充實而有趣，立即報名，與我們一起渡過愉快的時光！ \n 
URL:https://hkcentre.onesky.org/event/0-2%e6%ad%b2%e8%a6%aa%e5%ad%90%e4%b8%bb%e9%a1%8c%e7%8f%ad-9-24-2/
END:VEVENT
BEGIN:VEVENT
DTSTART;TZID=UTC:20250923T160000
DTEND;TZID=UTC:20250923T173000
DTSTAMP:20260424T203853
CREATED:20250910T015732Z
LAST-MODIFIED:20250910T015732Z
UID:11220-1758643200-1758648600@hkcentre.onesky.org
SUMMARY:九月十月生日會
DESCRIPTION:
URL:https://hkcentre.onesky.org/event/%e4%b9%9d%e6%9c%88%e5%8d%81%e6%9c%88%e7%94%9f%e6%97%a5%e6%9c%83/
END:VEVENT
BEGIN:VEVENT
DTSTART;TZID=UTC:20250923T170000
DTEND;TZID=UTC:20250923T183000
DTSTAMP:20260424T203853
CREATED:20250814T070652Z
LAST-MODIFIED:20250814T070652Z
UID:10995-1758646800-1758652200@hkcentre.onesky.org
SUMMARY:3-5歲主題班
DESCRIPTION:九月份的主題是《幫助我們的人》。與孩子參加從星期二至星期六舉辦的親子活動遊戲班，活動包括繪本閱讀、團隊遊戲、自由遊戲、唱遊、圖工等豐富多樣的內容。一片天老師將會與各位照顧者分享不同的育兒知識及技巧，讓您在輕鬆愉快的氛圍中學習和成長。每節活動的時間為1.5小時，內容充實而有趣，立即報名，與我們一起度過愉快的時光！ \n 
URL:https://hkcentre.onesky.org/event/3-5%e6%ad%b2%e4%b8%bb%e9%a1%8c%e7%8f%ad-3-2-4/
END:VEVENT
BEGIN:VEVENT
DTSTART;TZID=UTC:20250924T100000
DTEND;TZID=UTC:20250924T113000
DTSTAMP:20260424T203853
CREATED:20250814T064603Z
LAST-MODIFIED:20250814T064622Z
UID:10938-1758708000-1758713400@hkcentre.onesky.org
SUMMARY:0-2歲親子主題班
DESCRIPTION:九月份的主題是《幫助我們的人》。與孩子參加從星期二至星期六舉辦的親子活動遊戲班，活動包括繪本閱讀、團隊遊戲、自由遊戲、唱遊、圖工等豐富多樣的內容。一片天老師將會與各位照顧者分享不同的育兒知識及技巧，讓您在輕鬆愉快的氛圍中學習和成長。每節活動的時間為1.5小時，內容充實而有趣，立即報名，與我們一起渡過愉快的時光！ \n 
URL:https://hkcentre.onesky.org/event/0-2%e6%ad%b2%e8%a6%aa%e5%ad%90%e4%b8%bb%e9%a1%8c%e7%8f%ad-9-24/
END:VEVENT
BEGIN:VEVENT
DTSTART;TZID=UTC:20250924T100000
DTEND;TZID=UTC:20250924T113000
DTSTAMP:20260424T203853
CREATED:20250910T015917Z
LAST-MODIFIED:20250910T015917Z
UID:11226-1758708000-1758713400@hkcentre.onesky.org
SUMMARY:親子實戰課0-2歲 - 建立關係系列篇
DESCRIPTION:
URL:https://hkcentre.onesky.org/event/%e8%a6%aa%e5%ad%90%e5%af%a6%e6%88%b0%e8%aa%b20-2%e6%ad%b2-%e5%bb%ba%e7%ab%8b%e9%97%9c%e4%bf%82%e7%b3%bb%e5%88%97%e7%af%87-2-2/
END:VEVENT
BEGIN:VEVENT
DTSTART;TZID=UTC:20250924T160000
DTEND;TZID=UTC:20250924T173000
DTSTAMP:20260424T203853
CREATED:20250910T015805Z
LAST-MODIFIED:20250910T015805Z
UID:11223-1758729600-1758735000@hkcentre.onesky.org
SUMMARY:九月、十月生日會
DESCRIPTION:
URL:https://hkcentre.onesky.org/event/%e4%b9%9d%e6%9c%88%e3%80%81%e5%8d%81%e6%9c%88%e7%94%9f%e6%97%a5%e6%9c%83/
END:VEVENT
BEGIN:VEVENT
DTSTART;TZID=UTC:20250925T100000
DTEND;TZID=UTC:20250925T113000
DTSTAMP:20260424T203853
CREATED:20250814T065252Z
LAST-MODIFIED:20250814T065252Z
UID:10968-1758794400-1758799800@hkcentre.onesky.org
SUMMARY:0-2歲親子主題班
DESCRIPTION:九月份的主題是《幫助我們的人》。與孩子參加從星期二至星期六舉辦的親子活動遊戲班，活動包括繪本閱讀、團隊遊戲、自由遊戲、唱遊、圖工等豐富多樣的內容。一片天老師將會與各位照顧者分享不同的育兒知識及技巧，讓您在輕鬆愉快的氛圍中學習和成長。每節活動的時間為1.5小時，內容充實而有趣，立即報名，與我們一起渡過愉快的時光！ \n 
URL:https://hkcentre.onesky.org/event/0-2%e6%ad%b2%e8%a6%aa%e5%ad%90%e4%b8%bb%e9%a1%8c%e7%8f%ad-9-25/
END:VEVENT
BEGIN:VEVENT
DTSTART;TZID=UTC:20250925T100000
DTEND;TZID=UTC:20250925T113000
DTSTAMP:20260424T203853
CREATED:20250910T015955Z
LAST-MODIFIED:20250910T015955Z
UID:11229-1758794400-1758799800@hkcentre.onesky.org
SUMMARY:親子實戰課0-2歲 - 建立關係系列篇
DESCRIPTION:
URL:https://hkcentre.onesky.org/event/%e8%a6%aa%e5%ad%90%e5%af%a6%e6%88%b0%e8%aa%b20-2%e6%ad%b2-%e5%bb%ba%e7%ab%8b%e9%97%9c%e4%bf%82%e7%b3%bb%e5%88%97%e7%af%87-2-3/
END:VEVENT
BEGIN:VEVENT
DTSTART;TZID=UTC:20250925T170000
DTEND;TZID=UTC:20250925T183000
DTSTAMP:20260424T203854
CREATED:20250814T065544Z
LAST-MODIFIED:20250814T065544Z
UID:10975-1758819600-1758825000@hkcentre.onesky.org
SUMMARY:0-2歲親子主題班
DESCRIPTION:九月份的主題是《幫助我們的人》。與孩子參加從星期二至星期六舉辦的親子活動遊戲班，活動包括繪本閱讀、團隊遊戲、自由遊戲、唱遊、圖工等豐富多樣的內容。一片天老師將會與各位照顧者分享不同的育兒知識及技巧，讓您在輕鬆愉快的氛圍中學習和成長。每節活動的時間為1.5小時，內容充實而有趣，立即報名，與我們一起渡過愉快的時光！ \n 
URL:https://hkcentre.onesky.org/event/0-2%e6%ad%b2%e8%a6%aa%e5%ad%90%e4%b8%bb%e9%a1%8c%e7%8f%ad-9-25-3/
END:VEVENT
BEGIN:VEVENT
DTSTART;TZID=UTC:20250925T170000
DTEND;TZID=UTC:20250925T183000
DTSTAMP:20260424T203854
CREATED:20250910T020053Z
LAST-MODIFIED:20250910T020053Z
UID:11232-1758819600-1758825000@hkcentre.onesky.org
SUMMARY:親子美術班
DESCRIPTION:
URL:https://hkcentre.onesky.org/event/%e8%a6%aa%e5%ad%90%e7%be%8e%e8%a1%93%e7%8f%ad-3/
END:VEVENT
BEGIN:VEVENT
DTSTART;TZID=UTC:20250926T150000
DTEND;TZID=UTC:20250926T160000
DTSTAMP:20260424T203854
CREATED:20250905T082423Z
LAST-MODIFIED:20250905T082423Z
UID:11030-1758898800-1758902400@hkcentre.onesky.org
SUMMARY:中秋長幼工作坊-冰皮月餅
DESCRIPTION:這個中秋，我們邀請長輩與年輕一代一起動手做冰皮月餅！在溫馨的互動中，分享手作的樂趣，傳承節日的溫暖。透過共同製作月餅，促進跨代交流，創造屬於你們的中秋回憶。名額有限，立即報名參加！
URL:https://hkcentre.onesky.org/event/%e4%b8%ad%e7%a7%8b%e9%95%b7%e5%b9%bc%e5%b7%a5%e4%bd%9c%e5%9d%8a-%e5%86%b0%e7%9a%ae%e6%9c%88%e9%a4%85-3-7/
END:VEVENT
BEGIN:VEVENT
DTSTART;TZID=UTC:20250926T150000
DTEND;TZID=UTC:20250926T160000
DTSTAMP:20260424T203854
CREATED:20250908T012136Z
LAST-MODIFIED:20250908T012230Z
UID:11046-1758898800-1758902400@hkcentre.onesky.org
SUMMARY:嬰兒照顧工作坊
DESCRIPTION:增進照顧嬰幼兒的知識，從親子關係角度出發， 了解嬰兒餵哺手法、沖涼換片的技巧、嬰兒按摩技巧，及如何調整嬰幼兒作息及睡眠習慣。
URL:https://hkcentre.onesky.org/event/%e5%ac%b0%e5%85%92%e7%85%a7%e9%a1%a7%e5%b7%a5%e4%bd%9c%e5%9d%8a-9-26/
END:VEVENT
BEGIN:VEVENT
DTSTART;TZID=UTC:20250926T150000
DTEND;TZID=UTC:20250926T160000
DTSTAMP:20260424T203854
CREATED:20250910T020453Z
LAST-MODIFIED:20250910T020512Z
UID:11235-1758898800-1758902400@hkcentre.onesky.org
SUMMARY:中秋長幼工作坊-冰皮月餅
DESCRIPTION:這個中秋，我們邀請長輩與年輕一代一起動手做冰皮月餅！在溫馨的互動中，分享手作的樂趣，傳承節日的溫暖。透過共同製作月餅，促進跨代交流，創造屬於你們的中秋回憶。名額有限，立即報名參加！
URL:https://hkcentre.onesky.org/event/%e4%b8%ad%e7%a7%8b%e9%95%b7%e5%b9%bc%e5%b7%a5%e4%bd%9c%e5%9d%8a-%e5%86%b0%e7%9a%ae%e6%9c%88%e9%a4%85-4-2/
END:VEVENT
BEGIN:VEVENT
DTSTART;TZID=UTC:20250926T170000
DTEND;TZID=UTC:20250926T180000
DTSTAMP:20260424T203854
CREATED:20250905T082408Z
LAST-MODIFIED:20250905T082408Z
UID:11029-1758906000-1758909600@hkcentre.onesky.org
SUMMARY:中秋長幼工作坊-冰皮月餅
DESCRIPTION:這個中秋，我們邀請長輩與年輕一代一起動手做冰皮月餅！在溫馨的互動中，分享手作的樂趣，傳承節日的溫暖。透過共同製作月餅，促進跨代交流，創造屬於你們的中秋回憶。名額有限，立即報名參加！
URL:https://hkcentre.onesky.org/event/%e4%b8%ad%e7%a7%8b%e9%95%b7%e5%b9%bc%e5%b7%a5%e4%bd%9c%e5%9d%8a-%e5%86%b0%e7%9a%ae%e6%9c%88%e9%a4%85-3-6/
END:VEVENT
BEGIN:VEVENT
DTSTART;TZID=UTC:20250926T170000
DTEND;TZID=UTC:20250926T183000
DTSTAMP:20260424T203854
CREATED:20250910T023041Z
LAST-MODIFIED:20250910T023041Z
UID:11242-1758906000-1758911400@hkcentre.onesky.org
SUMMARY:親子實戰課3-6歲班- 建立關係系列篇
DESCRIPTION:
URL:https://hkcentre.onesky.org/event/%e8%a6%aa%e5%ad%90%e5%af%a6%e6%88%b0%e8%aa%b23-6%e6%ad%b2%e7%8f%ad-%e5%bb%ba%e7%ab%8b%e9%97%9c%e4%bf%82%e7%b3%bb%e5%88%97%e7%af%87-2/
END:VEVENT
BEGIN:VEVENT
DTSTART;TZID=UTC:20250927T130000
DTEND;TZID=UTC:20250927T140000
DTSTAMP:20260424T203854
CREATED:20250908T012450Z
LAST-MODIFIED:20250908T012450Z
UID:11056-1758978000-1758981600@hkcentre.onesky.org
SUMMARY:嬰兒照顧工作坊
DESCRIPTION:增進照顧嬰幼兒的知識，從親子關係角度出發， 了解嬰兒餵哺手法、沖涼換片的技巧、嬰兒按摩技巧，及如何調整嬰幼兒作息及睡眠習慣。
URL:https://hkcentre.onesky.org/event/%e5%ac%b0%e5%85%92%e7%85%a7%e9%a1%a7%e5%b7%a5%e4%bd%9c%e5%9d%8a-9-27/
END:VEVENT
BEGIN:VEVENT
DTSTART;TZID=UTC:20250930T170000
DTEND;TZID=UTC:20250930T183000
DTSTAMP:20260424T203854
CREATED:20250814T070659Z
LAST-MODIFIED:20250814T070659Z
UID:10997-1759251600-1759257000@hkcentre.onesky.org
SUMMARY:3-5歲主題班
DESCRIPTION:九月份的主題是《幫助我們的人》。與孩子參加從星期二至星期六舉辦的親子活動遊戲班，活動包括繪本閱讀、團隊遊戲、自由遊戲、唱遊、圖工等豐富多樣的內容。一片天老師將會與各位照顧者分享不同的育兒知識及技巧，讓您在輕鬆愉快的氛圍中學習和成長。每節活動的時間為1.5小時，內容充實而有趣，立即報名，與我們一起度過愉快的時光！ \n 
URL:https://hkcentre.onesky.org/event/3-5%e6%ad%b2%e4%b8%bb%e9%a1%8c%e7%8f%ad-3-2-5/
END:VEVENT
END:VCALENDAR