BEGIN:VCALENDAR
VERSION:2.0
PRODID:-//OneSky Hong Kong Centre - ECPv6.15.5//NONSGML v1.0//EN
CALSCALE:GREGORIAN
METHOD:PUBLISH
X-ORIGINAL-URL:https://hkcentre.onesky.org
X-WR-CALDESC:OneSky Hong Kong Centre的活动
REFRESH-INTERVAL;VALUE=DURATION:PT1H
X-Robots-Tag:noindex
X-PUBLISHED-TTL:PT1H
BEGIN:VTIMEZONE
TZID:UTC
BEGIN:STANDARD
TZOFFSETFROM:+0000
TZOFFSETTO:+0000
TZNAME:UTC
DTSTART:20250101T000000
END:STANDARD
END:VTIMEZONE
BEGIN:VEVENT
DTSTART;TZID=UTC:20250712T103000
DTEND;TZID=UTC:20250712T123000
DTSTAMP:20260423T114113
CREATED:20250526T035108Z
LAST-MODIFIED:20250526T035108Z
UID:9796-1752316200-1752323400@hkcentre.onesky.org
SUMMARY:親子寵物工作坊
DESCRIPTION:適合親子一同參與的活動！內容包括： \n(1)動物主題手作DIY——動手創作可愛動物手作 \n(2)探訪待領養動物——認識並與動物互動，建立與自然的連結，學習善待動物 \n輕鬆有趣，適合喜歡動物的家庭參加！
URL:https://hkcentre.onesky.org/event/%e8%a6%aa%e5%ad%90%e5%af%b5%e7%89%a9%e5%b7%a5%e4%bd%9c%e5%9d%8a/
END:VEVENT
BEGIN:VEVENT
DTSTART;TZID=UTC:20250712T130000
DTEND;TZID=UTC:20250712T143000
DTSTAMP:20260423T114113
CREATED:20250618T035503Z
LAST-MODIFIED:20250618T035503Z
UID:10156-1752325200-1752330600@hkcentre.onesky.org
SUMMARY:0-2歲親子主題班
DESCRIPTION:七月份的主題是《食物變變變》。與孩子參加從星期二至星期六舉辦的親子活動遊戲班，活動包括繪本閱讀、團隊遊戲、自由遊戲、唱遊、圖工等豐富多樣的內容。一片天老師將會與各位照顧者分享不同的育兒知識及技巧，讓您在輕鬆愉快的氛圍中學習和成長。每節活動的時間為1.5小時，內容充實而有趣，立即報名，與我們一起度過愉快的時光！ \n 
URL:https://hkcentre.onesky.org/event/0-2%e6%ad%b2%e8%a6%aa%e5%ad%90%e4%b8%bb%e9%a1%8c%e7%8f%ad-5-7-2/
END:VEVENT
BEGIN:VEVENT
DTSTART;TZID=UTC:20250712T143000
DTEND;TZID=UTC:20250712T163000
DTSTAMP:20260423T114113
CREATED:20250526T035142Z
LAST-MODIFIED:20250526T035142Z
UID:9799-1752330600-1752337800@hkcentre.onesky.org
SUMMARY:親子寵物工作坊
DESCRIPTION:適合親子一同參與的活動！內容包括： \n(1)動物主題手作DIY——動手創作可愛動物手作 \n(2)探訪待領養動物——認識並與動物互動，建立與自然的連結，學習善待動物 \n輕鬆有趣，適合喜歡動物的家庭參加！
URL:https://hkcentre.onesky.org/event/%e8%a6%aa%e5%ad%90%e5%af%b5%e7%89%a9%e5%b7%a5%e4%bd%9c%e5%9d%8a-2/
END:VEVENT
BEGIN:VEVENT
DTSTART;TZID=UTC:20250714T150000
DTEND;TZID=UTC:20250714T160000
DTSTAMP:20260423T114113
CREATED:20250625T092000Z
LAST-MODIFIED:20250625T092000Z
UID:10226-1752505200-1752508800@hkcentre.onesky.org
SUMMARY:長幼小食工作坊-雞絲粉皮製作班
DESCRIPTION:深受大人小朋友喜歡的「米紙創意小食」再次登場! 今次我們使用米紙DIY健康版「雞絲粉皮」，好玩又美味！小朋友可以學習簡單廚藝，發揮創意，更可以與家長一同享受親子下廚的樂趣。活動適合3歲或以上幼兒及照顧者參與。
URL:https://hkcentre.onesky.org/event/%e9%95%b7%e5%b9%bc%e5%b0%8f%e9%a3%9f%e5%b7%a5%e4%bd%9c%e5%9d%8a-%e9%9b%9e%e7%b5%b2%e7%b2%89%e7%9a%ae%e8%a3%bd%e4%bd%9c%e7%8f%ad/
END:VEVENT
BEGIN:VEVENT
DTSTART;TZID=UTC:20250714T170000
DTEND;TZID=UTC:20250714T180000
DTSTAMP:20260423T114113
CREATED:20250625T092034Z
LAST-MODIFIED:20250625T092034Z
UID:10229-1752512400-1752516000@hkcentre.onesky.org
SUMMARY:長幼小食工作坊-雞絲粉皮製作班
DESCRIPTION:深受大人小朋友喜歡的「米紙創意小食」再次登場! 今次我們使用米紙DIY健康版「雞絲粉皮」，好玩又美味！小朋友可以學習簡單廚藝，發揮創意，更可以與家長一同享受親子下廚的樂趣。活動適合3歲或以上幼兒及照顧者參與。
URL:https://hkcentre.onesky.org/event/%e9%95%b7%e5%b9%bc%e5%b0%8f%e9%a3%9f%e5%b7%a5%e4%bd%9c%e5%9d%8a-%e9%9b%9e%e7%b5%b2%e7%b2%89%e7%9a%ae%e8%a3%bd%e4%bd%9c%e7%8f%ad-2/
END:VEVENT
BEGIN:VEVENT
DTSTART;TZID=UTC:20250715T100000
DTEND;TZID=UTC:20250715T113000
DTSTAMP:20260423T114113
CREATED:20250618T034934Z
LAST-MODIFIED:20250618T034934Z
UID:10105-1752573600-1752579000@hkcentre.onesky.org
SUMMARY:0-2歲親子主題班
DESCRIPTION:七月份的主題是《食物變變變》。與孩子參加從星期二至星期六舉辦的親子活動遊戲班，活動包括繪本閱讀、團隊遊戲、自由遊戲、唱遊、圖工等豐富多樣的內容。一片天老師將會與各位照顧者分享不同的育兒知識及技巧，讓您在輕鬆愉快的氛圍中學習和成長。每節活動的時間為1.5小時，內容充實而有趣，立即報名，與我們一起度過愉快的時光！ \n 
URL:https://hkcentre.onesky.org/event/0-2%e6%ad%b2%e8%a6%aa%e5%ad%90%e4%b8%bb%e9%a1%8c%e7%8f%ad-8-7-4/
END:VEVENT
BEGIN:VEVENT
DTSTART;TZID=UTC:20250715T103000
DTEND;TZID=UTC:20250715T120000
DTSTAMP:20260423T114113
CREATED:20250612T022705Z
LAST-MODIFIED:20250612T022705Z
UID:10019-1752575400-1752580800@hkcentre.onesky.org
SUMMARY:嬰兒照顧工作坊（頭/面篇）
DESCRIPTION:增進照顧嬰幼兒的知識，從親子關係角度出發， 了解嬰兒餵哺手法、沖涼換片的技巧、嬰兒按摩技巧，及如何調整嬰幼兒作息及睡眠習慣。
URL:https://hkcentre.onesky.org/event/%e5%ac%b0%e5%85%92%e7%85%a7%e9%a1%a7%e5%b7%a5%e4%bd%9c%e5%9d%8a%ef%bc%88%e9%a0%ad-%e9%9d%a2%e7%af%87%ef%bc%89/
END:VEVENT
BEGIN:VEVENT
DTSTART;TZID=UTC:20250715T143000
DTEND;TZID=UTC:20250715T160000
DTSTAMP:20260423T114113
CREATED:20250519T072448Z
LAST-MODIFIED:20250519T072448Z
UID:9463-1752589800-1752595200@hkcentre.onesky.org
SUMMARY:「專題工作坊」系列之《愛是 ...》
DESCRIPTION:讓我們在育見路上稍息，一起重新思考什麼是「愛」，一起學習如何愛我們的孩子吧!
URL:https://hkcentre.onesky.org/event/%e3%80%8c%e5%b0%88%e9%a1%8c%e5%b7%a5%e4%bd%9c%e5%9d%8a%e3%80%8d%e7%b3%bb%e5%88%97%e4%b9%8b%e3%80%8a%e6%84%9b%e6%98%af-%e3%80%8b/
END:VEVENT
BEGIN:VEVENT
DTSTART;TZID=UTC:20250715T143000
DTEND;TZID=UTC:20250715T160000
DTSTAMP:20260423T114113
CREATED:20250613T041924Z
LAST-MODIFIED:20250613T042826Z
UID:10043-1752589800-1752595200@hkcentre.onesky.org
SUMMARY:《看繪本學手語》之貓熊澡堂
DESCRIPTION:有興趣透過繪本學習手語嗎？手語不僅能豐富故事情節，更能幫助幼兒理解繪本中的詞彙。本次活動將與大家共讀《貓熊澡堂》，透過聽故事、學手語、玩遊戲，讓閱讀體驗更加生動有趣!
URL:https://hkcentre.onesky.org/event/%e3%80%8a%e7%9c%8b%e7%b9%aa%e6%9c%ac%e5%ad%b8%e6%89%8b%e8%aa%9e%e3%80%8b%e4%b9%8b%e8%b2%93%e7%86%8a%e6%be%a1%e5%a0%82/
END:VEVENT
BEGIN:VEVENT
DTSTART;TZID=UTC:20250715T170000
DTEND;TZID=UTC:20250715T183000
DTSTAMP:20260423T114113
CREATED:20250618T035657Z
LAST-MODIFIED:20250618T035657Z
UID:10168-1752598800-1752604200@hkcentre.onesky.org
SUMMARY:3-5歲親子主題班
DESCRIPTION:七月份的主題是《食物變變變》。與孩子參加從星期二至星期六舉辦的親子活動遊戲班，活動包括繪本閱讀、團隊遊戲、自由遊戲、唱遊、圖工等豐富多樣的內容。一片天老師將會與各位照顧者分享不同的育兒知識及技巧，讓您在輕鬆愉快的氛圍中學習和成長。每節活動的時間為1.5小時，內容充實而有趣，立即報名，與我們一起度過愉快的時光！ \n 
URL:https://hkcentre.onesky.org/event/0-2%e6%ad%b2%e8%a6%aa%e5%ad%90%e4%b8%bb%e9%a1%8c%e7%8f%ad-5-7-5-2/
END:VEVENT
BEGIN:VEVENT
DTSTART;TZID=UTC:20250716T094500
DTEND;TZID=UTC:20250716T114500
DTSTAMP:20260423T114113
CREATED:20250520T080144Z
LAST-MODIFIED:20250520T080144Z
UID:9722-1752659100-1752666300@hkcentre.onesky.org
SUMMARY:照顧者培訓課程
DESCRIPTION:課程圍繞成長、照顧、管教、情緒、遊戲和閱讀 6 大主題，與參加者介紹回應式管教、了解和回應幼兒的情緒，和如何引導與賦予幼兒能力等理論。課程共分8節，歡迎兒童照顧者，包括家長和祖父母等參加。出席率達 80%及小測取得合格成績可獲取證書，並有機會參加中心實習和受聘成為一片天社區好幫手。 \n 
URL:https://hkcentre.onesky.org/event/%e7%85%a7%e9%a1%a7%e8%80%85%e5%9f%b9%e8%a8%93%e8%aa%b2%e7%a8%8b-12-4-4/
END:VEVENT
BEGIN:VEVENT
DTSTART;TZID=UTC:20250716T100000
DTEND;TZID=UTC:20250716T113000
DTSTAMP:20260423T114113
CREATED:20250618T035030Z
LAST-MODIFIED:20250618T035030Z
UID:10115-1752660000-1752665400@hkcentre.onesky.org
SUMMARY:0-2歲親子主題班
DESCRIPTION:七月份的主題是《食物變變變》。與孩子參加從星期二至星期六舉辦的親子活動遊戲班，活動包括繪本閱讀、團隊遊戲、自由遊戲、唱遊、圖工等豐富多樣的內容。一片天老師將會與各位照顧者分享不同的育兒知識及技巧，讓您在輕鬆愉快的氛圍中學習和成長。每節活動的時間為1.5小時，內容充實而有趣，立即報名，與我們一起度過愉快的時光！ \n 
URL:https://hkcentre.onesky.org/event/0-2%e6%ad%b2%e8%a6%aa%e5%ad%90%e4%b8%bb%e9%a1%8c%e7%8f%ad-8-7-4-3/
END:VEVENT
BEGIN:VEVENT
DTSTART;TZID=UTC:20250716T100000
DTEND;TZID=UTC:20250716T120000
DTSTAMP:20260423T114113
CREATED:20250626T012544Z
LAST-MODIFIED:20250626T012544Z
UID:10251-1752660000-1752667200@hkcentre.onesky.org
SUMMARY:照顧者活動 - 編繩小袋子製作
DESCRIPTION:鬱悶時，試試Macrame繩結編織吧！Macrame 編織法毋須使用任何工具，只靠雙手重複打結，人人都可上手。與其他照顧者一起專注手上的動作，投入編織，放下外界的事物和突然浮現的想法，找回內心的平靜!
URL:https://hkcentre.onesky.org/event/%e7%85%a7%e9%a1%a7%e8%80%85%e6%b4%bb%e5%8b%95-%e7%b7%a8%e7%b9%a9%e5%b0%8f%e8%a2%8b%e5%ad%90%e8%a3%bd%e4%bd%9c/
END:VEVENT
BEGIN:VEVENT
DTSTART;TZID=UTC:20250716T140000
DTEND;TZID=UTC:20250716T153000
DTSTAMP:20260423T114113
CREATED:20250630T011639Z
LAST-MODIFIED:20250630T011639Z
UID:10334-1752674400-1752679800@hkcentre.onesky.org
SUMMARY:K-POP 照顧者舞蹈班
DESCRIPTION:與照顧者共同探索音樂與節奏，享受K-POP 樂趣，促進健康。
URL:https://hkcentre.onesky.org/event/k-pop-%e7%85%a7%e9%a1%a7%e8%80%85%e8%88%9e%e8%b9%88%e7%8f%ad-20/
END:VEVENT
BEGIN:VEVENT
DTSTART;TZID=UTC:20250716T140000
DTEND;TZID=UTC:20250716T160000
DTSTAMP:20260423T114113
CREATED:20250520T075826Z
LAST-MODIFIED:20250520T075826Z
UID:9695-1752674400-1752681600@hkcentre.onesky.org
SUMMARY:照顧者培訓課程
DESCRIPTION:課程圍繞成長、照顧、管教、情緒、遊戲和閱讀 6 大主題，與參加者介紹回應式管教、了解和回應幼兒的情緒，和如何引導與賦予幼兒能力等理論。課程共分8節，歡迎兒童照顧者，包括家長和祖父母等參加。出席率達 80%及小測取得合格成績可獲取證書，並有機會參加中心實習和受聘成為一片天社區好幫手。 \n 
URL:https://hkcentre.onesky.org/event/%e7%85%a7%e9%a1%a7%e8%80%85%e5%9f%b9%e8%a8%93%e8%aa%b2%e7%a8%8b-16-2-3-2-4/
END:VEVENT
BEGIN:VEVENT
DTSTART;TZID=UTC:20250717T100000
DTEND;TZID=UTC:20250717T113000
DTSTAMP:20260423T114113
CREATED:20250519T072523Z
LAST-MODIFIED:20250519T072523Z
UID:9466-1752746400-1752751800@hkcentre.onesky.org
SUMMARY:「專題工作坊」系列之《愛是 ...》
DESCRIPTION:讓我們在育見路上稍息，一起重新思考什麼是「愛」，一起學習如何愛我們的孩子吧!
URL:https://hkcentre.onesky.org/event/%e3%80%8c%e5%b0%88%e9%a1%8c%e5%b7%a5%e4%bd%9c%e5%9d%8a%e3%80%8d%e7%b3%bb%e5%88%97%e4%b9%8b%e3%80%8a%e6%84%9b%e6%98%af-%e3%80%8b-2/
END:VEVENT
BEGIN:VEVENT
DTSTART;TZID=UTC:20250717T100000
DTEND;TZID=UTC:20250717T113000
DTSTAMP:20260423T114113
CREATED:20250618T035144Z
LAST-MODIFIED:20250618T035144Z
UID:10127-1752746400-1752751800@hkcentre.onesky.org
SUMMARY:0-2歲親子主題班
DESCRIPTION:七月份的主題是《食物變變變》。與孩子參加從星期二至星期六舉辦的親子活動遊戲班，活動包括繪本閱讀、團隊遊戲、自由遊戲、唱遊、圖工等豐富多樣的內容。一片天老師將會與各位照顧者分享不同的育兒知識及技巧，讓您在輕鬆愉快的氛圍中學習和成長。每節活動的時間為1.5小時，內容充實而有趣，立即報名，與我們一起度過愉快的時光！ \n 
URL:https://hkcentre.onesky.org/event/0-2%e6%ad%b2%e8%a6%aa%e5%ad%90%e4%b8%bb%e9%a1%8c%e7%8f%ad-8-7-4-5-2/
END:VEVENT
BEGIN:VEVENT
DTSTART;TZID=UTC:20250717T113000
DTEND;TZID=UTC:20250717T130000
DTSTAMP:20260423T114113
CREATED:20250618T033742Z
LAST-MODIFIED:20250618T033742Z
UID:10081-1752751800-1752757200@hkcentre.onesky.org
SUMMARY:暑期兒童美術活動
DESCRIPTION:今個暑假一片天與 Gowld Art Centre 合作，攜手推出專為幼兒設計的藝術啟蒙課。課程由韓籍藝術導師負責，透過趣味繪畫活動，讓孩子在色彩與線條中激發無限想像力，同時自然學習英文詞彙。活動適合2-6歲幼兒及照顧者。
URL:https://hkcentre.onesky.org/event/%e6%9a%91%e6%9c%9f%e5%85%92%e7%ab%a5%e7%be%8e%e8%a1%93%e6%b4%bb%e5%8b%95-2/
END:VEVENT
BEGIN:VEVENT
DTSTART;TZID=UTC:20250717T140000
DTEND;TZID=UTC:20250717T160000
DTSTAMP:20260423T114113
CREATED:20250626T012720Z
LAST-MODIFIED:20250626T012720Z
UID:10260-1752760800-1752768000@hkcentre.onesky.org
SUMMARY:照顧者活動 - 編繩小袋子製作
DESCRIPTION:鬱悶時，試試Macrame繩結編織吧！Macrame 編織法毋須使用任何工具，只靠雙手重複打結，人人都可上手。與其他照顧者一起專注手上的動作，投入編織，放下外界的事物和突然浮現的想法，找回內心的平靜!
URL:https://hkcentre.onesky.org/event/%e7%85%a7%e9%a1%a7%e8%80%85%e6%b4%bb%e5%8b%95-%e7%b7%a8%e7%b9%a9%e5%b0%8f%e8%a2%8b%e5%ad%90%e8%a3%bd%e4%bd%9c-4/
END:VEVENT
BEGIN:VEVENT
DTSTART;TZID=UTC:20250717T170000
DTEND;TZID=UTC:20250717T183000
DTSTAMP:20260423T114113
CREATED:20250618T035329Z
LAST-MODIFIED:20250618T035329Z
UID:10144-1752771600-1752777000@hkcentre.onesky.org
SUMMARY:0-2歲親子主題班
DESCRIPTION:七月份的主題是《食物變變變》。與孩子參加從星期二至星期六舉辦的親子活動遊戲班，活動包括繪本閱讀、團隊遊戲、自由遊戲、唱遊、圖工等豐富多樣的內容。一片天老師將會與各位照顧者分享不同的育兒知識及技巧，讓您在輕鬆愉快的氛圍中學習和成長。每節活動的時間為1.5小時，內容充實而有趣，立即報名，與我們一起度過愉快的時光！ \n 
URL:https://hkcentre.onesky.org/event/0-2%e6%ad%b2%e8%a6%aa%e5%ad%90%e4%b8%bb%e9%a1%8c%e7%8f%ad-8-7-4-5-4-2-2/
END:VEVENT
BEGIN:VEVENT
DTSTART;TZID=UTC:20250718T094500
DTEND;TZID=UTC:20250718T114500
DTSTAMP:20260423T114113
CREATED:20250520T080244Z
LAST-MODIFIED:20250520T080244Z
UID:9726-1752831900-1752839100@hkcentre.onesky.org
SUMMARY:照顧者培訓課程
DESCRIPTION:課程圍繞成長、照顧、管教、情緒、遊戲和閱讀 6 大主題，與參加者介紹回應式管教、了解和回應幼兒的情緒，和如何引導與賦予幼兒能力等理論。課程共分8節，歡迎兒童照顧者，包括家長和祖父母等參加。出席率達 80%及小測取得合格成績可獲取證書，並有機會參加中心實習和受聘成為一片天社區好幫手。 \n 
URL:https://hkcentre.onesky.org/event/%e7%85%a7%e9%a1%a7%e8%80%85%e5%9f%b9%e8%a8%93%e8%aa%b2%e7%a8%8b-12-4-8/
END:VEVENT
BEGIN:VEVENT
DTSTART;TZID=UTC:20250718T103000
DTEND;TZID=UTC:20250718T120000
DTSTAMP:20260423T114113
CREATED:20250619T074216Z
LAST-MODIFIED:20250619T074216Z
UID:10209-1752834600-1752840000@hkcentre.onesky.org
SUMMARY:走出一片天－探訪瀕危物種資源中心
DESCRIPTION:這個夏天，讓小朋友展開一場特別的社區探險！齊齊來到深水埗的瀕危物種資源中心，透過生動有趣的互動體驗，讓孩子們認識珍貴的動植物，學習保護生態的重要性，從小培養愛護環境的意識！快來報名，給孩子種下環保的種子！
URL:https://hkcentre.onesky.org/event/%e8%b5%b0%e5%87%ba%e4%b8%80%e7%89%87%e5%a4%a9%ef%bc%8d%e6%8e%a2%e8%a8%aa%e7%80%95%e5%8d%b1%e7%89%a9%e7%a8%ae%e8%b3%87%e6%ba%90%e4%b8%ad%e5%bf%83/
END:VEVENT
BEGIN:VEVENT
DTSTART;TZID=UTC:20250718T113000
DTEND;TZID=UTC:20250718T130000
DTSTAMP:20260423T114114
CREATED:20250618T033927Z
LAST-MODIFIED:20250618T033927Z
UID:10091-1752838200-1752843600@hkcentre.onesky.org
SUMMARY:暑期兒童美術活動
DESCRIPTION:今個暑假一片天與 Gowld Art Centre 合作，攜手推出專為幼兒設計的藝術啟蒙課。課程由韓籍藝術導師負責，透過趣味繪畫活動，讓孩子在色彩與線條中激發無限想像力，同時自然學習英文詞彙。活動適合2-6歲幼兒及照顧者。
URL:https://hkcentre.onesky.org/event/%e6%9a%91%e6%9c%9f%e5%85%92%e7%ab%a5%e7%be%8e%e8%a1%93%e6%b4%bb%e5%8b%95-4-3/
END:VEVENT
BEGIN:VEVENT
DTSTART;TZID=UTC:20250718T140000
DTEND;TZID=UTC:20250718T153000
DTSTAMP:20260423T114114
CREATED:20250626T012029Z
LAST-MODIFIED:20250626T012029Z
UID:10242-1752847200-1752852600@hkcentre.onesky.org
SUMMARY:照顧者活動之扭扭髮飾DIY - 款式A2
DESCRIPTION:與家長一起運用平凡的扭扭棒，發揮創意製作可愛的卡通造型掛飾和髮飾，不論成人還是孩子都適合配戴 ！
URL:https://hkcentre.onesky.org/event/%e7%85%a7%e9%a1%a7%e8%80%85%e6%b4%bb%e5%8b%95%e4%b9%8b%e6%89%ad%e6%89%ad%e6%a3%92diy-%e6%ac%be%e5%bc%8fa-3/
END:VEVENT
BEGIN:VEVENT
DTSTART;TZID=UTC:20250718T140000
DTEND;TZID=UTC:20250718T160000
DTSTAMP:20260423T114114
CREATED:20250520T075919Z
LAST-MODIFIED:20250520T075919Z
UID:9699-1752847200-1752854400@hkcentre.onesky.org
SUMMARY:照顧者培訓課程
DESCRIPTION:課程圍繞成長、照顧、管教、情緒、遊戲和閱讀 6 大主題，與參加者介紹回應式管教、了解和回應幼兒的情緒，和如何引導與賦予幼兒能力等理論。課程共分8節，歡迎兒童照顧者，包括家長和祖父母等參加。出席率達 80%及小測取得合格成績可獲取證書，並有機會參加中心實習和受聘成為一片天社區好幫手。 \n 
URL:https://hkcentre.onesky.org/event/%e7%85%a7%e9%a1%a7%e8%80%85%e5%9f%b9%e8%a8%93%e8%aa%b2%e7%a8%8b-16-2-3-2-8/
END:VEVENT
BEGIN:VEVENT
DTSTART;TZID=UTC:20250719T100000
DTEND;TZID=UTC:20250719T113000
DTSTAMP:20260423T114114
CREATED:20250702T014021Z
LAST-MODIFIED:20250702T014021Z
UID:10377-1752919200-1752924600@hkcentre.onesky.org
SUMMARY:BABY跳舞班
DESCRIPTION:透過活動肢體，配合音樂，齊齊享受跳舞樂趣，改善肢體協調，提升幼兒自信，改善親子關係。適合2.5歲或以下幼兒及其照顧者參加。
URL:https://hkcentre.onesky.org/event/baby%e8%b7%b3%e8%88%9e%e7%8f%ad-19-7/
END:VEVENT
BEGIN:VEVENT
DTSTART;TZID=UTC:20250719T130000
DTEND;TZID=UTC:20250719T143000
DTSTAMP:20260423T114114
CREATED:20250618T035511Z
LAST-MODIFIED:20250618T035511Z
UID:10157-1752930000-1752935400@hkcentre.onesky.org
SUMMARY:0-2歲親子主題班
DESCRIPTION:七月份的主題是《食物變變變》。與孩子參加從星期二至星期六舉辦的親子活動遊戲班，活動包括繪本閱讀、團隊遊戲、自由遊戲、唱遊、圖工等豐富多樣的內容。一片天老師將會與各位照顧者分享不同的育兒知識及技巧，讓您在輕鬆愉快的氛圍中學習和成長。每節活動的時間為1.5小時，內容充實而有趣，立即報名，與我們一起度過愉快的時光！ \n 
URL:https://hkcentre.onesky.org/event/0-2%e6%ad%b2%e8%a6%aa%e5%ad%90%e4%b8%bb%e9%a1%8c%e7%8f%ad-5-7-3/
END:VEVENT
BEGIN:VEVENT
DTSTART;TZID=UTC:20250719T150000
DTEND;TZID=UTC:20250719T163000
DTSTAMP:20260423T114114
CREATED:20250702T013336Z
LAST-MODIFIED:20250702T013336Z
UID:10359-1752937200-1752942600@hkcentre.onesky.org
SUMMARY:親子跳舞班
DESCRIPTION:幼兒和照顧者透過活動肢體，配合音樂，齊齊享受跳舞樂趣，改善肢體協調，提升幼兒自信，改善親子關係。 \n 
URL:https://hkcentre.onesky.org/event/%e8%a6%aa%e5%ad%90%e8%b7%b3%e8%88%9e%e7%8f%ad-19-7/
END:VEVENT
BEGIN:VEVENT
DTSTART;TZID=UTC:20250721T150000
DTEND;TZID=UTC:20250721T163000
DTSTAMP:20260423T114114
CREATED:20250618T032558Z
LAST-MODIFIED:20250618T032558Z
UID:10064-1753110000-1753115400@hkcentre.onesky.org
SUMMARY:親子音樂活動《水果樂繽紛》
DESCRIPTION:透過兒歌《水果樂繽紛》的節奏與遊戲，參與親子唱遊和音樂遊戲體驗，與0-2歲寶寶探索水果世界，刺激感官發展，親子共創音樂初體驗！
URL:https://hkcentre.onesky.org/event/%e8%a6%aa%e5%ad%90%e9%9f%b3%e6%a8%82%e6%b4%bb%e5%8b%95%e3%80%8a%e6%b0%b4%e6%9e%9c%e6%a8%82%e7%b9%bd%e7%b4%9b%e3%80%8b/
END:VEVENT
BEGIN:VEVENT
DTSTART;TZID=UTC:20250722T100000
DTEND;TZID=UTC:20250722T113000
DTSTAMP:20260423T114114
CREATED:20250618T034915Z
LAST-MODIFIED:20250618T034915Z
UID:10106-1753178400-1753183800@hkcentre.onesky.org
SUMMARY:0-2歲親子主題班
DESCRIPTION:七月份的主題是《食物變變變》。與孩子參加從星期二至星期六舉辦的親子活動遊戲班，活動包括繪本閱讀、團隊遊戲、自由遊戲、唱遊、圖工等豐富多樣的內容。一片天老師將會與各位照顧者分享不同的育兒知識及技巧，讓您在輕鬆愉快的氛圍中學習和成長。每節活動的時間為1.5小時，內容充實而有趣，立即報名，與我們一起度過愉快的時光！ \n 
URL:https://hkcentre.onesky.org/event/0-2%e6%ad%b2%e8%a6%aa%e5%ad%90%e4%b8%bb%e9%a1%8c%e7%8f%ad-8-7-2/
END:VEVENT
END:VCALENDAR