BEGIN:VCALENDAR
VERSION:2.0
PRODID:-//OneSky Hong Kong Centre - ECPv6.15.5//NONSGML v1.0//EN
CALSCALE:GREGORIAN
METHOD:PUBLISH
X-ORIGINAL-URL:https://hkcentre.onesky.org
X-WR-CALDESC:OneSky Hong Kong Centre的活动
REFRESH-INTERVAL;VALUE=DURATION:PT1H
X-Robots-Tag:noindex
X-PUBLISHED-TTL:PT1H
BEGIN:VTIMEZONE
TZID:UTC
BEGIN:STANDARD
TZOFFSETFROM:+0000
TZOFFSETTO:+0000
TZNAME:UTC
DTSTART:20250101T000000
END:STANDARD
END:VTIMEZONE
BEGIN:VEVENT
DTSTART;TZID=UTC:20250807T100000
DTEND;TZID=UTC:20250807T113000
DTSTAMP:20260424T220349
CREATED:20250731T032530Z
LAST-MODIFIED:20250731T032530Z
UID:10548-1754560800-1754566200@hkcentre.onesky.org
SUMMARY:哥哥姐姐活動之桌遊樂繽紛
DESCRIPTION:
URL:https://hkcentre.onesky.org/event/%e5%93%a5%e5%93%a5%e5%a7%90%e5%a7%90%e6%b4%bb%e5%8b%95%e4%b9%8b%e6%a1%8c%e9%81%8a%e6%a8%82%e7%b9%bd%e7%b4%9b-2/
END:VEVENT
BEGIN:VEVENT
DTSTART;TZID=UTC:20250807T100000
DTEND;TZID=UTC:20250807T113000
DTSTAMP:20260424T220349
CREATED:20250731T043959Z
LAST-MODIFIED:20250731T043959Z
UID:10797-1754560800-1754566200@hkcentre.onesky.org
SUMMARY:0-2歲親子主題班
DESCRIPTION:與孩子參加從星期二至星期六舉辦的親子活動遊戲班，活動包括繪本閱讀、團隊遊戲、自由遊戲、唱遊、圖工等豐富多樣的內容。一片天老師將會與各位照顧者分享不同的育兒知識及技巧，讓您在輕鬆愉快的氛圍中學習和成長。每節活動的時間為1.5小時，內容充實而有趣，立即報名，與我們一起度過愉快的時光！ \n 
URL:https://hkcentre.onesky.org/event/0-2%e6%ad%b2%e8%a6%aa%e5%ad%90%e4%b8%bb%e9%a1%8c%e7%8f%ad-8-7-4-5-3-4/
END:VEVENT
BEGIN:VEVENT
DTSTART;TZID=UTC:20250807T113000
DTEND;TZID=UTC:20250807T130000
DTSTAMP:20260424T220349
CREATED:20250731T023912Z
LAST-MODIFIED:20250731T023912Z
UID:10516-1754566200-1754571600@hkcentre.onesky.org
SUMMARY:暑期兒童美術活動
DESCRIPTION:今個暑假一片天與 Gowld Art Centre 合作，攜手推出專為幼兒設計的藝術啟蒙課。課程由韓籍藝術導師負責，透過趣味繪畫活動，讓孩子在色彩與線條中激發無限想像力，同時自然學習英文詞彙。活動適合2-6歲幼兒及照顧者。 \n 
URL:https://hkcentre.onesky.org/event/%e6%9a%91%e6%9c%9f%e5%85%92%e7%ab%a5%e7%be%8e%e8%a1%93%e6%b4%bb%e5%8b%95-5-4/
END:VEVENT
BEGIN:VEVENT
DTSTART;TZID=UTC:20250807T150000
DTEND;TZID=UTC:20250807T163000
DTSTAMP:20260424T220349
CREATED:20250731T033627Z
LAST-MODIFIED:20250731T033627Z
UID:10617-1754578800-1754584200@hkcentre.onesky.org
SUMMARY:哥哥姐姐活動之小食製作活動
DESCRIPTION:
URL:https://hkcentre.onesky.org/event/%e5%93%a5%e5%93%a5%e5%a7%90%e5%a7%90%e6%b4%bb%e5%8b%95%e4%b9%8b%e5%b0%8f%e9%a3%9f%e8%a3%bd%e4%bd%9c%e6%b4%bb%e5%8b%95-2/
END:VEVENT
BEGIN:VEVENT
DTSTART;TZID=UTC:20250807T150000
DTEND;TZID=UTC:20250807T163000
DTSTAMP:20260424T220349
CREATED:20250731T033932Z
LAST-MODIFIED:20250731T033932Z
UID:10638-1754578800-1754584200@hkcentre.onesky.org
SUMMARY:哥哥姐姐活動之動手做實驗
DESCRIPTION:
URL:https://hkcentre.onesky.org/event/%e5%93%a5%e5%93%a5%e5%a7%90%e5%a7%90%e6%b4%bb%e5%8b%95%e4%b9%8b%e5%8b%95%e6%89%8b%e5%81%9a%e5%af%a6%e9%a9%97/
END:VEVENT
BEGIN:VEVENT
DTSTART;TZID=UTC:20250807T163000
DTEND;TZID=UTC:20250807T180000
DTSTAMP:20260424T220349
CREATED:20250731T034556Z
LAST-MODIFIED:20250731T034556Z
UID:10680-1754584200-1754589600@hkcentre.onesky.org
SUMMARY:哥哥姐姐活動之暑期功課輔導班
DESCRIPTION:
URL:https://hkcentre.onesky.org/event/%e5%93%a5%e5%93%a5%e5%a7%90%e5%a7%90%e6%b4%bb%e5%8b%95%e4%b9%8b%e5%89%b5%e6%84%8f%e6%89%8b%e5%b7%a5%e8%97%9d%e7%8f%ad-2/
END:VEVENT
BEGIN:VEVENT
DTSTART;TZID=UTC:20250807T170000
DTEND;TZID=UTC:20250807T183000
DTSTAMP:20260424T220349
CREATED:20250731T044448Z
LAST-MODIFIED:20250731T044448Z
UID:10834-1754586000-1754591400@hkcentre.onesky.org
SUMMARY:0-2歲親子主題班
DESCRIPTION:與孩子參加從星期二至星期六舉辦的親子活動遊戲班，活動包括繪本閱讀、團隊遊戲、自由遊戲、唱遊、圖工等豐富多樣的內容。一片天老師將會與各位照顧者分享不同的育兒知識及技巧，讓您在輕鬆愉快的氛圍中學習和成長。每節活動的時間為1.5小時，內容充實而有趣，立即報名，與我們一起度過愉快的時光！ \n 
URL:https://hkcentre.onesky.org/event/0-2%e6%ad%b2%e8%a6%aa%e5%ad%90%e4%b8%bb%e9%a1%8c%e7%8f%ad-5-7-3-2/
END:VEVENT
BEGIN:VEVENT
DTSTART;TZID=UTC:20250808T100000
DTEND;TZID=UTC:20250808T113000
DTSTAMP:20260424T220349
CREATED:20250731T033439Z
LAST-MODIFIED:20250731T033439Z
UID:10605-1754647200-1754652600@hkcentre.onesky.org
SUMMARY:哥哥姐姐活動之開心英語遊蹤
DESCRIPTION:
URL:https://hkcentre.onesky.org/event/%e5%93%a5%e5%93%a5%e5%a7%90%e5%a7%90%e6%b4%bb%e5%8b%95%e4%b9%8b%e9%96%8b%e5%bf%83%e8%8b%b1%e8%aa%9e%e9%81%8a%e8%b9%a4-2/
END:VEVENT
BEGIN:VEVENT
DTSTART;TZID=UTC:20250808T113000
DTEND;TZID=UTC:20250808T130000
DTSTAMP:20260424T220349
CREATED:20250731T023925Z
LAST-MODIFIED:20250731T023925Z
UID:10515-1754652600-1754658000@hkcentre.onesky.org
SUMMARY:暑期兒童美術活動
DESCRIPTION:今個暑假一片天與 Gowld Art Centre 合作，攜手推出專為幼兒設計的藝術啟蒙課。課程由韓籍藝術導師負責，透過趣味繪畫活動，讓孩子在色彩與線條中激發無限想像力，同時自然學習英文詞彙。活動適合2-6歲幼兒及照顧者。 \n 
URL:https://hkcentre.onesky.org/event/%e6%9a%91%e6%9c%9f%e5%85%92%e7%ab%a5%e7%be%8e%e8%a1%93%e6%b4%bb%e5%8b%95-5-5/
END:VEVENT
BEGIN:VEVENT
DTSTART;TZID=UTC:20250808T150000
DTEND;TZID=UTC:20250808T163000
DTSTAMP:20260424T220349
CREATED:20250731T033207Z
LAST-MODIFIED:20250731T033207Z
UID:10584-1754665200-1754670600@hkcentre.onesky.org
SUMMARY:哥哥姐姐活動之創意手工藝
DESCRIPTION:
URL:https://hkcentre.onesky.org/event/%e5%93%a5%e5%93%a5%e5%a7%90%e5%a7%90%e6%b4%bb%e5%8b%95%e4%b9%8b%e5%89%b5%e6%84%8f%e6%89%8b%e5%b7%a5%e8%97%9d-8/
END:VEVENT
BEGIN:VEVENT
DTSTART;TZID=UTC:20250808T150000
DTEND;TZID=UTC:20250808T163000
DTSTAMP:20260424T220349
CREATED:20250731T033814Z
LAST-MODIFIED:20250731T033814Z
UID:10629-1754665200-1754670600@hkcentre.onesky.org
SUMMARY:哥哥姐姐活動之小食製作活動
DESCRIPTION:
URL:https://hkcentre.onesky.org/event/%e5%93%a5%e5%93%a5%e5%a7%90%e5%a7%90%e6%b4%bb%e5%8b%95%e4%b9%8b%e5%b0%8f%e9%a3%9f%e8%a3%bd%e4%bd%9c%e6%b4%bb%e5%8b%95-6/
END:VEVENT
BEGIN:VEVENT
DTSTART;TZID=UTC:20250808T150000
DTEND;TZID=UTC:20250808T163000
DTSTAMP:20260424T220349
CREATED:20250731T034122Z
LAST-MODIFIED:20250731T034122Z
UID:10650-1754665200-1754670600@hkcentre.onesky.org
SUMMARY:哥哥姐姐活動之動手做實驗
DESCRIPTION:
URL:https://hkcentre.onesky.org/event/%e5%93%a5%e5%93%a5%e5%a7%90%e5%a7%90%e6%b4%bb%e5%8b%95%e4%b9%8b%e5%8b%95%e6%89%8b%e5%81%9a%e5%af%a6%e9%a9%97-4-2/
END:VEVENT
BEGIN:VEVENT
DTSTART;TZID=UTC:20250808T150000
DTEND;TZID=UTC:20250808T163000
DTSTAMP:20260424T220349
CREATED:20250804T065435Z
LAST-MODIFIED:20250804T065435Z
UID:10917-1754665200-1754670600@hkcentre.onesky.org
SUMMARY:長幼小食工作坊-水果可可木糠杯
DESCRIPTION:誠邀長者與幼兒一同參與，親手製作香甜美味的「可可木糠杯」。這場無火無烤焗的簡單甜點工作坊，讓小朋友可以輕鬆動手，透過層層疊疊的製作過程，不僅能增強手眼協調能力，更讓長幼兩代增進跨代感情，享受親手完成甜點的喜悅。 \n 
URL:https://hkcentre.onesky.org/event/%e9%95%b7%e5%b9%bc%e5%b0%8f%e9%a3%9f%e5%b7%a5%e4%bd%9c%e5%9d%8a-%e6%b0%b4%e6%9e%9c%e5%8f%af%e5%8f%af%e5%8d%83%e5%b1%a4%e8%9b%8b%e7%b3%95-4/
END:VEVENT
BEGIN:VEVENT
DTSTART;TZID=UTC:20250808T163000
DTEND;TZID=UTC:20250808T180000
DTSTAMP:20260424T220349
CREATED:20250731T034605Z
LAST-MODIFIED:20250731T034605Z
UID:10681-1754670600-1754676000@hkcentre.onesky.org
SUMMARY:哥哥姐姐活動之暑期功課輔導班
DESCRIPTION:
URL:https://hkcentre.onesky.org/event/%e5%93%a5%e5%93%a5%e5%a7%90%e5%a7%90%e6%b4%bb%e5%8b%95%e4%b9%8b%e5%89%b5%e6%84%8f%e6%89%8b%e5%b7%a5%e8%97%9d%e7%8f%ad-3/
END:VEVENT
BEGIN:VEVENT
DTSTART;TZID=UTC:20250808T170000
DTEND;TZID=UTC:20250808T183000
DTSTAMP:20260424T220349
CREATED:20250804T065504Z
LAST-MODIFIED:20250804T065504Z
UID:10918-1754672400-1754677800@hkcentre.onesky.org
SUMMARY:長幼小食工作坊-水果可可木糠杯
DESCRIPTION:誠邀長者與幼兒一同參與，親手製作香甜美味的「可可木糠杯」。這場無火無烤焗的簡單甜點工作坊，讓小朋友可以輕鬆動手，透過層層疊疊的製作過程，不僅能增強手眼協調能力，更讓長幼兩代增進跨代感情，享受親手完成甜點的喜悅。
URL:https://hkcentre.onesky.org/event/%e9%95%b7%e5%b9%bc%e5%b0%8f%e9%a3%9f%e5%b7%a5%e4%bd%9c%e5%9d%8a-%e6%b0%b4%e6%9e%9c%e5%8f%af%e5%8f%af%e5%8d%83%e5%b1%a4%e8%9b%8b%e7%b3%95-5/
END:VEVENT
BEGIN:VEVENT
DTSTART;TZID=UTC:20250811T120000
DTEND;TZID=UTC:20250811T130000
DTSTAMP:20260424T220349
CREATED:20250804T065104Z
LAST-MODIFIED:20250804T065104Z
UID:10908-1754913600-1754917200@hkcentre.onesky.org
SUMMARY:長幼小食工作坊-水果可可千層蛋糕
DESCRIPTION:工作坊讓長者與幼兒一同親手製作美味的「水果可可千層蛋糕」。在輕鬆愉快的氣氛中，透過層層疊疊的蛋糕製作過程，培養幼兒的專注力和手眼協調，更為跨代家庭創造珍貴的互動時光。
URL:https://hkcentre.onesky.org/event/%e9%95%b7%e5%b9%bc%e5%b0%8f%e9%a3%9f%e5%b7%a5%e4%bd%9c%e5%9d%8a-%e6%b0%b4%e6%9e%9c%e5%8f%af%e5%8f%af%e5%8d%83%e5%b1%a4%e8%9b%8b%e7%b3%95/
END:VEVENT
BEGIN:VEVENT
DTSTART;TZID=UTC:20250811T150000
DTEND;TZID=UTC:20250811T160000
DTSTAMP:20260424T220349
CREATED:20250804T065204Z
LAST-MODIFIED:20250804T065204Z
UID:10911-1754924400-1754928000@hkcentre.onesky.org
SUMMARY:長幼小食工作坊-水果可可千層蛋糕
DESCRIPTION:工作坊讓長者與幼兒一同親手製作美味的「水果可可千層蛋糕」。在輕鬆愉快的氣氛中，透過層層疊疊的蛋糕製作過程，培養幼兒的專注力和手眼協調，更為跨代家庭創造珍貴的互動時光。 \n 
URL:https://hkcentre.onesky.org/event/%e9%95%b7%e5%b9%bc%e5%b0%8f%e9%a3%9f%e5%b7%a5%e4%bd%9c%e5%9d%8a-%e6%b0%b4%e6%9e%9c%e5%8f%af%e5%8f%af%e5%8d%83%e5%b1%a4%e8%9b%8b%e7%b3%95-2/
END:VEVENT
BEGIN:VEVENT
DTSTART;TZID=UTC:20250811T150000
DTEND;TZID=UTC:20250811T164500
DTSTAMP:20260424T220349
CREATED:20250717T051205Z
LAST-MODIFIED:20250717T051205Z
UID:10446-1754924400-1754930700@hkcentre.onesky.org
SUMMARY:親子繪本創作樂
DESCRIPTION:相信每個小朋友都有一本最愛的繪本。這次我們邀請家長與孩子一起，以「食物」為主題，創作屬於自己的繪本！我們會介紹各種與食物相關的繪本，引導親子共同構思、創作。透過過程培養孩子的創造力、想像力和表達能力。讓孩子成為小小故事家，從閱讀到創作，開啟無限可能！適合3-5歲的幼兒及其照顧者參加\, 亦歡迎哥哥姐姐參與。
URL:https://hkcentre.onesky.org/event/%e8%a6%aa%e5%ad%90%e7%b9%aa%e6%9c%ac%e5%89%b5%e4%bd%9c%e6%a8%82-2/
END:VEVENT
BEGIN:VEVENT
DTSTART;TZID=UTC:20250811T170000
DTEND;TZID=UTC:20250811T180000
DTSTAMP:20260424T220349
CREATED:20250804T065217Z
LAST-MODIFIED:20250804T065217Z
UID:10912-1754931600-1754935200@hkcentre.onesky.org
SUMMARY:長幼小食工作坊-水果可可千層蛋糕
DESCRIPTION:﻿工作坊讓長者與幼兒一同親手製作美味的「水果可可千層蛋糕」。在輕鬆愉快的氣氛中，透過層層疊疊的蛋糕製作過程，培養幼兒的專注力和手眼協調，更為跨代家庭創造珍貴的互動時光。
URL:https://hkcentre.onesky.org/event/%e9%95%b7%e5%b9%bc%e5%b0%8f%e9%a3%9f%e5%b7%a5%e4%bd%9c%e5%9d%8a-%e6%b0%b4%e6%9e%9c%e5%8f%af%e5%8f%af%e5%8d%83%e5%b1%a4%e8%9b%8b%e7%b3%95-3/
END:VEVENT
BEGIN:VEVENT
DTSTART;TZID=UTC:20250812T100000
DTEND;TZID=UTC:20250812T113000
DTSTAMP:20260424T220349
CREATED:20250731T032641Z
LAST-MODIFIED:20250731T032641Z
UID:10560-1754992800-1754998200@hkcentre.onesky.org
SUMMARY:哥哥姐姐活動之桌遊樂繽紛
DESCRIPTION:
URL:https://hkcentre.onesky.org/event/%e5%93%a5%e5%93%a5%e5%a7%90%e5%a7%90%e6%b4%bb%e5%8b%95%e4%b9%8b%e6%a1%8c%e9%81%8a%e6%a8%82%e7%b9%bd%e7%b4%9b-6/
END:VEVENT
BEGIN:VEVENT
DTSTART;TZID=UTC:20250812T100000
DTEND;TZID=UTC:20250812T113000
DTSTAMP:20260424T220349
CREATED:20250731T044051Z
LAST-MODIFIED:20250731T044051Z
UID:10804-1754992800-1754998200@hkcentre.onesky.org
SUMMARY:0-2歲親子主題班
DESCRIPTION:與孩子參加從星期二至星期六舉辦的親子活動遊戲班，活動包括繪本閱讀、團隊遊戲、自由遊戲、唱遊、圖工等豐富多樣的內容。一片天老師將會與各位照顧者分享不同的育兒知識及技巧，讓您在輕鬆愉快的氛圍中學習和成長。每節活動的時間為1.5小時，內容充實而有趣，立即報名，與我們一起度過愉快的時光！ \n 
URL:https://hkcentre.onesky.org/event/0-2%e6%ad%b2%e8%a6%aa%e5%ad%90%e4%b8%bb%e9%a1%8c%e7%8f%ad-8-7-4-5-3-4-2/
END:VEVENT
BEGIN:VEVENT
DTSTART;TZID=UTC:20250812T113000
DTEND;TZID=UTC:20250812T130000
DTSTAMP:20260424T220349
CREATED:20250731T035154Z
LAST-MODIFIED:20250731T035154Z
UID:10719-1754998200-1755003600@hkcentre.onesky.org
SUMMARY:暑期兒童美術活動
DESCRIPTION:今個暑假一片天與 Gowld Art Centre 合作，攜手推出專為幼兒設計的藝術啟蒙課。課程由韓籍藝術導師負責，透過趣味繪畫活動，讓孩子在色彩與線條中激發無限想像力，同時自然學習英文詞彙。活動適合2-6歲幼兒及照顧者。 \n 
URL:https://hkcentre.onesky.org/event/%e6%9a%91%e6%9c%9f%e5%85%92%e7%ab%a5%e7%be%8e%e8%a1%93%e6%b4%bb%e5%8b%95-5-5-5/
END:VEVENT
BEGIN:VEVENT
DTSTART;TZID=UTC:20250812T170000
DTEND;TZID=UTC:20250812T183000
DTSTAMP:20260424T220349
CREATED:20250731T044736Z
LAST-MODIFIED:20250731T044736Z
UID:10847-1755018000-1755023400@hkcentre.onesky.org
SUMMARY:3-5歲親子主題班
DESCRIPTION:與孩子參加從星期二至星期六舉辦的親子活動遊戲班，活動包括繪本閱讀、團隊遊戲、自由遊戲、唱遊、圖工等豐富多樣的內容。一片天老師將會與各位照顧者分享不同的育兒知識及技巧，讓您在輕鬆愉快的氛圍中學習和成長。每節活動的時間為1.5小時，內容充實而有趣，立即報名，與我們一起度過愉快的時光！ \n 
URL:https://hkcentre.onesky.org/event/0-2%e6%ad%b2%e8%a6%aa%e5%ad%90%e4%b8%bb%e9%a1%8c%e7%8f%ad-5-7-5-7/
END:VEVENT
BEGIN:VEVENT
DTSTART;TZID=UTC:20250813T100000
DTEND;TZID=UTC:20250813T113000
DTSTAMP:20260424T220349
CREATED:20250731T034421Z
LAST-MODIFIED:20250731T034421Z
UID:10671-1755079200-1755084600@hkcentre.onesky.org
SUMMARY:哥哥姐姐活動之繪本多樂趣
DESCRIPTION:
URL:https://hkcentre.onesky.org/event/%e5%93%a5%e5%93%a5%e5%a7%90%e5%a7%90%e6%b4%bb%e5%8b%95%e4%b9%8b%e7%b9%aa%e6%9c%ac%e5%a4%9a%e6%a8%82%e8%b6%a3-2/
END:VEVENT
BEGIN:VEVENT
DTSTART;TZID=UTC:20250813T100000
DTEND;TZID=UTC:20250813T113000
DTSTAMP:20260424T220349
CREATED:20250731T044100Z
LAST-MODIFIED:20250731T044100Z
UID:10805-1755079200-1755084600@hkcentre.onesky.org
SUMMARY:0-2歲親子主題班
DESCRIPTION:與孩子參加從星期二至星期六舉辦的親子活動遊戲班，活動包括繪本閱讀、團隊遊戲、自由遊戲、唱遊、圖工等豐富多樣的內容。一片天老師將會與各位照顧者分享不同的育兒知識及技巧，讓您在輕鬆愉快的氛圍中學習和成長。每節活動的時間為1.5小時，內容充實而有趣，立即報名，與我們一起度過愉快的時光！ \n 
URL:https://hkcentre.onesky.org/event/0-2%e6%ad%b2%e8%a6%aa%e5%ad%90%e4%b8%bb%e9%a1%8c%e7%8f%ad-8-7-4-5-3-4-3/
END:VEVENT
BEGIN:VEVENT
DTSTART;TZID=UTC:20250813T113000
DTEND;TZID=UTC:20250813T130000
DTSTAMP:20260424T220349
CREATED:20250731T035046Z
LAST-MODIFIED:20250731T035046Z
UID:10710-1755084600-1755090000@hkcentre.onesky.org
SUMMARY:暑期兒童美術活動
DESCRIPTION:今個暑假一片天與 Gowld Art Centre 合作，攜手推出專為幼兒設計的藝術啟蒙課。課程由韓籍藝術導師負責，透過趣味繪畫活動，讓孩子在色彩與線條中激發無限想像力，同時自然學習英文詞彙。活動適合2-6歲幼兒及照顧者。 \n 
URL:https://hkcentre.onesky.org/event/%e6%9a%91%e6%9c%9f%e5%85%92%e7%ab%a5%e7%be%8e%e8%a1%93%e6%b4%bb%e5%8b%95-5-5-2/
END:VEVENT
BEGIN:VEVENT
DTSTART;TZID=UTC:20250813T133000
DTEND;TZID=UTC:20250813T150000
DTSTAMP:20260424T220349
CREATED:20250731T033339Z
LAST-MODIFIED:20250731T033339Z
UID:10596-1755091800-1755097200@hkcentre.onesky.org
SUMMARY:哥哥姐姐活動之主題:開心英語遊蹤
DESCRIPTION:
URL:https://hkcentre.onesky.org/event/%e5%93%a5%e5%93%a5%e5%a7%90%e5%a7%90%e6%b4%bb%e5%8b%95%e4%b9%8b%e4%b8%bb%e9%a1%8c%e9%96%8b%e5%bf%83%e8%8b%b1%e8%aa%9e%e9%81%8a%e8%b9%a4-2/
END:VEVENT
BEGIN:VEVENT
DTSTART;TZID=UTC:20250813T133000
DTEND;TZID=UTC:20250813T153000
DTSTAMP:20260424T220349
CREATED:20250731T042000Z
LAST-MODIFIED:20250731T042000Z
UID:10742-1755091800-1755099000@hkcentre.onesky.org
SUMMARY:走出一片天－「站見」鐵路展
DESCRIPTION:誠摯邀請幼兒與家庭一同參與「站見」鐵路展，與幼兒一起走出中心，探索列車的幕後運作與鐵路的小秘密。這趟獨特的旅程，將帶領我們走進鐵路世界，一同學習。
URL:https://hkcentre.onesky.org/event/%e8%b5%b0%e5%87%ba%e4%b8%80%e7%89%87%e5%a4%a9%ef%bc%8d%e3%80%8c%e7%ab%99%e8%a6%8b%e3%80%8d%e9%90%b5%e8%b7%af%e5%b1%95/
END:VEVENT
BEGIN:VEVENT
DTSTART;TZID=UTC:20250813T150000
DTEND;TZID=UTC:20250813T163000
DTSTAMP:20260424T220349
CREATED:20250731T032951Z
LAST-MODIFIED:20250731T032951Z
UID:10575-1755097200-1755102600@hkcentre.onesky.org
SUMMARY:哥哥姐姐活動之創意手工藝
DESCRIPTION:
URL:https://hkcentre.onesky.org/event/%e5%93%a5%e5%93%a5%e5%a7%90%e5%a7%90%e6%b4%bb%e5%8b%95%e4%b9%8b%e5%89%b5%e6%84%8f%e6%89%8b%e5%b7%a5%e8%97%9d-2/
END:VEVENT
BEGIN:VEVENT
DTSTART;TZID=UTC:20250813T160000
DTEND;TZID=UTC:20250813T173000
DTSTAMP:20260424T220349
CREATED:20250717T050425Z
LAST-MODIFIED:20250717T050425Z
UID:10437-1755100800-1755106200@hkcentre.onesky.org
SUMMARY:一片天七月及八月生日派對
DESCRIPTION:夏日生日之星看過來！我們準備了超好玩的夏日主題遊戲，邀請小朋友和照顧者一起來慶祝。記得今次的服裝主題是：繽紛彩色 × 夏日沙灘風。來穿上你最閃亮的夏日出遊裝！
URL:https://hkcentre.onesky.org/event/%e4%b8%80%e7%89%87%e5%a4%a9%e4%b8%83%e6%9c%88%e5%8f%8a%e5%85%ab%e6%9c%88%e7%94%9f%e6%97%a5%e6%b4%be%e5%b0%8d/
END:VEVENT
END:VCALENDAR