BEGIN:VCALENDAR
VERSION:2.0
PRODID:-//OneSky Hong Kong Centre - ECPv6.15.5//NONSGML v1.0//EN
CALSCALE:GREGORIAN
METHOD:PUBLISH
X-ORIGINAL-URL:https://hkcentre.onesky.org
X-WR-CALDESC:OneSky Hong Kong Centre的活动
REFRESH-INTERVAL;VALUE=DURATION:PT1H
X-Robots-Tag:noindex
X-PUBLISHED-TTL:PT1H
BEGIN:VTIMEZONE
TZID:UTC
BEGIN:STANDARD
TZOFFSETFROM:+0000
TZOFFSETTO:+0000
TZNAME:UTC
DTSTART:20250101T000000
END:STANDARD
END:VTIMEZONE
BEGIN:VEVENT
DTSTART;TZID=UTC:20251108T100000
DTEND;TZID=UTC:20251108T103000
DTSTAMP:20260425T021217
CREATED:20251030T070839Z
LAST-MODIFIED:20251030T070839Z
UID:11545-1762596000-1762597800@hkcentre.onesky.org
SUMMARY:3-5歲親子主題班
DESCRIPTION:11月 嘅主題係 繪本《小麻雀噹噹：今天的小意外》。與孩子參加從星期二至星期六舉辦的親子活動遊戲班，活動包括繪本閱讀、團隊遊戲、自由遊戲、唱遊、圖工等豐富多樣的內容。一片天老師將會與各位照顧者分享不同的育兒知識及技巧，讓您在輕鬆愉快的氛圍中學習和成長。每節活動的時間為1.5小時，內容充實而有趣，立即報名，與我們一起渡過愉快的時光！ \n 
URL:https://hkcentre.onesky.org/event/0-2%e6%ad%b2%e8%a6%aa%e5%ad%90%e4%b8%bb%e9%a1%8c%e7%8f%ad-2025-nov-3-5-4-3-5/
END:VEVENT
BEGIN:VEVENT
DTSTART;TZID=UTC:20251108T100000
DTEND;TZID=UTC:20251108T233000
DTSTAMP:20260425T021217
CREATED:20251030T065349Z
LAST-MODIFIED:20251030T065349Z
UID:11467-1762596000-1762644600@hkcentre.onesky.org
SUMMARY:0-2歲親子主題班
DESCRIPTION:11月 嘅主題係 繪本《小麻雀噹噹：今天的小意外》。與孩子參加從星期二至星期六舉辦的親子活動遊戲班，活動包括繪本閱讀、團隊遊戲、自由遊戲、唱遊、圖工等豐富多樣的內容。一片天老師將會與各位照顧者分享不同的育兒知識及技巧，讓您在輕鬆愉快的氛圍中學習和成長。每節活動的時間為1.5小時，內容充實而有趣，立即報名，與我們一起渡過愉快的時光！ \n 
URL:https://hkcentre.onesky.org/event/0-2%e6%ad%b2%e8%a6%aa%e5%ad%90%e4%b8%bb%e9%a1%8c%e7%8f%ad-2025-nov-13/
END:VEVENT
BEGIN:VEVENT
DTSTART;TZID=UTC:20251108T130000
DTEND;TZID=UTC:20251108T143000
DTSTAMP:20260425T021217
CREATED:20251030T065707Z
LAST-MODIFIED:20251030T065707Z
UID:11491-1762606800-1762612200@hkcentre.onesky.org
SUMMARY:0-2歲親子主題班
DESCRIPTION:11月 嘅主題係 繪本《小麻雀噹噹：今天的小意外》。與孩子參加從星期二至星期六舉辦的親子活動遊戲班，活動包括繪本閱讀、團隊遊戲、自由遊戲、唱遊、圖工等豐富多樣的內容。一片天老師將會與各位照顧者分享不同的育兒知識及技巧，讓您在輕鬆愉快的氛圍中學習和成長。每節活動的時間為1.5小時，內容充實而有趣，立即報名，與我們一起渡過愉快的時光！ \n 
URL:https://hkcentre.onesky.org/event/0-2%e6%ad%b2%e8%a6%aa%e5%ad%90%e4%b8%bb%e9%a1%8c%e7%8f%ad-2025-nov-17-4-2/
END:VEVENT
BEGIN:VEVENT
DTSTART;TZID=UTC:20251108T150000
DTEND;TZID=UTC:20251108T163000
DTSTAMP:20260425T021217
CREATED:20251030T065957Z
LAST-MODIFIED:20251030T065957Z
UID:11504-1762614000-1762619400@hkcentre.onesky.org
SUMMARY:0-2歲親子主題班
DESCRIPTION:11月 嘅主題係 繪本《小麻雀噹噹：今天的小意外》。與孩子參加從星期二至星期六舉辦的親子活動遊戲班，活動包括繪本閱讀、團隊遊戲、自由遊戲、唱遊、圖工等豐富多樣的內容。一片天老師將會與各位照顧者分享不同的育兒知識及技巧，讓您在輕鬆愉快的氛圍中學習和成長。每節活動的時間為1.5小時，內容充實而有趣，立即報名，與我們一起渡過愉快的時光！ \n 
URL:https://hkcentre.onesky.org/event/0-2%e6%ad%b2%e8%a6%aa%e5%ad%90%e4%b8%bb%e9%a1%8c%e7%8f%ad-2025-nov-17-4-2-4-2/
END:VEVENT
BEGIN:VEVENT
DTSTART;TZID=UTC:20251108T150000
DTEND;TZID=UTC:20251108T163000
DTSTAMP:20260425T021217
CREATED:20251030T070444Z
LAST-MODIFIED:20251030T070444Z
UID:11528-1762614000-1762619400@hkcentre.onesky.org
SUMMARY:3-5歲親子主題班
DESCRIPTION:11月 嘅主題係 繪本《小麻雀噹噹：今天的小意外》。與孩子參加從星期二至星期六舉辦的親子活動遊戲班，活動包括繪本閱讀、團隊遊戲、自由遊戲、唱遊、圖工等豐富多樣的內容。一片天老師將會與各位照顧者分享不同的育兒知識及技巧，讓您在輕鬆愉快的氛圍中學習和成長。每節活動的時間為1.5小時，內容充實而有趣，立即報名，與我們一起渡過愉快的時光！ \n 
URL:https://hkcentre.onesky.org/event/0-2%e6%ad%b2%e8%a6%aa%e5%ad%90%e4%b8%bb%e9%a1%8c%e7%8f%ad-2025-nov-3-5-4-2/
END:VEVENT
BEGIN:VEVENT
DTSTART;TZID=UTC:20251110T100000
DTEND;TZID=UTC:20251110T113000
DTSTAMP:20260425T021217
CREATED:20251027T055304Z
LAST-MODIFIED:20251027T055304Z
UID:11371-1762768800-1762774200@hkcentre.onesky.org
SUMMARY:照顧者活動 – 鈎織基礎班
DESCRIPTION:鈎織101基礎班與大家分享新手入門鈎織基礎針法，包括辮子針，鎖針，短針，長針，引拔針和加針，透過簡單的鈎織項目，讓參加者放鬆心情，享受創作的樂趣。 \n 
URL:https://hkcentre.onesky.org/event/%e7%85%a7%e9%a1%a7%e8%80%85%e6%b4%bb%e5%8b%95-%e9%88%8e%e7%b9%94%e5%9f%ba%e7%a4%8e%e7%8f%ad-11-10/
END:VEVENT
BEGIN:VEVENT
DTSTART;TZID=UTC:20251110T150000
DTEND;TZID=UTC:20251110T163000
DTSTAMP:20260425T021217
CREATED:20251027T060841Z
LAST-MODIFIED:20251027T060842Z
UID:11424-1762786800-1762792200@hkcentre.onesky.org
SUMMARY:英語遊戲小組
DESCRIPTION:
URL:https://hkcentre.onesky.org/event/%e8%8b%b1%e8%aa%9e%e9%81%8a%e6%88%b2%e5%b0%8f%e7%b5%84/
END:VEVENT
BEGIN:VEVENT
DTSTART;TZID=UTC:20251111T100000
DTEND;TZID=UTC:20251111T233000
DTSTAMP:20260425T021217
CREATED:20251030T064848Z
LAST-MODIFIED:20251030T064848Z
UID:11434-1762855200-1762903800@hkcentre.onesky.org
SUMMARY:0-2歲親子主題班
DESCRIPTION:11月 嘅主題係 繪本《小麻雀噹噹：今天的小意外》。與孩子參加從星期二至星期六舉辦的親子活動遊戲班，活動包括繪本閱讀、團隊遊戲、自由遊戲、唱遊、圖工等豐富多樣的內容。一片天老師將會與各位照顧者分享不同的育兒知識及技巧，讓您在輕鬆愉快的氛圍中學習和成長。每節活動的時間為1.5小時，內容充實而有趣，立即報名，與我們一起渡過愉快的時光！ \n 
URL:https://hkcentre.onesky.org/event/0-2%e6%ad%b2%e8%a6%aa%e5%ad%90%e4%b8%bb%e9%a1%8c%e7%8f%ad-2025-nov-2/
END:VEVENT
BEGIN:VEVENT
DTSTART;TZID=UTC:20251111T143000
DTEND;TZID=UTC:20251111T160000
DTSTAMP:20260425T021217
CREATED:20251027T060044Z
LAST-MODIFIED:20251027T060044Z
UID:11394-1762871400-1762876800@hkcentre.onesky.org
SUMMARY:親子美術活動之盲盒系列
DESCRIPTION:
URL:https://hkcentre.onesky.org/event/%e8%a6%aa%e5%ad%90%e7%be%8e%e8%a1%93%e6%b4%bb%e5%8b%95%e4%b9%8b%e7%9b%b2%e7%9b%92%e7%b3%bb%e5%88%97-4-2/
END:VEVENT
BEGIN:VEVENT
DTSTART;TZID=UTC:20251111T170000
DTEND;TZID=UTC:20251111T183000
DTSTAMP:20260425T021217
CREATED:20251030T070301Z
LAST-MODIFIED:20251030T070301Z
UID:11519-1762880400-1762885800@hkcentre.onesky.org
SUMMARY:3-5歲親子主題班
DESCRIPTION:11月 嘅主題係 繪本《小麻雀噹噹：今天的小意外》。與孩子參加從星期二至星期六舉辦的親子活動遊戲班，活動包括繪本閱讀、團隊遊戲、自由遊戲、唱遊、圖工等豐富多樣的內容。一片天老師將會與各位照顧者分享不同的育兒知識及技巧，讓您在輕鬆愉快的氛圍中學習和成長。每節活動的時間為1.5小時，內容充實而有趣，立即報名，與我們一起渡過愉快的時光！ \n 
URL:https://hkcentre.onesky.org/event/0-2%e6%ad%b2%e8%a6%aa%e5%ad%90%e4%b8%bb%e9%a1%8c%e7%8f%ad-2025-nov-3-5-2/
END:VEVENT
BEGIN:VEVENT
DTSTART;TZID=UTC:20251112T100000
DTEND;TZID=UTC:20251112T113000
DTSTAMP:20260425T021217
CREATED:20251027T055339Z
LAST-MODIFIED:20251027T055339Z
UID:11372-1762941600-1762947000@hkcentre.onesky.org
SUMMARY:照顧者活動 – 鈎織基礎班
DESCRIPTION:鈎織101基礎班與大家分享新手入門鈎織基礎針法，包括辮子針，鎖針，短針，長針，引拔針和加針，透過簡單的鈎織項目，讓參加者放鬆心情，享受創作的樂趣。 \n 
URL:https://hkcentre.onesky.org/event/%e7%85%a7%e9%a1%a7%e8%80%85%e6%b4%bb%e5%8b%95-%e9%88%8e%e7%b9%94%e5%9f%ba%e7%a4%8e%e7%8f%ad-11-12/
END:VEVENT
BEGIN:VEVENT
DTSTART;TZID=UTC:20251112T100000
DTEND;TZID=UTC:20251112T233000
DTSTAMP:20260425T021217
CREATED:20251030T065122Z
LAST-MODIFIED:20251030T065122Z
UID:11444-1762941600-1762990200@hkcentre.onesky.org
SUMMARY:0-2歲親子主題班
DESCRIPTION:11月 嘅主題係 繪本《小麻雀噹噹：今天的小意外》。與孩子參加從星期二至星期六舉辦的親子活動遊戲班，活動包括繪本閱讀、團隊遊戲、自由遊戲、唱遊、圖工等豐富多樣的內容。一片天老師將會與各位照顧者分享不同的育兒知識及技巧，讓您在輕鬆愉快的氛圍中學習和成長。每節活動的時間為1.5小時，內容充實而有趣，立即報名，與我們一起渡過愉快的時光！ \n 
URL:https://hkcentre.onesky.org/event/0-2%e6%ad%b2%e8%a6%aa%e5%ad%90%e4%b8%bb%e9%a1%8c%e7%8f%ad-2025-nov-6/
END:VEVENT
BEGIN:VEVENT
DTSTART;TZID=UTC:20251112T143000
DTEND;TZID=UTC:20251112T160000
DTSTAMP:20260425T021217
CREATED:20251027T060526Z
LAST-MODIFIED:20251027T060526Z
UID:11415-1762957800-1762963200@hkcentre.onesky.org
SUMMARY:照顧者活動之十字蝴蝶風鈴製作
DESCRIPTION:
URL:https://hkcentre.onesky.org/event/%e7%85%a7%e9%a1%a7%e8%80%85%e6%b4%bb%e5%8b%95%e4%b9%8b%e5%8d%81%e5%ad%97%e8%9d%b4%e8%9d%b6%e9%a2%a8%e9%88%b4%e8%a3%bd%e4%bd%9c/
END:VEVENT
BEGIN:VEVENT
DTSTART;TZID=UTC:20251112T150000
DTEND;TZID=UTC:20251112T160000
DTSTAMP:20260425T021217
CREATED:20251027T060915Z
LAST-MODIFIED:20251027T060915Z
UID:11427-1762959600-1762963200@hkcentre.onesky.org
SUMMARY:英語遊戲小組
DESCRIPTION:
URL:https://hkcentre.onesky.org/event/%e8%8b%b1%e8%aa%9e%e9%81%8a%e6%88%b2%e5%b0%8f%e7%b5%84-2/
END:VEVENT
BEGIN:VEVENT
DTSTART;TZID=UTC:20251113T100000
DTEND;TZID=UTC:20251113T233000
DTSTAMP:20260425T021217
CREATED:20251030T065237Z
LAST-MODIFIED:20251030T065237Z
UID:11456-1763028000-1763076600@hkcentre.onesky.org
SUMMARY:0-2歲親子主題班
DESCRIPTION:11月 嘅主題係 繪本《小麻雀噹噹：今天的小意外》。與孩子參加從星期二至星期六舉辦的親子活動遊戲班，活動包括繪本閱讀、團隊遊戲、自由遊戲、唱遊、圖工等豐富多樣的內容。一片天老師將會與各位照顧者分享不同的育兒知識及技巧，讓您在輕鬆愉快的氛圍中學習和成長。每節活動的時間為1.5小時，內容充實而有趣，立即報名，與我們一起渡過愉快的時光！ \n 
URL:https://hkcentre.onesky.org/event/0-2%e6%ad%b2%e8%a6%aa%e5%ad%90%e4%b8%bb%e9%a1%8c%e7%8f%ad-2025-nov-10/
END:VEVENT
BEGIN:VEVENT
DTSTART;TZID=UTC:20251113T170000
DTEND;TZID=UTC:20251113T183000
DTSTAMP:20260425T021217
CREATED:20251027T060427Z
LAST-MODIFIED:20251027T060427Z
UID:11412-1763053200-1763058600@hkcentre.onesky.org
SUMMARY:親子手作烏冬工作坊
DESCRIPTION:
URL:https://hkcentre.onesky.org/event/%e8%a6%aa%e5%ad%90%e6%89%8b%e4%bd%9c%e7%83%8f%e5%86%ac%e5%b7%a5%e4%bd%9c%e5%9d%8a-2/
END:VEVENT
BEGIN:VEVENT
DTSTART;TZID=UTC:20251113T170000
DTEND;TZID=UTC:20251113T183000
DTSTAMP:20260425T021217
CREATED:20251030T065606Z
LAST-MODIFIED:20251030T065606Z
UID:11482-1763053200-1763058600@hkcentre.onesky.org
SUMMARY:0-2歲親子主題班
DESCRIPTION:11月 嘅主題係 繪本《小麻雀噹噹：今天的小意外》。與孩子參加從星期二至星期六舉辦的親子活動遊戲班，活動包括繪本閱讀、團隊遊戲、自由遊戲、唱遊、圖工等豐富多樣的內容。一片天老師將會與各位照顧者分享不同的育兒知識及技巧，讓您在輕鬆愉快的氛圍中學習和成長。每節活動的時間為1.5小時，內容充實而有趣，立即報名，與我們一起渡過愉快的時光！ \n 
URL:https://hkcentre.onesky.org/event/0-2%e6%ad%b2%e8%a6%aa%e5%ad%90%e4%b8%bb%e9%a1%8c%e7%8f%ad-2025-nov-17-2/
END:VEVENT
BEGIN:VEVENT
DTSTART;TZID=UTC:20251114T100000
DTEND;TZID=UTC:20251114T113000
DTSTAMP:20260425T021217
CREATED:20251027T060153Z
LAST-MODIFIED:20251027T060153Z
UID:11400-1763114400-1763119800@hkcentre.onesky.org
SUMMARY:照顧者活動：大眼睛看繪本
DESCRIPTION:
URL:https://hkcentre.onesky.org/event/%e7%85%a7%e9%a1%a7%e8%80%85%e6%b4%bb%e5%8b%95%ef%bc%9a%e5%a4%a7%e7%9c%bc%e7%9d%9b%e7%9c%8b%e7%b9%aa%e6%9c%ac/
END:VEVENT
BEGIN:VEVENT
DTSTART;TZID=UTC:20251114T150000
DTEND;TZID=UTC:20251114T163000
DTSTAMP:20260425T021217
CREATED:20251030T071600Z
LAST-MODIFIED:20251030T071600Z
UID:11563-1763132400-1763137800@hkcentre.onesky.org
SUMMARY:親子美術班
DESCRIPTION:
URL:https://hkcentre.onesky.org/event/%e8%a6%aa%e5%ad%90%e7%be%8e%e8%a1%93%e7%8f%ad-4/
END:VEVENT
BEGIN:VEVENT
DTSTART;TZID=UTC:20251115T100000
DTEND;TZID=UTC:20251115T113000
DTSTAMP:20260425T021217
CREATED:20251030T070857Z
LAST-MODIFIED:20251030T070857Z
UID:11546-1763200800-1763206200@hkcentre.onesky.org
SUMMARY:3-5歲親子主題班
DESCRIPTION:11月 嘅主題係 繪本《小麻雀噹噹：今天的小意外》。與孩子參加從星期二至星期六舉辦的親子活動遊戲班，活動包括繪本閱讀、團隊遊戲、自由遊戲、唱遊、圖工等豐富多樣的內容。一片天老師將會與各位照顧者分享不同的育兒知識及技巧，讓您在輕鬆愉快的氛圍中學習和成長。每節活動的時間為1.5小時，內容充實而有趣，立即報名，與我們一起渡過愉快的時光！ \n 
URL:https://hkcentre.onesky.org/event/0-2%e6%ad%b2%e8%a6%aa%e5%ad%90%e4%b8%bb%e9%a1%8c%e7%8f%ad-2025-nov-3-5-4-3-6/
END:VEVENT
BEGIN:VEVENT
DTSTART;TZID=UTC:20251115T100000
DTEND;TZID=UTC:20251115T233000
DTSTAMP:20260425T021217
CREATED:20251030T065357Z
LAST-MODIFIED:20251030T065357Z
UID:11468-1763200800-1763249400@hkcentre.onesky.org
SUMMARY:0-2歲親子主題班
DESCRIPTION:11月 嘅主題係 繪本《小麻雀噹噹：今天的小意外》。與孩子參加從星期二至星期六舉辦的親子活動遊戲班，活動包括繪本閱讀、團隊遊戲、自由遊戲、唱遊、圖工等豐富多樣的內容。一片天老師將會與各位照顧者分享不同的育兒知識及技巧，讓您在輕鬆愉快的氛圍中學習和成長。每節活動的時間為1.5小時，內容充實而有趣，立即報名，與我們一起渡過愉快的時光！ \n 
URL:https://hkcentre.onesky.org/event/0-2%e6%ad%b2%e8%a6%aa%e5%ad%90%e4%b8%bb%e9%a1%8c%e7%8f%ad-2025-nov-14/
END:VEVENT
BEGIN:VEVENT
DTSTART;TZID=UTC:20251115T130000
DTEND;TZID=UTC:20251115T143000
DTSTAMP:20260425T021217
CREATED:20251030T065743Z
LAST-MODIFIED:20251030T065743Z
UID:11495-1763211600-1763217000@hkcentre.onesky.org
SUMMARY:0-2歲親子主題班
DESCRIPTION:11月 嘅主題係 繪本《小麻雀噹噹：今天的小意外》。與孩子參加從星期二至星期六舉辦的親子活動遊戲班，活動包括繪本閱讀、團隊遊戲、自由遊戲、唱遊、圖工等豐富多樣的內容。一片天老師將會與各位照顧者分享不同的育兒知識及技巧，讓您在輕鬆愉快的氛圍中學習和成長。每節活動的時間為1.5小時，內容充實而有趣，立即報名，與我們一起渡過愉快的時光！ \n 
URL:https://hkcentre.onesky.org/event/0-2%e6%ad%b2%e8%a6%aa%e5%ad%90%e4%b8%bb%e9%a1%8c%e7%8f%ad-2025-nov-17-4-2-2/
END:VEVENT
BEGIN:VEVENT
DTSTART;TZID=UTC:20251115T150000
DTEND;TZID=UTC:20251115T163000
DTSTAMP:20260425T021217
CREATED:20251030T070048Z
LAST-MODIFIED:20251030T070048Z
UID:11507-1763218800-1763224200@hkcentre.onesky.org
SUMMARY:0-2歲親子主題班
DESCRIPTION:11月 嘅主題係 繪本《小麻雀噹噹：今天的小意外》。與孩子參加從星期二至星期六舉辦的親子活動遊戲班，活動包括繪本閱讀、團隊遊戲、自由遊戲、唱遊、圖工等豐富多樣的內容。一片天老師將會與各位照顧者分享不同的育兒知識及技巧，讓您在輕鬆愉快的氛圍中學習和成長。每節活動的時間為1.5小時，內容充實而有趣，立即報名，與我們一起渡過愉快的時光！ \n 
URL:https://hkcentre.onesky.org/event/0-2%e6%ad%b2%e8%a6%aa%e5%ad%90%e4%b8%bb%e9%a1%8c%e7%8f%ad-2025-nov-17-4-2-4-2-2/
END:VEVENT
BEGIN:VEVENT
DTSTART;TZID=UTC:20251115T150000
DTEND;TZID=UTC:20251115T163000
DTSTAMP:20260425T021217
CREATED:20251030T070634Z
LAST-MODIFIED:20251030T070634Z
UID:11536-1763218800-1763224200@hkcentre.onesky.org
SUMMARY:3-5歲親子主題班
DESCRIPTION:11月 嘅主題係 繪本《小麻雀噹噹：今天的小意外》。與孩子參加從星期二至星期六舉辦的親子活動遊戲班，活動包括繪本閱讀、團隊遊戲、自由遊戲、唱遊、圖工等豐富多樣的內容。一片天老師將會與各位照顧者分享不同的育兒知識及技巧，讓您在輕鬆愉快的氛圍中學習和成長。每節活動的時間為1.5小時，內容充實而有趣，立即報名，與我們一起渡過愉快的時光！ \n 
URL:https://hkcentre.onesky.org/event/0-2%e6%ad%b2%e8%a6%aa%e5%ad%90%e4%b8%bb%e9%a1%8c%e7%8f%ad-2025-nov-3-5-4-3-2/
END:VEVENT
BEGIN:VEVENT
DTSTART;TZID=UTC:20251117T143000
DTEND;TZID=UTC:20251117T160000
DTSTAMP:20260425T021217
CREATED:20251027T060113Z
LAST-MODIFIED:20251027T060113Z
UID:11396-1763389800-1763395200@hkcentre.onesky.org
SUMMARY:親子美術活動之盲盒系列
DESCRIPTION:
URL:https://hkcentre.onesky.org/event/%e8%a6%aa%e5%ad%90%e7%be%8e%e8%a1%93%e6%b4%bb%e5%8b%95%e4%b9%8b%e7%9b%b2%e7%9b%92%e7%b3%bb%e5%88%97-4-3/
END:VEVENT
BEGIN:VEVENT
DTSTART;TZID=UTC:20251118T100000
DTEND;TZID=UTC:20251118T233000
DTSTAMP:20260425T021217
CREATED:20251030T064853Z
LAST-MODIFIED:20251030T064853Z
UID:11435-1763460000-1763508600@hkcentre.onesky.org
SUMMARY:0-2歲親子主題班
DESCRIPTION:11月 嘅主題係 繪本《小麻雀噹噹：今天的小意外》。與孩子參加從星期二至星期六舉辦的親子活動遊戲班，活動包括繪本閱讀、團隊遊戲、自由遊戲、唱遊、圖工等豐富多樣的內容。一片天老師將會與各位照顧者分享不同的育兒知識及技巧，讓您在輕鬆愉快的氛圍中學習和成長。每節活動的時間為1.5小時，內容充實而有趣，立即報名，與我們一起渡過愉快的時光！ \n 
URL:https://hkcentre.onesky.org/event/0-2%e6%ad%b2%e8%a6%aa%e5%ad%90%e4%b8%bb%e9%a1%8c%e7%8f%ad-2025-nov-3/
END:VEVENT
BEGIN:VEVENT
DTSTART;TZID=UTC:20251118T143000
DTEND;TZID=UTC:20251118T160000
DTSTAMP:20260425T021217
CREATED:20251027T060248Z
LAST-MODIFIED:20251027T060248Z
UID:11403-1763476200-1763481600@hkcentre.onesky.org
SUMMARY:看繪本學手語：《Frog is a hero》
DESCRIPTION:
URL:https://hkcentre.onesky.org/event/%e7%9c%8b%e7%b9%aa%e6%9c%ac%e5%ad%b8%e6%89%8b%e8%aa%9e%ef%bc%9a%e3%80%8afrog-is-a-hero%e3%80%8b/
END:VEVENT
BEGIN:VEVENT
DTSTART;TZID=UTC:20251118T170000
DTEND;TZID=UTC:20251118T183000
DTSTAMP:20260425T021217
CREATED:20251030T070308Z
LAST-MODIFIED:20251030T070308Z
UID:11520-1763485200-1763490600@hkcentre.onesky.org
SUMMARY:3-5歲親子主題班
DESCRIPTION:11月 嘅主題係 繪本《小麻雀噹噹：今天的小意外》。與孩子參加從星期二至星期六舉辦的親子活動遊戲班，活動包括繪本閱讀、團隊遊戲、自由遊戲、唱遊、圖工等豐富多樣的內容。一片天老師將會與各位照顧者分享不同的育兒知識及技巧，讓您在輕鬆愉快的氛圍中學習和成長。每節活動的時間為1.5小時，內容充實而有趣，立即報名，與我們一起渡過愉快的時光！ \n 
URL:https://hkcentre.onesky.org/event/0-2%e6%ad%b2%e8%a6%aa%e5%ad%90%e4%b8%bb%e9%a1%8c%e7%8f%ad-2025-nov-3-5-3/
END:VEVENT
BEGIN:VEVENT
DTSTART;TZID=UTC:20251119T100000
DTEND;TZID=UTC:20251119T233000
DTSTAMP:20260425T021217
CREATED:20251030T065128Z
LAST-MODIFIED:20251030T065128Z
UID:11445-1763546400-1763595000@hkcentre.onesky.org
SUMMARY:0-2歲親子主題班
DESCRIPTION:11月 嘅主題係 繪本《小麻雀噹噹：今天的小意外》。與孩子參加從星期二至星期六舉辦的親子活動遊戲班，活動包括繪本閱讀、團隊遊戲、自由遊戲、唱遊、圖工等豐富多樣的內容。一片天老師將會與各位照顧者分享不同的育兒知識及技巧，讓您在輕鬆愉快的氛圍中學習和成長。每節活動的時間為1.5小時，內容充實而有趣，立即報名，與我們一起渡過愉快的時光！ \n 
URL:https://hkcentre.onesky.org/event/0-2%e6%ad%b2%e8%a6%aa%e5%ad%90%e4%b8%bb%e9%a1%8c%e7%8f%ad-2025-nov-7/
END:VEVENT
BEGIN:VEVENT
DTSTART;TZID=UTC:20251120T100000
DTEND;TZID=UTC:20251120T233000
DTSTAMP:20260425T021217
CREATED:20251030T065250Z
LAST-MODIFIED:20251030T065250Z
UID:11457-1763632800-1763681400@hkcentre.onesky.org
SUMMARY:0-2歲親子主題班
DESCRIPTION:11月 嘅主題係 繪本《小麻雀噹噹：今天的小意外》。與孩子參加從星期二至星期六舉辦的親子活動遊戲班，活動包括繪本閱讀、團隊遊戲、自由遊戲、唱遊、圖工等豐富多樣的內容。一片天老師將會與各位照顧者分享不同的育兒知識及技巧，讓您在輕鬆愉快的氛圍中學習和成長。每節活動的時間為1.5小時，內容充實而有趣，立即報名，與我們一起渡過愉快的時光！ \n 
URL:https://hkcentre.onesky.org/event/0-2%e6%ad%b2%e8%a6%aa%e5%ad%90%e4%b8%bb%e9%a1%8c%e7%8f%ad-2025-nov-11/
END:VEVENT
END:VCALENDAR