BEGIN:VCALENDAR
VERSION:2.0
PRODID:-//OneSky Hong Kong Centre - ECPv6.15.5//NONSGML v1.0//EN
CALSCALE:GREGORIAN
METHOD:PUBLISH
X-ORIGINAL-URL:https://hkcentre.onesky.org
X-WR-CALDESC:OneSky Hong Kong Centre的活动
REFRESH-INTERVAL;VALUE=DURATION:PT1H
X-Robots-Tag:noindex
X-PUBLISHED-TTL:PT1H
BEGIN:VTIMEZONE
TZID:UTC
BEGIN:STANDARD
TZOFFSETFROM:+0000
TZOFFSETTO:+0000
TZNAME:UTC
DTSTART:20250101T000000
END:STANDARD
END:VTIMEZONE
BEGIN:VEVENT
DTSTART;TZID=UTC:20251129T100000
DTEND;TZID=UTC:20251129T233000
DTSTAMP:20260425T021218
CREATED:20251030T065416Z
LAST-MODIFIED:20251030T065416Z
UID:11470-1764410400-1764459000@hkcentre.onesky.org
SUMMARY:0-2歲親子主題班
DESCRIPTION:11月 嘅主題係 繪本《小麻雀噹噹：今天的小意外》。與孩子參加從星期二至星期六舉辦的親子活動遊戲班，活動包括繪本閱讀、團隊遊戲、自由遊戲、唱遊、圖工等豐富多樣的內容。一片天老師將會與各位照顧者分享不同的育兒知識及技巧，讓您在輕鬆愉快的氛圍中學習和成長。每節活動的時間為1.5小時，內容充實而有趣，立即報名，與我們一起渡過愉快的時光！ \n 
URL:https://hkcentre.onesky.org/event/0-2%e6%ad%b2%e8%a6%aa%e5%ad%90%e4%b8%bb%e9%a1%8c%e7%8f%ad-2025-nov-16/
END:VEVENT
BEGIN:VEVENT
DTSTART;TZID=UTC:20251129T100000
DTEND;TZID=UTC:20251129T233000
DTSTAMP:20260425T021218
CREATED:20251030T070934Z
LAST-MODIFIED:20251030T070934Z
UID:11548-1764410400-1764459000@hkcentre.onesky.org
SUMMARY:3-5歲親子主題班
DESCRIPTION:11月 嘅主題係 繪本《小麻雀噹噹：今天的小意外》。與孩子參加從星期二至星期六舉辦的親子活動遊戲班，活動包括繪本閱讀、團隊遊戲、自由遊戲、唱遊、圖工等豐富多樣的內容。一片天老師將會與各位照顧者分享不同的育兒知識及技巧，讓您在輕鬆愉快的氛圍中學習和成長。每節活動的時間為1.5小時，內容充實而有趣，立即報名，與我們一起渡過愉快的時光！ \n 
URL:https://hkcentre.onesky.org/event/0-2%e6%ad%b2%e8%a6%aa%e5%ad%90%e4%b8%bb%e9%a1%8c%e7%8f%ad-2025-nov-3-5-4-3-8/
END:VEVENT
BEGIN:VEVENT
DTSTART;TZID=UTC:20251129T130000
DTEND;TZID=UTC:20251129T143000
DTSTAMP:20260425T021218
CREATED:20251030T065803Z
LAST-MODIFIED:20251030T065803Z
UID:11497-1764421200-1764426600@hkcentre.onesky.org
SUMMARY:0-2歲親子主題班
DESCRIPTION:11月 嘅主題係 繪本《小麻雀噹噹：今天的小意外》。與孩子參加從星期二至星期六舉辦的親子活動遊戲班，活動包括繪本閱讀、團隊遊戲、自由遊戲、唱遊、圖工等豐富多樣的內容。一片天老師將會與各位照顧者分享不同的育兒知識及技巧，讓您在輕鬆愉快的氛圍中學習和成長。每節活動的時間為1.5小時，內容充實而有趣，立即報名，與我們一起渡過愉快的時光！ \n 
URL:https://hkcentre.onesky.org/event/0-2%e6%ad%b2%e8%a6%aa%e5%ad%90%e4%b8%bb%e9%a1%8c%e7%8f%ad-2025-nov-17-4-2-4/
END:VEVENT
BEGIN:VEVENT
DTSTART;TZID=UTC:20251129T150000
DTEND;TZID=UTC:20251129T163000
DTSTAMP:20260425T021218
CREATED:20251030T070106Z
LAST-MODIFIED:20251030T070106Z
UID:11509-1764428400-1764433800@hkcentre.onesky.org
SUMMARY:0-2歲親子主題班
DESCRIPTION:11月 嘅主題係 繪本《小麻雀噹噹：今天的小意外》。與孩子參加從星期二至星期六舉辦的親子活動遊戲班，活動包括繪本閱讀、團隊遊戲、自由遊戲、唱遊、圖工等豐富多樣的內容。一片天老師將會與各位照顧者分享不同的育兒知識及技巧，讓您在輕鬆愉快的氛圍中學習和成長。每節活動的時間為1.5小時，內容充實而有趣，立即報名，與我們一起渡過愉快的時光！ \n 
URL:https://hkcentre.onesky.org/event/0-2%e6%ad%b2%e8%a6%aa%e5%ad%90%e4%b8%bb%e9%a1%8c%e7%8f%ad-2025-nov-17-4-2-4-2-4/
END:VEVENT
BEGIN:VEVENT
DTSTART;TZID=UTC:20251129T150000
DTEND;TZID=UTC:20251129T163000
DTSTAMP:20260425T021218
CREATED:20251030T070702Z
LAST-MODIFIED:20251030T070702Z
UID:11538-1764428400-1764433800@hkcentre.onesky.org
SUMMARY:3-5歲親子主題班
DESCRIPTION:11月 嘅主題係 繪本《小麻雀噹噹：今天的小意外》。與孩子參加從星期二至星期六舉辦的親子活動遊戲班，活動包括繪本閱讀、團隊遊戲、自由遊戲、唱遊、圖工等豐富多樣的內容。一片天老師將會與各位照顧者分享不同的育兒知識及技巧，讓您在輕鬆愉快的氛圍中學習和成長。每節活動的時間為1.5小時，內容充實而有趣，立即報名，與我們一起渡過愉快的時光！ \n 
URL:https://hkcentre.onesky.org/event/0-2%e6%ad%b2%e8%a6%aa%e5%ad%90%e4%b8%bb%e9%a1%8c%e7%8f%ad-2025-nov-3-5-4-3-4/
END:VEVENT
BEGIN:VEVENT
DTSTART;TZID=UTC:20251207T091500
DTEND;TZID=UTC:20251207T173000
DTSTAMP:20260425T021218
CREATED:20251027T055748Z
LAST-MODIFIED:20251027T055748Z
UID:11388-1765098900-1765128600@hkcentre.onesky.org
SUMMARY:一片天畢業旅行
DESCRIPTION:
URL:https://hkcentre.onesky.org/event/%e4%b8%80%e7%89%87%e5%a4%a9%e7%95%a2%e6%a5%ad%e6%97%85%e8%a1%8c/
END:VEVENT
END:VCALENDAR