BEGIN:VCALENDAR
VERSION:2.0
PRODID:-//OneSky Hong Kong Centre - ECPv6.15.5//NONSGML v1.0//EN
CALSCALE:GREGORIAN
METHOD:PUBLISH
X-ORIGINAL-URL:https://hkcentre.onesky.org
X-WR-CALDESC:OneSky Hong Kong Centre的活动
REFRESH-INTERVAL;VALUE=DURATION:PT1H
X-Robots-Tag:noindex
X-PUBLISHED-TTL:PT1H
BEGIN:VTIMEZONE
TZID:UTC
BEGIN:STANDARD
TZOFFSETFROM:+0000
TZOFFSETTO:+0000
TZNAME:UTC
DTSTART:20250101T000000
END:STANDARD
END:VTIMEZONE
BEGIN:VEVENT
DTSTART;TZID=UTC:20251207T091500
DTEND;TZID=UTC:20251207T173000
DTSTAMP:20260425T021212
CREATED:20251027T055748Z
LAST-MODIFIED:20251027T055748Z
UID:11388-1765098900-1765128600@hkcentre.onesky.org
SUMMARY:一片天畢業旅行
DESCRIPTION:
URL:https://hkcentre.onesky.org/event/%e4%b8%80%e7%89%87%e5%a4%a9%e7%95%a2%e6%a5%ad%e6%97%85%e8%a1%8c/
END:VEVENT
END:VCALENDAR